BEGIN:VCALENDAR
VERSION:2.0
PRODID:-//Invest in Angus - ECPv6.15.17.1//NONSGML v1.0//EN
CALSCALE:GREGORIAN
METHOD:PUBLISH
X-WR-CALNAME:Invest in Angus
X-ORIGINAL-URL:https://investinangus.com
X-WR-CALDESC:Events for Invest in Angus
REFRESH-INTERVAL;VALUE=DURATION:PT1H
X-Robots-Tag:noindex
X-PUBLISHED-TTL:PT1H
BEGIN:VTIMEZONE
TZID:UTC
BEGIN:STANDARD
TZOFFSETFROM:+0000
TZOFFSETTO:+0000
TZNAME:UTC
DTSTART:20210101T000000
END:STANDARD
END:VTIMEZONE
BEGIN:VEVENT
DTSTART;TZID=UTC:20220111T100000
DTEND;TZID=UTC:20220111T113000
DTSTAMP:20260423T002335
CREATED:20211206T162451Z
LAST-MODIFIED:20211206T162451Z
UID:10083657-1641895200-1641900600@investinangus.com
SUMMARY:Enhance your business with digital
DESCRIPTION:Discover the opportunities using digital could bring your business as well as what you need to consider if your business isn’t online yet. This free webinar will give you the chance to up-skill your digital knowledge and explore some of the common fears and barriers associated with moving your business online\, using social media channels and much more. \nWe will cover: \n\nThe opportunities and benefits that doing more digitally could offer your business\nWebsites and ecommerce\nContent marketing and key digital channels\, including social media\, search and email\nOpportunities with cloud computing\nRemote working tools\nThe importance of cyber resilience
URL:https://investinangus.com/event/enhance-your-business-with-digital-11/
CATEGORIES:Digital Marketing
END:VEVENT
BEGIN:VEVENT
DTSTART;TZID=UTC:20220111T140000
DTEND;TZID=UTC:20220111T160000
DTSTAMP:20260423T002335
CREATED:20211220T160624Z
LAST-MODIFIED:20211220T160624Z
UID:10083792-1641909600-1641916800@investinangus.com
SUMMARY:Bookkeeping and finance: The essentials for business
DESCRIPTION:This webinar is for those who are entering business for the first time or require an understanding of what is involved in financially managing a business\, including developing basic bookkeeping\, and creating a profit and loss account. You will also get an understanding of what expenses the business can claim and then how to fund both start up and growth. At the end of the session\, you will receive a workbook on excel to help you manage and monitor costs and sales. \nAfter this webinar\, you will be able to: \n\nImplement basic bookkeeping skills across your business\nCreate a profit and loss account\nUnderstand what expenses can and cannot be claimed\nUse financial management to increase revenues and profits\nUnderstand how you can fund your business
URL:https://investinangus.com/event/bookkeeping-and-finance-the-essentials-for-business-16/
CATEGORIES:Finance
END:VEVENT
BEGIN:VEVENT
DTSTART;TZID=UTC:20220111T180000
DTEND;TZID=UTC:20220111T200000
DTSTAMP:20260423T002335
CREATED:20211206T162531Z
LAST-MODIFIED:20211206T162531Z
UID:10083659-1641924000-1641931200@investinangus.com
SUMMARY:Facebook for business
DESCRIPTION:In this webinar you will: \n– Learn how to get the most out of the most popular social media platform in the world and how it could fit into your digital marketing strategy. \n– Better understand the algorithm behind Facebook\, and how to create great content that achieves a bigger reach and impact. \n– Learn from the stats and data you can get from the system and discover who your most interested customers/clients are. \n– Understand the power of Facebook advertising\, and other selling options available to you.
URL:https://investinangus.com/event/facebook-for-business-13/
CATEGORIES:Digital Marketing
END:VEVENT
END:VCALENDAR