BEGIN:VCALENDAR
VERSION:2.0
PRODID:-//Invest in Angus - ECPv6.15.17.1//NONSGML v1.0//EN
CALSCALE:GREGORIAN
METHOD:PUBLISH
X-WR-CALNAME:Invest in Angus
X-ORIGINAL-URL:https://investinangus.com
X-WR-CALDESC:Events for Invest in Angus
REFRESH-INTERVAL;VALUE=DURATION:PT1H
X-Robots-Tag:noindex
X-PUBLISHED-TTL:PT1H
BEGIN:VTIMEZONE
TZID:UTC
BEGIN:STANDARD
TZOFFSETFROM:+0000
TZOFFSETTO:+0000
TZNAME:UTC
DTSTART:20210101T000000
END:STANDARD
END:VTIMEZONE
BEGIN:VEVENT
DTSTART;TZID=UTC:20220113T100000
DTEND;TZID=UTC:20220113T120000
DTSTAMP:20260422T010500
CREATED:20211206T162808Z
LAST-MODIFIED:20211206T162808Z
UID:10083661-1642068000-1642075200@investinangus.com
SUMMARY:Photography for online business
DESCRIPTION:During this webinar you will: \n\nDiscover the basic ‘dos and don’ts’ of taking your own pictures\, editing them and uploading them onto digital platforms.\nSee some real-life examples of posts that demonstrate good\, bad and indifferent use for businesses.
URL:https://investinangus.com/event/photography-for-online-business-8/
CATEGORIES:Digital Marketing
END:VEVENT
BEGIN:VEVENT
DTSTART;TZID=UTC:20220113T140000
DTEND;TZID=UTC:20220113T160000
DTSTAMP:20260422T010500
CREATED:20211206T162849Z
LAST-MODIFIED:20211206T162849Z
UID:10083663-1642082400-1642089600@investinangus.com
SUMMARY:Pinterest for business
DESCRIPTION:Thinking about using Pinterest to showcase your business? Move from being a beginner to knowing enough to gain commercial benefit from the use of Pinterest. \nWe will cover which type of audience you can reach via this platform and the factors and analytics such as cost and timing of posting content and how that can maximise impact.
URL:https://investinangus.com/event/pinterest-for-business-11/
CATEGORIES:Digital Marketing
END:VEVENT
BEGIN:VEVENT
DTSTART;TZID=UTC:20220113T180000
DTEND;TZID=UTC:20220113T200000
DTSTAMP:20260422T010500
CREATED:20211122T132652Z
LAST-MODIFIED:20211122T132652Z
UID:10083593-1642096800-1642104000@investinangus.com
SUMMARY:Start-Up: Business Planning
DESCRIPTION:Taking time to plan your business and seek advice before you start trading is time well spent. \nThis webinar will help you create a robust business plan. \nThe webinar will look at: \n\ncreating a description for your business\nthe business planning process\nefficient ways of obtaining skills and resources\n\n\npresenting your business plan\n\nThere will also be information on additional services from Business Gateway and details of other webinars which may be appropriate for you. This webinar is aimed at businesses based in Dundee\, Angus and Perth.
URL:https://investinangus.com/event/start-up-business-planning/
CATEGORIES:Business Planning,Business Start-up
END:VEVENT
BEGIN:VEVENT
DTSTART;TZID=UTC:20220113T180000
DTEND;TZID=UTC:20220113T200000
DTSTAMP:20260422T010500
CREATED:20220110T110516Z
LAST-MODIFIED:20220110T110516Z
UID:10083873-1642096800-1642104000@investinangus.com
SUMMARY:How to Write a Business Plan and why you need one
DESCRIPTION:This webinar will help you create a robust business plan. \nThe webinar will look at: \n\ncreating a description for your business\nthe business planning process\nefficient ways of obtaining skills and resources\npresenting your business plan
URL:https://investinangus.com/event/how-to-write-a-business-plan-and-why-you-need-one/
CATEGORIES:Business Planning
END:VEVENT
END:VCALENDAR