BEGIN:VCALENDAR
VERSION:2.0
PRODID:-//Invest in Angus - ECPv6.15.17.1//NONSGML v1.0//EN
CALSCALE:GREGORIAN
METHOD:PUBLISH
X-ORIGINAL-URL:https://investinangus.com
X-WR-CALDESC:Events for Invest in Angus
REFRESH-INTERVAL;VALUE=DURATION:PT1H
X-Robots-Tag:noindex
X-PUBLISHED-TTL:PT1H
BEGIN:VTIMEZONE
TZID:UTC
BEGIN:STANDARD
TZOFFSETFROM:+0000
TZOFFSETTO:+0000
TZNAME:UTC
DTSTART:20210101T000000
END:STANDARD
END:VTIMEZONE
BEGIN:VEVENT
DTSTART;TZID=UTC:20220115T080000
DTEND;TZID=UTC:20220123T170000
DTSTAMP:20260423T002515
CREATED:20211108T113048Z
LAST-MODIFIED:20211108T113048Z
UID:10083447-1642233600-1642957200@investinangus.com
SUMMARY:International Business Mission to Dubai Expo
DESCRIPTION:The Scottish Chamber of Commerce international network is pleased to invite applications from Scottish businesses to a trade mission to Dubai Expo focusing on clean energy and climate change. \nRunning from October 1\, 2021 to March 31\, 2022\, Expo 2020 Dubai is the first World Expo ever hosted in the Middle East\, Africa and South Asia region. \nIt will welcome more than 25million visitors and 190 countries with a stated aim of hosting a World Expo that inspires people by showcasing the best examples of collaboration\, innovation and cooperation from around the world. \nKey Sector Opportunities: \nHaving turned its world-leading engineering skills to green energy\, Scottish businesses can benefit from the strong sustainability theme that runs through the whole event. Some of the world’s most advanced technology is on show\, which makes it the ideal stage for Scottish technical innovation. \nWith Scotland hosting COP26 in November 2021\, we know there are a range of stories to be told which will be enlightening and surprising for a general public hungry for solutions to the climate change emergency. \nScotland is home to the world’s first floating offshore windfarm and one of Europe’s largest hydrogen bus fleets and a new power plant at Peterhead is the world’s first gas-fired power station equipped with carbon capture storage (CCS) technology to capture up to 1.5 million tonnes of CO2 every year; 15% of the UK’s target by 2030. \nThe UK Pavilion will be hosting Scotland’s Race to Net Zero Day on January 19 and the World Future Energy Summit is being held in Abu Dhabi from January 17-19\, making it the ideal time for businesses shifting from fossil fuels to take part in the delegation. \nBusinesses that would benefit from participating include renewable energy\, low carbon heat\, low carbon transport\, offshore wind\, blue and green hydrogen and oil & gas transition. \nA week of activities is being organised for the delegation\, along with some free time for delegates to attend Dubai Expo and the World Future Energy Summit. \nApplications: \nThis trade mission is open to any business in Scotland looking to access international markets and companies do not need to be a Chamber member. \nCost: \n£600 + VAT per person
URL:https://investinangus.com/event/international-business-mission-to-dubai-expo/
CATEGORIES:International Trade
END:VEVENT
BEGIN:VEVENT
DTSTART;TZID=UTC:20220120T090000
DTEND;TZID=UTC:20220120T110000
DTSTAMP:20260423T002515
CREATED:20211220T161017Z
LAST-MODIFIED:20211220T161017Z
UID:10083796-1642669200-1642676400@investinangus.com
SUMMARY:Go green to grow your business
DESCRIPTION:This webinar will cover a variety of areas\, from “what have we learned from Covid?” through to “understanding your new greener customer”\, to “reducing your costs and upping your sales”\, highlighting where profit can be generated from developing your businesses green credentials. \nWe will look at: \n\nUnderstanding the problem\nWhat is sustainability and why it is important\nInnovation\nProfiting from being a green business\nTop tips for going green
URL:https://investinangus.com/event/go-green-to-grow-your-business-6/
CATEGORIES:Sustainable/Circular Economy
END:VEVENT
BEGIN:VEVENT
DTSTART;TZID=UTC:20220120T113000
DTEND;TZID=UTC:20220120T130000
DTSTAMP:20260423T002515
CREATED:20211206T163515Z
LAST-MODIFIED:20211206T163515Z
UID:10083675-1642678200-1642683600@investinangus.com
SUMMARY:Webinars\, live streams\, and video conferences: Running a business remotely
DESCRIPTION:There are many tools available to allow you to communicate with people online. Whether you are trying to run a workshop or seminar\, hold a meeting or just communicate. Many of these digital tools are easy to use and offer some powerful facilities. Let us guide you through: \n\nWhat webinars\, live streams and video conferences are and what is right for your business\nCase studies and examples of how they are used\nAn overview of the tools and platforms currently available
URL:https://investinangus.com/event/webinars-live-streams-and-video-conferences-running-a-business-remotely-12/
CATEGORIES:Business Planning,Technology
END:VEVENT
BEGIN:VEVENT
DTSTART;TZID=UTC:20220120T140000
DTEND;TZID=UTC:20220120T160000
DTSTAMP:20260423T002515
CREATED:20211220T161056Z
LAST-MODIFIED:20211220T161056Z
UID:10083798-1642687200-1642694400@investinangus.com
SUMMARY:Writing a business plan – Why it's essential for ALL businesses
DESCRIPTION:Just starting up or looking to update your business plan to get funding or take forward developments? Then this session is for you. \nWe will walk you through what should be included within a business plan\, how a business plan is used to improve your prospects for a loan or a grant and how you can develop a business plan to meet your needs. \nWe will cover: \n\nThe business plan structure\nWhat should be included within each section\nWhen and how to use a business plan\nThe connections (and importance) between the words and the numbers\nHow to identify and manage cashflow within the business planning process
URL:https://investinangus.com/event/writing-a-business-plan-why-its-essential-for-all-businesses-16/
CATEGORIES:Business Planning
END:VEVENT
BEGIN:VEVENT
DTSTART;TZID=UTC:20220120T180000
DTEND;TZID=UTC:20220120T200000
DTSTAMP:20260423T002515
CREATED:20211122T132832Z
LAST-MODIFIED:20211122T132832Z
UID:10083597-1642701600-1642708800@investinangus.com
SUMMARY:Business Start-Up: Finance
DESCRIPTION:This webinar aims to give an introduction to the role of finance in business. \nThe workshop will look at: \n\nmanaging a profit and loss account\nproducing a cashflow statement\nworking capital\n\n\nthe different sources of finance\nthe different legal structures of a business\n\nThere will also be information on additional services from Business Gateway and details of other workshops which may be appropriate for you. \nThis webinar is aimed at businesses based in Dundee\, Angus and Perth.
URL:https://investinangus.com/event/business-start-up-finance-16/
CATEGORIES:Business Start-up,Finance
END:VEVENT
END:VCALENDAR