BEGIN:VCALENDAR
VERSION:2.0
PRODID:-//Invest in Angus - ECPv6.15.17.1//NONSGML v1.0//EN
CALSCALE:GREGORIAN
METHOD:PUBLISH
X-WR-CALNAME:Invest in Angus
X-ORIGINAL-URL:https://investinangus.com
X-WR-CALDESC:Events for Invest in Angus
REFRESH-INTERVAL;VALUE=DURATION:PT1H
X-Robots-Tag:noindex
X-PUBLISHED-TTL:PT1H
BEGIN:VTIMEZONE
TZID:UTC
BEGIN:STANDARD
TZOFFSETFROM:+0000
TZOFFSETTO:+0000
TZNAME:UTC
DTSTART:20210101T000000
END:STANDARD
END:VTIMEZONE
BEGIN:VEVENT
DTSTART;TZID=UTC:20220125T081500
DTEND;TZID=UTC:20220125T101500
DTSTAMP:20260423T002335
CREATED:20220105T155058Z
LAST-MODIFIED:20220105T155058Z
UID:10083834-1643098500-1643105700@investinangus.com
SUMMARY:Maximising The Opportunity in Challenging Times
DESCRIPTION:Dundee & Angus College have teamed up with the inspiring team at Shirlaws Group to bring you this interactive webinar to look at how we can maximise opportunities in challenging times. \nThe event\, aimed at Business Owners and Directors will be led by Fergus King. Investor\, business owner\, sought-after speaker and now one of the most experienced business coaches in the UK. \nOver the last 18 years Fergus has personally supported over 350 owner managed businesses and helped them to be as profitable\, valuable and enjoyable as possible. \nAddressing both commercial and cultural issues\, during the event Fergus will raise questions\, share perspectives\, and inspire participants to take additional actions to complement what they are already working on.
URL:https://investinangus.com/event/maximising-the-opportunity-in-challenging-times/
CATEGORIES:Business Planning
END:VEVENT
BEGIN:VEVENT
DTSTART;TZID=UTC:20220125T093000
DTEND;TZID=UTC:20220125T130000
DTSTAMP:20260423T002335
CREATED:20220105T160201Z
LAST-MODIFIED:20220105T160201Z
UID:10083852-1643103000-1643115600@investinangus.com
SUMMARY:Amazon-Selling International Masterclass -Part 1
DESCRIPTION:Around 60% of Amazon’s merchants are third-party sellers like you. Today\, anyone looking to start or grow a retail or ecommerce business should consider the Amazon marketplace. \nYou can take your first steps by registering for Part One of the ‘Selling on Amazon’ masterclass. \nOn this half-day course\, you’ll get advice on: \nOpening and maintaining your Amazon account \nManaging your performance \nChoosing which products to sell \nListing your items on Amazon \nKaren Riddick will be the presenter for both sessions of this two-part masterclass. Karen is an experienced seller on Amazon and other other marketplaces. This means she can provide a wealth of experience and practical tips that will help you sell successfully on Amazon. \nPart 2 will take place on March 1.
URL:https://investinangus.com/event/amazon-selling-international-masterclass-part-1/
CATEGORIES:Digital Marketing
END:VEVENT
BEGIN:VEVENT
DTSTART;TZID=UTC:20220125T100000
DTEND;TZID=UTC:20220125T120000
DTSTAMP:20260423T002335
CREATED:20211220T161137Z
LAST-MODIFIED:20211220T161137Z
UID:10083800-1643104800-1643112000@investinangus.com
SUMMARY:Intellectual property: The fundamentals for business
DESCRIPTION:You have invested time\, energy and money into your project\, however\, have you protected the innovation? \nFollowing this webinar\, you will understand how to manage your intellectual property (IP) or how to start the process of registering it. \nTopics covered include: \n\nWhat is IP?\nCan you own IP?\nHow can IP be protected?\nWhat is the difference between intellectual and physical assets?
URL:https://investinangus.com/event/intellectual-property-the-fundamentals-for-business-7/
CATEGORIES:Legislation
END:VEVENT
BEGIN:VEVENT
DTSTART;TZID=UTC:20220125T130000
DTEND;TZID=UTC:20220125T140000
DTSTAMP:20260423T002335
CREATED:20220105T155211Z
LAST-MODIFIED:20220105T155211Z
UID:10083836-1643115600-1643119200@investinangus.com
SUMMARY:Your route to an ethical digital business in Scotland
DESCRIPTION:Job insecurity and precarious working have proliferated with the rise of digital platforms like Uber and Deliveroo. Meanwhile\, the tech giants behind digital platforms dominate markets and make huge profits. \nBut there’s a fairer alternative: platform co-ops. Join Co-operatives UK’s Ludovica Rogers to discover how platform co-ops can empower those on the frontline of services – putting them in control of the business\, providing better working conditions and fairer pay. Ludovica will be joined by guest speakers from platform co-ops: \n– Signalise – a sign language interpreting service that uses a digital platform to connect its members: Deaf people\, BSL interpreters and service user organisations\n– Open Food Network UK – a co‑op of co‑ops whose members collectively own and control an innovative software platform they use to trade the food they produce \nPlatform co‑ops are democratically owned and controlled businesses that use an online platform or mobile app to trade\, connect people and pool resources or data. They are built on co‑operative principles and values that ensure the business: \n– Truly responds to the needs of its community\n– Embeds equity and social purpose from day one\n– Has a growth model that does not involve giving up control to external profit‑driven investors \nFormat\nAn online one-hour webinar on Zoom\nPresentations from several speakers with an opportunity to ask questions at the end \nWhat attendees will learn:\n– An overview of platform co-ops\n– What a platform co‑op is and isn’t\n– About setting up and running a platform co-op\, from platform pioneers\n– What support is available for those wishing to set up a co-op\, including The Hive business support programme\, the next UnFound Accelerator programme and the specialist support available from Co-operative Development Scotland \nWho should attend?\nAnyone in Scotland and beyond who is keen to learn more about platform co‑ops\, this includes: \n– Individuals and groups looking to set up a digital platform enterprise\n– Anyone wanting to learn more about co-ops: business advisors\, local authorities\, community leaders\, voluntary sector support agencies\, etc.
URL:https://investinangus.com/event/your-route-to-an-ethical-digital-business-in-scotland/
CATEGORIES:Business Planning
END:VEVENT
BEGIN:VEVENT
DTSTART;TZID=UTC:20220125T130000
DTEND;TZID=UTC:20220125T143000
DTSTAMP:20260423T002335
CREATED:20211122T133006Z
LAST-MODIFIED:20211122T133006Z
UID:10083601-1643115600-1643121000@investinangus.com
SUMMARY:Young Entrepreneur Starter Pack - Part 1: Ideas Generation & Researching your Idea
DESCRIPTION:Aged 16-25 and ready to start your entrepreneurial journey? This webinar series will show you how to break into business. \nThis specialist two stage webinar series will provide you with the inspiration\, tools\, and knowledge to start your own business. From developing initial ideas to structuring and funding your business\, you will feel confident\, motivated\, and ready to begin your start-up journey! \nDuring this webinar\, we will help you work through the creative process to come up with a concept you love and test out whether you have the foundations of a successful business. After this session\, you will have a clear understanding of how to undertake the creative process of generating\, developing\, and communicating new thoughts and ideas. You will also recognise the importance of conducting market research and how to use the Business Model Canvas which will support you to form the building blocks needed for business success. \nThis webinar is for businesses based in Dundee\, Angus or Perth.
URL:https://investinangus.com/event/young-entrepreneur-starter-pack-part-1-ideas-generation-researching-your-idea-9/
CATEGORIES:Business Start-up
END:VEVENT
BEGIN:VEVENT
DTSTART;TZID=UTC:20220125T140000
DTEND;TZID=UTC:20220125T150000
DTSTAMP:20260423T002335
CREATED:20220105T155534Z
LAST-MODIFIED:20220105T155534Z
UID:10083840-1643119200-1643122800@investinangus.com
SUMMARY:Alternative Visa Routes
DESCRIPTION:Options for Scottish employers recruiting international talent other than the skilled worker route. Join this webinar to find out which routes are lower cost\, more flexible or faster to obtain.
URL:https://investinangus.com/event/alternative-visa-routes/
CATEGORIES:Recruitment
END:VEVENT
BEGIN:VEVENT
DTSTART;TZID=UTC:20220125T140000
DTEND;TZID=UTC:20220125T160000
DTSTAMP:20260423T002335
CREATED:20211206T163800Z
LAST-MODIFIED:20211206T163800Z
UID:10083683-1643119200-1643126400@investinangus.com
SUMMARY:Producing engaging online content
DESCRIPTION:Producing quality content is an excellent way of helping your customers develop a meaningful relationship with your brand\, services and products.In this webinar we will show you how to source\, develop and measure content. It’s ideal for businesses that already have a business website or use social media and now want to take it a step further. \nBy the end of it you will have the skills to show your audience that you are a trusted operator in your field. \nThis session will help you: \n\nUnderstand what kind of content your customers are looking for\nHow to find\, write and package it\nHow to market it and measure its success.\nAmplify your brand and message\, and to boost sales and profits.
URL:https://investinangus.com/event/producing-engaging-online-content-10/
CATEGORIES:Digital Marketing
END:VEVENT
BEGIN:VEVENT
DTSTART;TZID=UTC:20220125T150000
DTEND;TZID=UTC:20220125T170000
DTSTAMP:20260423T002335
CREATED:20211122T133054Z
LAST-MODIFIED:20211122T133054Z
UID:10083603-1643122800-1643130000@investinangus.com
SUMMARY:Young Entrepreneur Starter Pack - Part 2: Structuring your Business and exploring Financials/Funding
DESCRIPTION:Aged 16-25 and ready to start your entrepreneurial journey? This webinar series will show you how to break into business. \nThis specialist two stage webinar series will provide you with the inspiration\, tools\, and knowledge to start your own business. From developing initial ideas to structuring and funding your business\, you will feel confident\, motivated\, and ready to begin your start-up journey! During this webinar\, we will run through everything you need to know when it comes to setting up your business including legal and tax requirements\, cash flow forecasting and funding options\, and everything else in-between. \nAfter this session\, you will come away with a to-do list and the information needed to help you prepare for kickstarting your ideas. You will have a sound knowledge of start-up costs\, fixed and variable costs\, cash flow forecasts\, a personal survival budget and funding options. \nThis webinar is for businesses based in Dundee\, Angus or Perth.
URL:https://investinangus.com/event/young-entrepreneur-starter-pack-part-2-structuring-your-business-and-exploring-financials-funding-9/
CATEGORIES:Business Start-up
END:VEVENT
BEGIN:VEVENT
DTSTART;TZID=UTC:20220125T180000
DTEND;TZID=UTC:20220125T200000
DTSTAMP:20260423T002335
CREATED:20211220T161318Z
LAST-MODIFIED:20211220T161318Z
UID:10083802-1643133600-1643140800@investinangus.com
SUMMARY:Starting a business: Everything you need to know
DESCRIPTION:Whatever your reasons may be for considering being your own boss\, Business Gateway is here to support you and this webinar will help you decide if this is the right path for you. We will explore your potential customers\, the problems your business can solve for them and how you can do that better than the competition. Once that is clear\, we will look at the key activities and costs involved in starting and running the business and tools for determining the commercial viability before considering the main options for business structures (sole trader\, partnership\, or limited company). \nWe will look at: \n\nPersonal finance planning – how much do you need to earn?\nResearching your market – to develop an understanding of your market\, who your customers are\, understanding your competition and what the trends are within your chosen field.\nBusiness structure – what are the main business structures? How to decide which is right for you and how to register as a business.\nCreating your start-up action plan – an outline.
URL:https://investinangus.com/event/starting-a-business-everything-you-need-to-know-18/
CATEGORIES:Business Start-up
END:VEVENT
END:VCALENDAR