BEGIN:VCALENDAR
VERSION:2.0
PRODID:-//Invest in Angus - ECPv6.15.17.1//NONSGML v1.0//EN
CALSCALE:GREGORIAN
METHOD:PUBLISH
X-ORIGINAL-URL:https://investinangus.com
X-WR-CALDESC:Events for Invest in Angus
REFRESH-INTERVAL;VALUE=DURATION:PT1H
X-Robots-Tag:noindex
X-PUBLISHED-TTL:PT1H
BEGIN:VTIMEZONE
TZID:UTC
BEGIN:STANDARD
TZOFFSETFROM:+0000
TZOFFSETTO:+0000
TZNAME:UTC
DTSTART:20210101T000000
END:STANDARD
END:VTIMEZONE
BEGIN:VEVENT
DTSTART;TZID=UTC:20220128T100000
DTEND;TZID=UTC:20220128T110000
DTSTAMP:20260423T003321
CREATED:20220105T155301Z
LAST-MODIFIED:20220105T155301Z
UID:10083838-1643364000-1643367600@investinangus.com
SUMMARY:Mindset in Business
DESCRIPTION:Dundee & Angus College have teamed up with the fantastic Enterprise Team at Royal Bank of Scotland to deliver this short and sharp session designed to give you the tools and techniques you need to use your mindset to positively impact your business. \nWhether you are starting\, growing or maintaining a business now more than ever it is essential we understand how to control our mindset to stay resilient.
URL:https://investinangus.com/event/mindset-in-business/
CATEGORIES:Business Planning
END:VEVENT
BEGIN:VEVENT
DTSTART;TZID=UTC:20220128T110000
DTEND;TZID=UTC:20220128T130000
DTSTAMP:20260423T003321
CREATED:20220117T163157Z
LAST-MODIFIED:20220117T163157Z
UID:10083915-1643367600-1643374800@investinangus.com
SUMMARY:Building your brand and promotional graphics
DESCRIPTION:This webinar will define what a brand is (and isn’t) and explain how it’s more than just creating a logo. We will explore how a business can use their brand to show its identity\, purpose\, personality\, message and values in order to stand out from competitors\, build a loyal customer base and make more sales. \nThis webinar will: \n\nProvide you with a clear understanding of the difference between brands and branding\nHelp you learn how to develop your brand’s positioning\, character\, and purpose to differentiate your business from its competitors\nDemonstrate how to set up a brand kit and style guide to ensure consistency across websites\, social media\, business cards\, posters etc.\nTeach you how to create simple promotional graphics using a variety of tools including Canva\nHighlight a variety of free tools including Google Drive\, Hubspot and Mailchimp that can save time and simplify marketing tasks
URL:https://investinangus.com/event/building-your-brand-and-promotional-graphics-10/
CATEGORIES:Digital Marketing,Marketing
END:VEVENT
END:VCALENDAR