BEGIN:VCALENDAR
VERSION:2.0
PRODID:-//Invest in Angus - ECPv6.15.17.1//NONSGML v1.0//EN
CALSCALE:GREGORIAN
METHOD:PUBLISH
X-WR-CALNAME:Invest in Angus
X-ORIGINAL-URL:https://investinangus.com
X-WR-CALDESC:Events for Invest in Angus
REFRESH-INTERVAL;VALUE=DURATION:PT1H
X-Robots-Tag:noindex
X-PUBLISHED-TTL:PT1H
BEGIN:VTIMEZONE
TZID:UTC
BEGIN:STANDARD
TZOFFSETFROM:+0000
TZOFFSETTO:+0000
TZNAME:UTC
DTSTART:20210101T000000
END:STANDARD
END:VTIMEZONE
BEGIN:VEVENT
DTSTART;TZID=UTC:20220131T100000
DTEND;TZID=UTC:20220131T120000
DTSTAMP:20260421T230615
CREATED:20211206T164523Z
LAST-MODIFIED:20211206T164523Z
UID:10083695-1643623200-1643630400@investinangus.com
SUMMARY:Instagram for business
DESCRIPTION:Thinking about using Instagram to communicate with existing and potential customers? Want to showcase your products or services using it? During this webinar we will cover: \n\nGetting the setup right and benefitting from the available business tools.\nBest practice profiles\, and some strategies to help your business stand out from the crowd.\nLearn which type of audience you can reach via this platform and the factors and analytics such as cost and timing of posting images and how that can maximise impact.\nThe various types of content you can post to Instagram\, from regular posts\, to Stories\, Reels\, and Live Video.
URL:https://investinangus.com/event/instagram-for-business-12/
CATEGORIES:Digital Marketing
END:VEVENT
BEGIN:VEVENT
DTSTART;TZID=UTC:20220131T140000
DTEND;TZID=UTC:20220131T160000
DTSTAMP:20260421T230615
CREATED:20211220T161520Z
LAST-MODIFIED:20211220T161520Z
UID:10083808-1643637600-1643644800@investinangus.com
SUMMARY:Bookkeeping and finance: The essentials for business
DESCRIPTION:This webinar is for those who are entering business for the first time or require an understanding of what is involved in financially managing a business\, including developing basic bookkeeping\, and creating a profit and loss account. You will also get an understanding of what expenses the business can claim and then how to fund both start up and growth. At the end of the session\, you will receive a workbook on excel to help you manage and monitor costs and sales. \nAfter this webinar\, you will be able to: \n\nImplement basic bookkeeping skills across your business\nCreate a profit and loss account\nUnderstand what expenses can and cannot be claimed\nUse financial management to increase revenues and profits\nUnderstand how you can fund your business
URL:https://investinangus.com/event/bookkeeping-and-finance-the-essentials-for-business-17/
CATEGORIES:Finance
END:VEVENT
END:VCALENDAR