BEGIN:VCALENDAR
VERSION:2.0
PRODID:-//Invest in Angus - ECPv6.15.17.1//NONSGML v1.0//EN
CALSCALE:GREGORIAN
METHOD:PUBLISH
X-WR-CALNAME:Invest in Angus
X-ORIGINAL-URL:https://investinangus.com
X-WR-CALDESC:Events for Invest in Angus
REFRESH-INTERVAL;VALUE=DURATION:PT1H
X-Robots-Tag:noindex
X-PUBLISHED-TTL:PT1H
BEGIN:VTIMEZONE
TZID:UTC
BEGIN:STANDARD
TZOFFSETFROM:+0000
TZOFFSETTO:+0000
TZNAME:UTC
DTSTART:20210101T000000
END:STANDARD
END:VTIMEZONE
BEGIN:VEVENT
DTSTART;TZID=UTC:20220202T093000
DTEND;TZID=UTC:20220202T123000
DTSTAMP:20260422T131002
CREATED:20220117T163715Z
LAST-MODIFIED:20220117T163715Z
UID:10083923-1643794200-1643805000@investinangus.com
SUMMARY:Get Real Results From Your Website
DESCRIPTION:Stephen Whitelaw has a proven track record of managing and growing businesses in the fast moving technology sector\, through strong financial and personnel management skills. This sound and prudent foundation is complemented by a drive and ability to think “out of the box\,” giving the businesses he works with a competitive advantage in planning for the future. \nBy the end of the webinar you will have the knowledge necessary to improve your site and increase visitor numbers. \nThis webinar will cover the following: \nexplain what makes a good website \ngetting your website found \ncompetitor research \ncustomer journey \nassist you in preparing a detailed plan for a new or revised website \nprepare you to work with suppliers to create an effective site
URL:https://investinangus.com/event/get-real-results-from-your-website/
CATEGORIES:Digital Marketing
END:VEVENT
BEGIN:VEVENT
DTSTART;TZID=UTC:20220202T100000
DTEND;TZID=UTC:20220202T110000
DTSTAMP:20260422T131002
CREATED:20220124T095152Z
LAST-MODIFIED:20220124T095152Z
UID:10083989-1643796000-1643799600@investinangus.com
SUMMARY:The 5 key strategies to profitable business growth
DESCRIPTION:With budgeting and business modelling as the focus\, this webinar\, delivered in conjunction with Advice4Business North East\, will cover: \n\nWays to reduce working hours in the business\nHow to tweak your business model to become more profitable\nTechniques for improving cash flow\n\nOur expert speaker\, Linda Lowther\, will introduce you to the 5 main drivers of business performance: Revenue\, Costs\, Receivables\, Payables and Stock (or WIP). These drivers help you develop a profitable business model and determine which Key Performance Indicators to use so that you can confidently budget and plan business growth.
URL:https://investinangus.com/event/the-5-key-strategies-to-profitable-business-growth/
CATEGORIES:Business Planning
END:VEVENT
BEGIN:VEVENT
DTSTART;TZID=UTC:20220202T100000
DTEND;TZID=UTC:20220202T120000
DTSTAMP:20260422T131002
CREATED:20211213T103634Z
LAST-MODIFIED:20211213T103634Z
UID:10083714-1643796000-1643803200@investinangus.com
SUMMARY:Twitter for business
DESCRIPTION:This webinar will help you develop and hone your social media strategy in order to amplify your message using Twitter. You will gain a deeper understanding of where Twitter fits into your overall plan\, how it relates to other platforms\, and the relative benefits of sponsored posts\, as well as how to create them. \nYou will also learn about: \n\nTwitter best practice content and what makes the perfect tweet.\nDashboards such as Hootsuite to help you manage and integrate your social media accounts and schedule content.\nAdvanced techniques for social listening and pro-actively finding content and customers.
URL:https://investinangus.com/event/twitter-for-business-8/
CATEGORIES:Digital Marketing
END:VEVENT
BEGIN:VEVENT
DTSTART;TZID=UTC:20220202T113000
DTEND;TZID=UTC:20220202T123000
DTSTAMP:20260422T131002
CREATED:20220114T134309Z
LAST-MODIFIED:20220114T134309Z
UID:10083903-1643801400-1643805000@investinangus.com
SUMMARY:How to Reduce Single-Use Plastic in your Hospitality Business
DESCRIPTION:Greener Guest and its sister organisation Travel Without Plastic\, have been working to reduce plastic waste in the hospitality industry since 2011. Workshop presenters Rachel McCaffery and Jo Hendrickx have a wealth of UK and international experience in sustainable hospitality and have worked with some of the best known UK and global brands\, like Thomas Cook\, Virgin Atlantic\, Red Carnation Hotels\, TUI\, WWF Netherlands and The Apple Leisure Group in The Caribbean. \nSo much single-use plastic is used as a matter of course in hospitality and catering that trying to stem the tide can feel overwhelming. Rachel and Jo’s practical approach will show you that reducing plastic doesn’t have to be a headache. It also shouldn’t need to cost the earth or impact on customer satisfaction. Based on collaboration with one of the world’s leading Health and Safety companies\, they’ll also focus on how you can reduce plastic \, while maintaining hygiene standards and keeping customers safe. \n\n\nIn this workshop\, we’ll share our 4-Step strategy to reducing single-use and share some of the innovative ways businesses are driving behaviour change to achieve plastic waste reductions and cost savings. \nConsumers and businesses want change but are often confused by the huge variety of alternatives on offer\, some of which aren’t as green as they seem. So we’ll help you to identify and avoid greenwash tactics\, and give you the information you need to be able to make more informed purchasing decisions for your business. \nWe’ll look at how to maintain health and safety standards while still reducing plastic and finally\, we’ll introduce you to some of our favourite leaders in the alternative products space that are not only helping hospitality businesses to reduce waste and costs\, but to achieve significant steps towards NetZero goals too! \nThe content of this workshop will help anyone working in the field of hospitality\, particularly in any of the sectors highlighted below. \n\nHoteliers\nAirlines\nRestaurants and Cafes\nAirbnb Owners\nBed & Breakfast Owners\nServiced Apartment Providers\nTourist Attractions\nEvent Organisers\nCampsite\, Caravan Park and Glampsite Managers\nConferences and events organisers\nTrain and coach companies
URL:https://investinangus.com/event/how-to-reduce-single-use-plastic-in-your-hospitality-business/
CATEGORIES:Sustainable/Circular Economy
END:VEVENT
BEGIN:VEVENT
DTSTART;TZID=UTC:20220202T140000
DTEND;TZID=UTC:20220202T160000
DTSTAMP:20260422T131002
CREATED:20211213T103715Z
LAST-MODIFIED:20211213T103715Z
UID:10083716-1643810400-1643817600@investinangus.com
SUMMARY:Pinterest for business
DESCRIPTION:Thinking about using Pinterest to showcase your business? Move from being a beginner to knowing enough to gain commercial benefit from the use of Pinterest. \nWe will cover which type of audience you can reach via this platform and the factors and analytics such as cost and timing of posting content and how that can maximise impact.
URL:https://investinangus.com/event/pinterest-for-business-12/
CATEGORIES:Digital Marketing
END:VEVENT
END:VCALENDAR