BEGIN:VCALENDAR
VERSION:2.0
PRODID:-//Invest in Angus - ECPv6.15.17.1//NONSGML v1.0//EN
CALSCALE:GREGORIAN
METHOD:PUBLISH
X-WR-CALNAME:Invest in Angus
X-ORIGINAL-URL:https://investinangus.com
X-WR-CALDESC:Events for Invest in Angus
REFRESH-INTERVAL;VALUE=DURATION:PT1H
X-Robots-Tag:noindex
X-PUBLISHED-TTL:PT1H
BEGIN:VTIMEZONE
TZID:UTC
BEGIN:STANDARD
TZOFFSETFROM:+0000
TZOFFSETTO:+0000
TZNAME:UTC
DTSTART:20210101T000000
END:STANDARD
END:VTIMEZONE
BEGIN:VEVENT
DTSTART;TZID=UTC:20220203T090000
DTEND;TZID=UTC:20220203T170000
DTSTAMP:20260422T224046
CREATED:20220131T111300Z
LAST-MODIFIED:20220131T111300Z
UID:10084020-1643878800-1643907600@investinangus.com
SUMMARY:Meet the Adviser - General Surgery
DESCRIPTION:Whether you are thinking about starting a business or you have already started one\, the Meet the Adviser General Surgery is an opportunity to meet with one of the Business Gateway Tayside team over Zoom to ask any business related questions you may have. \nWe have slots throughout the day and you will be matched up with an adviser that suits whichever stage of running a business you are at. \nThese surgeries are for businesses based in Dundee\, Angus and Perth.
URL:https://investinangus.com/event/meet-the-adviser-general-surgery/
CATEGORIES:Business Planning,Business Start-up
END:VEVENT
BEGIN:VEVENT
DTSTART;TZID=UTC:20220203T100000
DTEND;TZID=UTC:20220203T113000
DTSTAMP:20260422T224046
CREATED:20211213T103752Z
LAST-MODIFIED:20211213T103752Z
UID:10083718-1643882400-1643887800@investinangus.com
SUMMARY:How to build a digital marketing plan
DESCRIPTION:This webinar will guide you through the steps needed to create an effective digital marketing strategy to meet your business objectives and create more leads. \nWe will cover: \n\nSetting measurable goals\, establishing what your customers are looking for and competitor analysis.\nDeveloping your brand\nContent strategy\nPrioritising digital channels\nMarketing communications planning and evaluation
URL:https://investinangus.com/event/how-to-build-a-digital-marketing-plan-11/
CATEGORIES:Business Planning,Digital Marketing
END:VEVENT
BEGIN:VEVENT
DTSTART;TZID=UTC:20220203T140000
DTEND;TZID=UTC:20220203T160000
DTSTAMP:20260422T224046
CREATED:20220117T163803Z
LAST-MODIFIED:20220117T163803Z
UID:10083925-1643896800-1643904000@investinangus.com
SUMMARY:Taking a strategic approach to developing your business
DESCRIPTION:The webinar is practical\, and outcomes driven. \nContent will focus on a pragmatic approach to Strategic Planning designed to fit with the needs of small businesses in both B2C and B2B environments. \nTopics covered during the webinar will include: \n\nLooking at your business today – identifying your strengths and areas for development\nThe key pillars of a business and why balancing all areas is essential for success\nPersonal and business ambitions and using these to guide strategy development\nAnsoff’s Matrix as a tool for identifying core growth strategies\nThe core components of your business delivery\nHow to develop a methodical\, strategic approach to developing your business for future success\n\nYou will understand: \n\nHow to undertake a balanced review of where your business is that helps identify areas for development\nAnsoff’s Matrix and how to use it as a core strategic planning tool\nHow to create a strategic plan for growing your business
URL:https://investinangus.com/event/taking-a-strategic-approach-to-developing-your-business-4/
CATEGORIES:Business Planning
END:VEVENT
END:VCALENDAR