BEGIN:VCALENDAR
VERSION:2.0
PRODID:-//Invest in Angus - ECPv6.15.17.1//NONSGML v1.0//EN
CALSCALE:GREGORIAN
METHOD:PUBLISH
X-ORIGINAL-URL:https://investinangus.com
X-WR-CALDESC:Events for Invest in Angus
REFRESH-INTERVAL;VALUE=DURATION:PT1H
X-Robots-Tag:noindex
X-PUBLISHED-TTL:PT1H
BEGIN:VTIMEZONE
TZID:UTC
BEGIN:STANDARD
TZOFFSETFROM:+0000
TZOFFSETTO:+0000
TZNAME:UTC
DTSTART:20210101T000000
END:STANDARD
END:VTIMEZONE
BEGIN:VEVENT
DTSTART;TZID=UTC:20220209T093000
DTEND;TZID=UTC:20220209T113000
DTSTAMP:20260422T224057
CREATED:20220110T111328Z
LAST-MODIFIED:20220110T111328Z
UID:10083880-1644399000-1644406200@investinangus.com
SUMMARY:Psychological Safety in the Workplace
DESCRIPTION:Business Gateway\, in partnership with Skills Development Scotland\, is here to support you to develop your workforce. This webinar will be run by Laura Royale on behalf of SDS. \nIn this comprehensive workshop\, you will learn the importance of psychological safety for effectiveness and performance for individuals and the team. Learning the value of psychological safety enables higher levels of collaboration\, innovation\, and performance. \nFind out how to shape and foster psychological safety through engaging communication skills\, and great conversational coaching and feedback skills to enhance wellbeing and strengthen commitment and engagement. \nYou’ll come away knowing how to strengthen awareness and management of self and others by developing your emotional intelligence skills and identifying and solving problems before they occur. \nYour action plan will include: \nActionable steps to shape and foster psychological safety for your work teams. \nWhat you will need to put into practice following this session. \nWhat support you need and where you can find it.
URL:https://investinangus.com/event/psychological-safety-in-the-workplace/
CATEGORIES:HR
END:VEVENT
BEGIN:VEVENT
DTSTART;TZID=UTC:20220209T093000
DTEND;TZID=UTC:20220209T130000
DTSTAMP:20260422T224057
CREATED:20220105T160526Z
LAST-MODIFIED:20220105T160526Z
UID:10083856-1644399000-1644411600@investinangus.com
SUMMARY:International E-Commerce: Develop Your Digital Strategy Masterclass
DESCRIPTION:Strategy is critical to success in any project \, digital projects have a high failure rate so even more critical your business is focused. \nAbout this event\nInternational expansion can at first be a daunting prospect but is always helped by having a clear plan to follow. We will introduce you to the key components needed to create your own International Digital Strategy \nRoddy Maclean -Presenter\nRoddy has a track record of launching and scaling successful businesses online. He has managed several successful multi-million pound e-commerce businesses from start-up to maturity in markets including the UK\, France\, Italy\, the US and China and in his last corporate role spent 7 years as the Global Head of E-Commerce and Digital Marketing for a $120M\, US Internet Retailer Top 200 e-commerce business. \nIn recent years\, Roddy has established two successful new ventures\, Feral\, a digital marketing and e-commerce consultancy helping brands to produce authentic pillar marketing content and building high performance websites and an e-commerce retail business selling home décor products. This business is now a key player in the UK home interiors market.
URL:https://investinangus.com/event/international-e-commerce-develop-your-digital-strategy-masterclass/
CATEGORIES:Business Planning,Digital Marketing
END:VEVENT
BEGIN:VEVENT
DTSTART;TZID=UTC:20220209T140000
DTEND;TZID=UTC:20220209T160000
DTSTAMP:20260422T224057
CREATED:20220117T164045Z
LAST-MODIFIED:20220117T164045Z
UID:10083929-1644415200-1644422400@investinangus.com
SUMMARY:Starting a business: Everything you need to know
DESCRIPTION:Whatever your reasons may be for considering being your own boss\, Business Gateway is here to support you and this webinar will help you decide if this is the right path for you. We will explore your potential customers\, the problems your business can solve for them and how you can do that better than the competition. Once that is clear\, we will look at the key activities and costs involved in starting and running the business and tools for determining the commercial viability before considering the main options for business structures (sole trader\, partnership\, or limited company). \nWe will look at: \n\nPersonal finance planning – how much do you need to earn?\nResearching your market – to develop an understanding of your market\, who your customers are\, understanding your competition and what the trends are within your chosen field.\nBusiness structure – what are the main business structures? How to decide which is right for you and how to register as a business.\nCreating your start-up action plan – an outline.
URL:https://investinangus.com/event/starting-a-business-everything-you-need-to-know-20/
CATEGORIES:Business Start-up
END:VEVENT
END:VCALENDAR