BEGIN:VCALENDAR
VERSION:2.0
PRODID:-//Invest in Angus - ECPv6.15.17.1//NONSGML v1.0//EN
CALSCALE:GREGORIAN
METHOD:PUBLISH
X-ORIGINAL-URL:https://investinangus.com
X-WR-CALDESC:Events for Invest in Angus
REFRESH-INTERVAL;VALUE=DURATION:PT1H
X-Robots-Tag:noindex
X-PUBLISHED-TTL:PT1H
BEGIN:VTIMEZONE
TZID:UTC
BEGIN:STANDARD
TZOFFSETFROM:+0000
TZOFFSETTO:+0000
TZNAME:UTC
DTSTART:20210101T000000
END:STANDARD
END:VTIMEZONE
BEGIN:VEVENT
DTSTART;TZID=UTC:20220228T100000
DTEND;TZID=UTC:20220228T120000
DTSTAMP:20260422T203905
CREATED:20211213T112849Z
LAST-MODIFIED:20211213T112849Z
UID:10083764-1646042400-1646049600@investinangus.com
SUMMARY:Video production for social media
DESCRIPTION:Video captures people’s attention online and is important for getting your message across\, while engaging with your target audience. \nLearn how to: \n\nChoose what type of video to create to suit your business objectives\nPlan\, shoot\, edit\, and upload video without special kit or expertise.\nGet to know the various digital platforms that can be utilised to view and share video content.\nSee what editing apps are available and how to add music and subtitles.
URL:https://investinangus.com/event/video-production-for-social-media-16/
CATEGORIES:Digital Marketing
END:VEVENT
BEGIN:VEVENT
DTSTART;TZID=UTC:20220228T140000
DTEND;TZID=UTC:20220228T160000
DTSTAMP:20260422T203905
CREATED:20220117T171818Z
LAST-MODIFIED:20220117T171818Z
UID:10083962-1646056800-1646064000@investinangus.com
SUMMARY:Bookkeeping and finance: The essentials for business
DESCRIPTION:This webinar is for those who are entering business for the first time or require an understanding of what is involved in financially managing a business\, including developing basic bookkeeping\, and creating a profit and loss account. You will also get an understanding of what expenses the business can claim and then how to fund both start up and growth. At the end of the session\, you will receive a workbook on excel to help you manage and monitor costs and sales. \nAfter this webinar\, you will be able to: \n\nImplement basic bookkeeping skills across your business\nCreate a profit and loss account\nUnderstand what expenses can and cannot be claimed\nUse financial management to increase revenues and profits\nUnderstand how you can fund your business
URL:https://investinangus.com/event/bookkeeping-and-finance-the-essentials-for-business-19/
CATEGORIES:Finance
END:VEVENT
END:VCALENDAR