BEGIN:VCALENDAR
VERSION:2.0
PRODID:-//Invest in Angus - ECPv6.15.17.1//NONSGML v1.0//EN
CALSCALE:GREGORIAN
METHOD:PUBLISH
X-WR-CALNAME:Invest in Angus
X-ORIGINAL-URL:https://investinangus.com
X-WR-CALDESC:Events for Invest in Angus
REFRESH-INTERVAL;VALUE=DURATION:PT1H
X-Robots-Tag:noindex
X-PUBLISHED-TTL:PT1H
BEGIN:VTIMEZONE
TZID:UTC
BEGIN:STANDARD
TZOFFSETFROM:+0000
TZOFFSETTO:+0000
TZNAME:UTC
DTSTART:20210101T000000
END:STANDARD
END:VTIMEZONE
BEGIN:VEVENT
DTSTART;TZID=UTC:20220310T093000
DTEND;TZID=UTC:20220310T113000
DTSTAMP:20260422T203737
CREATED:20220221T095422Z
LAST-MODIFIED:20220221T095422Z
UID:10084174-1646904600-1646911800@investinangus.com
SUMMARY:Bookkeeping and finance: The essentials for business
DESCRIPTION:This webinar is for those who are entering business for the first time or require an understanding of what is involved in financially managing a business\, including developing basic bookkeeping\, and creating a profit and loss account. You will also get an understanding of what expenses the business can claim and then how to fund both start up and growth. At the end of the session\, you will receive a workbook on excel to help you manage and monitor costs and sales. \nAfter this webinar\, you will be able to: \n\nImplement basic bookkeeping skills across your business\nCreate a profit and loss account\nUnderstand what expenses can and cannot be claimed\nUse financial management to increase revenues and profits\nUnderstand how you can fund your business
URL:https://investinangus.com/event/bookkeeping-and-finance-the-essentials-for-business-20/
CATEGORIES:Finance
END:VEVENT
BEGIN:VEVENT
DTSTART;TZID=UTC:20220310T100000
DTEND;TZID=UTC:20220310T110000
DTSTAMP:20260422T203737
CREATED:20220228T103351Z
LAST-MODIFIED:20220228T103351Z
UID:10084235-1646906400-1646910000@investinangus.com
SUMMARY:Making Graduate Apprenticeships Work for Employers
DESCRIPTION:Are you an employer that wants to take on your first apprentice\, but are struggling with the process? Need quick\, tailored support specifically for Graduate Apprenticeships? Check this out. \nScottish Apprenticeships work by providing thousands of jobs and work-based learning opportunities across the country every year. Developed in partnership with employers\, apprenticeships work because they continue to respond to industry needs. As part of Scottish Apprenticeship Week 2022\, SDS have developed a series of webinars designed to help demonstrate the many ways that apprenticeships work for Scotland’s people\, business and economy. \nOn this “”Graduate Apprenticeships: How to take action”” webinar we will take a look at the necessary steps you need to take\, as an employer\, to successfully recruit your first Graduate Apprentice. Expect to learn about: where to find a suitable framework and the learning providers who deliver; finding a suitable candidate that aligns to your business need/values; setting a project that works for you and your employee; how to mentor and support the learner on their journey and much more.
URL:https://investinangus.com/event/making-graduate-apprenticeships-work-for-employers/
CATEGORIES:HR,Recruitment
END:VEVENT
BEGIN:VEVENT
DTSTART;TZID=UTC:20220310T100000
DTEND;TZID=UTC:20220310T110000
DTSTAMP:20260422T203737
CREATED:20220307T105141Z
LAST-MODIFIED:20220307T105141Z
UID:10084251-1646906400-1646910000@investinangus.com
SUMMARY:Understanding the changes to right to work checks for EEA and Swiss nationals
DESCRIPTION:New Home Office guidance on right to work checks came into effect from the 1 July 2021 for those employed on or after that date.
URL:https://investinangus.com/event/understanding-the-changes-to-right-to-work-checks-for-eea-and-swiss-nationals/
CATEGORIES:HR,Recruitment
END:VEVENT
BEGIN:VEVENT
DTSTART;TZID=UTC:20220310T140000
DTEND;TZID=UTC:20220310T150000
DTSTAMP:20260422T203737
CREATED:20220228T103437Z
LAST-MODIFIED:20220228T103437Z
UID:10084237-1646920800-1646924400@investinangus.com
SUMMARY:Making Apprenticeships Work in a Changing Labour Market
DESCRIPTION:Scottish Apprenticeships work by providing thousands of jobs and work-based learning opportunities across the country every year. Developed in partnership with employers\, apprenticeships work because they continue to respond to industry needs. As part of Scottish Apprenticeship Week 2022\, SDS have developed a series of webinars designed to help demonstrate the many ways that apprenticeships work for Scotland’s people\, business and economy. \nOn this Labour Market Information webinar we will have an opportunity to hear from the Skills Development Scotland Evidence and Impact team on the latest Scottish L.M.I. trends and analysis. \nWho are the evidence and Impact Team and what key LMI outputs are they looking at?\nAn Overview of Scotland’s economy\, what are the impacts of Covid\, rising livings costs and inflation to business?\nAn overview of Scotland’s labour market\, employment/unemployment\, what are the affects of economic inactivity and what are the top employing occupations?\nA look at Green Jobs and an opportunity to ask the team questions on what the trends are telling us.
URL:https://investinangus.com/event/making-apprenticeships-work-in-a-changing-labour-market/
CATEGORIES:HR,Recruitment
END:VEVENT
BEGIN:VEVENT
DTSTART;TZID=UTC:20220310T140000
DTEND;TZID=UTC:20220310T160000
DTSTAMP:20260422T203737
CREATED:20220221T095506Z
LAST-MODIFIED:20220221T095506Z
UID:10084176-1646920800-1646928000@investinangus.com
SUMMARY:Generating ideas for your business
DESCRIPTION:Many people would like to start their own business but don’t have a business idea to focus on. This session will help you: \n1. Clarify your motivation behind starting your own business \n2. Appreciate your skills and experiences \n3. Use a range of techniques for generating new business ideas \n4. Gain an appreciation of how to evaluate these ideas \n5. Prepare to get started!
URL:https://investinangus.com/event/generating-ideas-for-your-business-5/
CATEGORIES:Business Start-up
END:VEVENT
END:VCALENDAR