BEGIN:VCALENDAR
VERSION:2.0
PRODID:-//Invest in Angus - ECPv6.15.17.1//NONSGML v1.0//EN
CALSCALE:GREGORIAN
METHOD:PUBLISH
X-ORIGINAL-URL:https://investinangus.com
X-WR-CALDESC:Events for Invest in Angus
REFRESH-INTERVAL;VALUE=DURATION:PT1H
X-Robots-Tag:noindex
X-PUBLISHED-TTL:PT1H
BEGIN:VTIMEZONE
TZID:UTC
BEGIN:STANDARD
TZOFFSETFROM:+0000
TZOFFSETTO:+0000
TZNAME:UTC
DTSTART:20210101T000000
END:STANDARD
END:VTIMEZONE
BEGIN:VEVENT
DTSTART;TZID=UTC:20220321T060000
DTEND;TZID=UTC:20220324T230000
DTSTAMP:20260422T203902
CREATED:20220307T105845Z
LAST-MODIFIED:20220307T105845Z
UID:10084259-1647842400-1648162800@investinangus.com
SUMMARY:ExploreGB Virtual 2022
DESCRIPTION:Take part in VisitBritain’s flagship leisure trade event which will virtually host over 350 key international hand-picked buyers. \nTaking place on 21 – 24 March\, all attendees will have access to three full and flexible days of self-selected virtual appointments on 22 – 24 March\, a wealth of digital and downloadable resources and the opportunity to create bespoke exhibitors’ resource booths. \nIt also features a dedicated day (on 21 March) for you to meet one-to-one and access support from our in-market representatives\, PR and Business Support teams.
URL:https://investinangus.com/event/exploregb-virtual-2022/
CATEGORIES:Networking,Tourism
END:VEVENT
BEGIN:VEVENT
DTSTART;TZID=UTC:20220324T080000
DTEND;TZID=UTC:20220324T100000
DTSTAMP:20260422T203902
CREATED:20220221T102549Z
LAST-MODIFIED:20220221T102549Z
UID:10084218-1648108800-1648116000@investinangus.com
SUMMARY:Preparing for Net Zero
DESCRIPTION:The Scottish Government has made a commitment to net-zero emissions of all greenhouse gases by 2045. But\, did you know that the single greatest cause of the climate crisis is the carbon emissions created by everything we produce\, consume and too often bin after just one use. \nHow is your business preparing for 2045? Support is key to helping business reach these goals but do you know what support is out there? How can you learn from other businesses who are supporting a sustainable region? \nJoin ourselves and the team from Dundee City Council\, Zero Waste Scotland and Circular Tayside in the run up to WWF’s Earth Hour 2022. We’ll hear more about the support available to businesses across city and the opportunities to collaborate with others as we embark on this journey together. We’ll also be joined by businesses who are leading the way with innovative\, sustainable and exciting ways to help you on your way to Net Zero. \nOver a networking breakfast attendees will enjoy a sustainable vegan breakfast provided by Serendipities\, a social enterprise in the form of a cosy\, quirky café\, dedicated to creating and inspiring social change. They serve delicious homemade vegan sweet and savoury foods as well as responsibly sourced hot drinks\, all the while reducing and reusing as much as we can to lessen our negative impact on the environment. \nDuring the event we’ll hear more about Dundee’s Net Zero commitment from Councillor John Alexander. \nCllr Alexander has been an elected representative in Dundee since 2012\, holding senior positions in the governing administration including Convener of Housing and Convener of Neighbourhood Services. \nAs the political leader\, John and his team set the strategic direction\, agenda\, and policy development of Dundee City Council. This includes a leading role and oversight of Dundee’s £1 billion Waterfront Regeneration\, the creation of the Michelin-Scotland Innovation Parc and the £350 million Tay Cities Deal. \nPartners \nDundee City Council – Sustainable Dundee \nSustainable Dundee is a partnership between public\, private and community organisation’s\, collaborating on activities  projects and strategies that build on the City’s Climate Action Plan. Led by Dundee City Council\, Sustainable Dundee develops innovative solutions and public engagement that support a just transition to a net-zero\, climate resilient future. \nZero Waste Scotland \nZero Waste Scotland exists to lead Scotland to use products and resources responsibly\, focusing on where we can have the greatest impact on climate change. \nUsing evidence and insight\, our goal is to inform policy\, and motivate individuals and businesses to embrace the environmental\, economic\, and social benefits of a circular economy. \nWe are a not-for-profit environmental organisation\, funded by the Scottish Government and European Regional Development Fund. \nCircular Tayside \nCircular Tayside is a collaboration between Zero Waste Scotland\, Perthshire Chamber of Commerce and Dundee and Angus Chamber of Commerce that aims to help local businesses and organisations transition towards circular economy.
URL:https://investinangus.com/event/preparing-for-net-zero/
CATEGORIES:Sustainable/Circular Economy
END:VEVENT
BEGIN:VEVENT
DTSTART;TZID=UTC:20220324T100000
DTEND;TZID=UTC:20220324T120000
DTSTAMP:20260422T203902
CREATED:20220216T113912Z
LAST-MODIFIED:20220216T113912Z
UID:10084144-1648116000-1648123200@investinangus.com
SUMMARY:Instagram for business
DESCRIPTION:Thinking about using Instagram to communicate with existing and potential customers? Want to showcase your products or services using it? During this webinar we will cover: \n\nGetting the setup right and benefitting from the available business tools.\nBest practice profiles\, and some strategies to help your business stand out from the crowd.\nLearn which type of audience you can reach via this platform and the factors and analytics such as cost and timing of posting images and how that can maximise impact.\nThe various types of content you can post to Instagram\, from regular posts\, to Stories\, Reels\, and Live Video.
URL:https://investinangus.com/event/instagram-for-business-14/
CATEGORIES:Digital Marketing
END:VEVENT
BEGIN:VEVENT
DTSTART;TZID=UTC:20220324T130000
DTEND;TZID=UTC:20220324T140000
DTSTAMP:20260422T203902
CREATED:20220316T165530Z
LAST-MODIFIED:20220316T165530Z
UID:10084288-1648126800-1648130400@investinangus.com
SUMMARY:Plan for the ban
DESCRIPTION:To engage with as many people\, businesses and organisations as possible\, Zero Waste Scotland is hosting a live webinar on behalf of the Scottish Government. The webinar will be open to all and live across our social media channels and website. \nThis is your chance to speak to our team of experts on how to prepare for the upcoming restrictions on single-use plastics\, understand how it will affect your business and ask any questions you may have ahead of the new laws coming into force.
URL:https://investinangus.com/event/plan-for-the-ban/
CATEGORIES:Sustainable/Circular Economy
END:VEVENT
BEGIN:VEVENT
DTSTART;TZID=UTC:20220324T140000
DTEND;TZID=UTC:20220324T160000
DTSTAMP:20260422T203902
CREATED:20220221T100413Z
LAST-MODIFIED:20220221T100413Z
UID:10084198-1648130400-1648137600@investinangus.com
SUMMARY:Starting a business: Everything you need to know
DESCRIPTION:Whatever your reasons may be for considering being your own boss\, Business Gateway is here to support you and this webinar will help you decide if this is the right path for you. We will explore your potential customers\, the problems your business can solve for them and how you can do that better than the competition. Once that is clear\, we will look at the key activities and costs involved in starting and running the business and tools for determining the commercial viability before considering the main options for business structures (sole trader\, partnership\, or limited company). \nWe will look at: \n\nPersonal finance planning – how much do you need to earn?\nResearching your market – to develop an understanding of your market\, who your customers are\, understanding your competition and what the trends are within your chosen field.\nBusiness structure – what are the main business structures? How to decide which is right for you and how to register as a business.\nCreating your start-up action plan – an outline.
URL:https://investinangus.com/event/starting-a-business-everything-you-need-to-know-23/
CATEGORIES:Business Start-up
END:VEVENT
BEGIN:VEVENT
DTSTART;TZID=UTC:20220324T173000
DTEND;TZID=UTC:20220324T193000
DTSTAMP:20260422T203902
CREATED:20220221T100452Z
LAST-MODIFIED:20220221T100452Z
UID:10084200-1648143000-1648150200@investinangus.com
SUMMARY:Generating ideas for your business
DESCRIPTION:Many people would like to start their own business but don’t have a business idea to focus on. This session will help you: \n1. Clarify your motivation behind starting your own business \n2. Appreciate your skills and experiences \n3. Use a range of techniques for generating new business ideas \n4. Gain an appreciation of how to evaluate these ideas \n5. Prepare to get started!
URL:https://investinangus.com/event/generating-ideas-for-your-business-6/
CATEGORIES:Business Start-up
END:VEVENT
BEGIN:VEVENT
DTSTART;TZID=UTC:20220324T183000
DTEND;TZID=UTC:20220324T200000
DTSTAMP:20260422T203902
CREATED:20220321T093414Z
LAST-MODIFIED:20220321T093414Z
UID:10084296-1648146600-1648152000@investinangus.com
SUMMARY:The Stress-Free Guide to Smashing your Business Goals
DESCRIPTION:Here at Business Gateway Tayside\, we understand that\, as well as bringing a huge sense of personal satisfaction\, achievement and freedom\, being a small business owner means having to juggle a busy work schedule that can often lead to stress and a feeling of being overwhelmed. \nOur Business Owner’s Guide to Smashing Goals and Staying Sane event brings together a panel of experts with a wealth of knowledge on how to effectively organise day-to-day tasks leading to more efficient processes and a happier business owner. \nOur speakers will discuss tried and true methods that will help you to streamline your general practices\, build a better social media management system and give you a vital understanding of how to cope with work-related stresses. Our speakers for the evening will include Continuous Improvement Practitioner Gillian Reid from Scottish Enterprise and Digital Marketing expert Amanda Inglis from Due North. \nThe topics for the evening are: \n\nHow to effectively manage your day-to-day tasks and plan ahead for milestones and goals\nManage social media without becoming overwhelmed\nStaying sane whilst juggling a busy workload
URL:https://investinangus.com/event/the-stress-free-guide-to-smashing-your-business-goals/
CATEGORIES:Business Planning
END:VEVENT
END:VCALENDAR