BEGIN:VCALENDAR
VERSION:2.0
PRODID:-//Invest in Angus - ECPv6.15.17.1//NONSGML v1.0//EN
CALSCALE:GREGORIAN
METHOD:PUBLISH
X-ORIGINAL-URL:https://investinangus.com
X-WR-CALDESC:Events for Invest in Angus
REFRESH-INTERVAL;VALUE=DURATION:PT1H
X-Robots-Tag:noindex
X-PUBLISHED-TTL:PT1H
BEGIN:VTIMEZONE
TZID:UTC
BEGIN:STANDARD
TZOFFSETFROM:+0000
TZOFFSETTO:+0000
TZNAME:UTC
DTSTART:20210101T000000
END:STANDARD
END:VTIMEZONE
BEGIN:VEVENT
DTSTART;TZID=UTC:20220330T090000
DTEND;TZID=UTC:20220330T170000
DTSTAMP:20260422T185641
CREATED:20220131T112028Z
LAST-MODIFIED:20220131T112028Z
UID:10084042-1648630800-1648659600@investinangus.com
SUMMARY:Meet The Advisor - General Surgery
DESCRIPTION:Whether you are thinking about starting a business or you have already started one\, the Meet the Adviser General Surgery is an opportunity to meet with one of the Business Gateway Tayside team over Zoom to ask any business related questions you may have. \nWe have slots throughout the day and you will be matched up with an adviser that suits whichever stage of running a business you are at.
URL:https://investinangus.com/event/meet-the-advisor-general-surgery/
CATEGORIES:Business Planning,Business Start-up
END:VEVENT
BEGIN:VEVENT
DTSTART;TZID=UTC:20220330T110000
DTEND;TZID=UTC:20220330T120000
DTSTAMP:20260422T185641
CREATED:20220323T165035Z
LAST-MODIFIED:20220323T165035Z
UID:10084374-1648638000-1648641600@investinangus.com
SUMMARY:What to do if running your business feels hard
DESCRIPTION:Running a business that is out of alignment with your true self is like driving a car with one wheel pointing the wrong way.  It slows you down\, wastes energy\, ruins your equipment and creates unnecessary stress for you and anyone connected to you. People deal with this problem in one of three ways: \n\nTurn up the radio and ignore it\nPut their foot down harder\, hoping force and persistence will solve things\nAre humble enough to realise they’re on the wrong course and bravely commit to a path of self-discovery and a more impactful way of living\n\nIn this context the correct option seems so obvious. Why then\, do so many business owners choose options one or two when it comes to dealing with misalignment in their businesses? \nIn this webinar we will explore: \n\nWhat causes us to feel tired\, burnt out or frustrated in our businesses\nWhat to do if/when you find yourself in this situation\nLong term changes you can make to make your business feel more effortless
URL:https://investinangus.com/event/what-to-do-if-running-your-business-feels-hard/
CATEGORIES:Business Planning
END:VEVENT
BEGIN:VEVENT
DTSTART;TZID=UTC:20220330T113000
DTEND;TZID=UTC:20220330T130000
DTSTAMP:20260422T185641
CREATED:20220221T100850Z
LAST-MODIFIED:20220221T100850Z
UID:10084210-1648639800-1648645200@investinangus.com
SUMMARY:Email marketing for business
DESCRIPTION:By the end of this webinar\, you will be able to understand how to: \n\nTarget the right audiences\nCreate a quality marketing email and how to measure its effectiveness.\nLearn how to identify the most suitable platforms and tools for email marketing campaigns\, including different paid-for account levels.\nIdentify the different components of a successful email campaign\, including design\, HTML v text and other formats.\nReporting and measuring is vitally important\, we will recommend what reporting to track to make sure your campaigns are successful\nLegal requirements that you need to follow will also be covered.
URL:https://investinangus.com/event/email-marketing-for-business-13/
CATEGORIES:Digital Marketing
END:VEVENT
END:VCALENDAR