BEGIN:VCALENDAR
VERSION:2.0
PRODID:-//Invest in Angus - ECPv6.15.17.1//NONSGML v1.0//EN
CALSCALE:GREGORIAN
METHOD:PUBLISH
X-ORIGINAL-URL:https://investinangus.com
X-WR-CALDESC:Events for Invest in Angus
REFRESH-INTERVAL;VALUE=DURATION:PT1H
X-Robots-Tag:noindex
X-PUBLISHED-TTL:PT1H
BEGIN:VTIMEZONE
TZID:UTC
BEGIN:STANDARD
TZOFFSETFROM:+0000
TZOFFSETTO:+0000
TZNAME:UTC
DTSTART:20210101T000000
END:STANDARD
END:VTIMEZONE
BEGIN:VEVENT
DTSTART;TZID=UTC:20220405T123000
DTEND;TZID=UTC:20220407T193000
DTSTAMP:20260422T203908
CREATED:20220307T105940Z
LAST-MODIFIED:20220307T105940Z
UID:10084261-1649161800-1649359800@investinangus.com
SUMMARY:Discover Scotland: Reconnect 2022
DESCRIPTION:Building on the success of Scotland Reconnect 2020 and 2021\, Discover Scotland: Reconnect 2022\, to be held on 5 – 7 April 2022\, is a three-day virtual event providing an ideal platform to explore new business opportunities and to connect and engage with travel trade buyers representing key overseas markets for Scotland\, through a combination of pre-scheduled and ad-hoc appointments. \nDiscover Scotland: Reconnect 2022 will also support VisitScotland’s commitment to make the country a leading destination for responsible tourism by showcasing new and existing sustainable tourism products. \nIn addition to the virtual event\, we will be running a series of showcases in May and September 2022\, to be known as Discover Scotland: Live Showcase. These will provide live networking for attendees of our virtual event and product familiarisation for buyers with a strong focus on responsible tourism development. More to follow on this in early 2022. \nRegistration for the virtual event is now open. There is no registration fee to attend Discover Scotland: Reconnect 2022\, though participants will require to demonstrate that they are trade-ready. \nThe event will take place: \nTuesday 5 April: 12.30pm – 9.30pm \nWednesday 6 April 8am – 7.30pm \nThursday 7 April 8am – 7.30pm
URL:https://investinangus.com/event/discover-scotland-reconnect-2022/
CATEGORIES:Networking,Tourism
END:VEVENT
BEGIN:VEVENT
DTSTART;TZID=UTC:20220407T100000
DTEND;TZID=UTC:20220407T120000
DTSTAMP:20260422T203908
CREATED:20220321T093655Z
LAST-MODIFIED:20220321T093655Z
UID:10084304-1649325600-1649332800@investinangus.com
SUMMARY:Bookkeeping and finance: The essentials for business
DESCRIPTION:This webinar is for those who are entering business for the first time or require an understanding of what is involved in financially managing a business\, including developing basic bookkeeping\, and creating a profit and loss account. You will also get an understanding of what expenses the business can claim and then how to fund both start up and growth. At the end of the session\, you will receive a workbook on excel to help you manage and monitor costs and sales. \nAfter this webinar\, you will be able to: \n\nImplement basic bookkeeping skills across your business\nCreate a profit and loss account\nUnderstand what expenses can and cannot be claimed\nUse financial management to increase revenues and profits\nUnderstand how you can fund your business
URL:https://investinangus.com/event/bookkeeping-and-finance-the-essentials-for-business-22/
CATEGORIES:Finance
END:VEVENT
BEGIN:VEVENT
DTSTART;TZID=UTC:20220407T110000
DTEND;TZID=UTC:20220407T120000
DTSTAMP:20260422T203908
CREATED:20220323T171910Z
LAST-MODIFIED:20220323T171910Z
UID:10084380-1649329200-1649332800@investinangus.com
SUMMARY:What is ESG and How to tackle your ESG strategy
DESCRIPTION:Are you looking for more information on ESG (Environmental\, Social and Governance)? Join FSB and our host of experts who will help you to demystify this well-known acronym. This informative session will explore why it is important for businesses to have an ESG strategy. \n\nGovernments across the UK have set the key target of achieving net zero by 2050 (or 2045 in Scotland). Developing an ESG strategy can help your business\, no matter its size\, transition to net zero while becoming more resilient and attracting eco-conscious consumers. \nThis webinar will explain what ESG is\, why it is important to think about it as a small business\, and how it can help your business make a difference in society. Businesses will find out how to overcome the challenges of tacking an ESG strategy and which support is available. \nThis event is ideal for small businesses looking for more information on ESG or how to tackle their ESG strategy.
URL:https://investinangus.com/event/what-is-esg-and-how-to-tackle-your-esg-strategy/
CATEGORIES:Sustainable/Circular Economy
END:VEVENT
BEGIN:VEVENT
DTSTART;TZID=UTC:20220407T140000
DTEND;TZID=UTC:20220407T160000
DTSTAMP:20260422T203908
CREATED:20220321T093731Z
LAST-MODIFIED:20220321T093731Z
UID:10084306-1649340000-1649347200@investinangus.com
SUMMARY:Generating ideas for your business
DESCRIPTION:Many people would like to start their own business but don’t have a business idea to focus on. This session will help you: \n1. Clarify your motivation behind starting your own business \n2. Appreciate your skills and experiences \n3. Use a range of techniques for generating new business ideas \n4. Gain an appreciation of how to evaluate these ideas \n5. Prepare to get started!
URL:https://investinangus.com/event/generating-ideas-for-your-business-7/
CATEGORIES:Business Start-up
END:VEVENT
END:VCALENDAR