BEGIN:VCALENDAR
VERSION:2.0
PRODID:-//Invest in Angus - ECPv6.15.17.1//NONSGML v1.0//EN
CALSCALE:GREGORIAN
METHOD:PUBLISH
X-WR-CALNAME:Invest in Angus
X-ORIGINAL-URL:https://investinangus.com
X-WR-CALDESC:Events for Invest in Angus
REFRESH-INTERVAL;VALUE=DURATION:PT1H
X-Robots-Tag:noindex
X-PUBLISHED-TTL:PT1H
BEGIN:VTIMEZONE
TZID:UTC
BEGIN:STANDARD
TZOFFSETFROM:+0000
TZOFFSETTO:+0000
TZNAME:UTC
DTSTART:20210101T000000
END:STANDARD
END:VTIMEZONE
BEGIN:VEVENT
DTSTART;TZID=UTC:20220408T100000
DTEND;TZID=UTC:20220408T120000
DTSTAMP:20260422T203738
CREATED:20220321T093923Z
LAST-MODIFIED:20220321T093923Z
UID:10084308-1649412000-1649419200@investinangus.com
SUMMARY:Marketing your business on a budget
DESCRIPTION:When budgets are tight it can be difficult to find the funds for marketing. This webinar will help you use marketing to increase customer engagement. We will offer marketing tips and advice that you can then use across your business. Without bursting the bank! \nWe will look at: \n\nHow marketing extends way beyond what most businesses consider it to be and how that provides opportunities for businesses to make transformational change with little or no extra spend.\nIdentifying Marketing Priorities and using these to reshape your business.\nThe Marketing Mix as a tool for reviewing how your business plans and delivers its marketing activity.\nHow your marketing activity is delivered successfully and effectively in your business.\nA series of top tips including the importance of understanding your customers\, the core components of a brand\, the value of strong and consistent branding and the power of of a clear focus and creativity.\nThe many options available with traditional Advertising and Promotion as a way a company communicates what it does and what it can offer customers\, but also looking how this has changed in a world where marketing has moved online.
URL:https://investinangus.com/event/marketing-your-business-on-a-budget-24/
CATEGORIES:Digital Marketing,Marketing
END:VEVENT
BEGIN:VEVENT
DTSTART;TZID=UTC:20220408T140000
DTEND;TZID=UTC:20220408T153000
DTSTAMP:20260422T203738
CREATED:20220401T153816Z
LAST-MODIFIED:20220401T153816Z
UID:10084389-1649426400-1649431800@investinangus.com
SUMMARY:How to build a digital marketing plan
DESCRIPTION:This webinar will guide you through the steps needed to create an effective digital marketing strategy to meet your business objectives and create more leads. \nWe will cover: \n\nSetting measurable goals\, establishing what your customers are looking for and competitor analysis.\nDeveloping your brand\nContent strategy\nPrioritising digital channels\nMarketing communications planning and evaluation
URL:https://investinangus.com/event/how-to-build-a-digital-marketing-plan-13/
CATEGORIES:Digital Marketing
END:VEVENT
END:VCALENDAR