BEGIN:VCALENDAR
VERSION:2.0
PRODID:-//Invest in Angus - ECPv6.15.17.1//NONSGML v1.0//EN
CALSCALE:GREGORIAN
METHOD:PUBLISH
X-WR-CALNAME:Invest in Angus
X-ORIGINAL-URL:https://investinangus.com
X-WR-CALDESC:Events for Invest in Angus
REFRESH-INTERVAL;VALUE=DURATION:PT1H
X-Robots-Tag:noindex
X-PUBLISHED-TTL:PT1H
BEGIN:VTIMEZONE
TZID:UTC
BEGIN:STANDARD
TZOFFSETFROM:+0000
TZOFFSETTO:+0000
TZNAME:UTC
DTSTART:20210101T000000
END:STANDARD
END:VTIMEZONE
BEGIN:VEVENT
DTSTART;TZID=UTC:20220412T100000
DTEND;TZID=UTC:20220412T113000
DTSTAMP:20260422T185545
CREATED:20220401T153856Z
LAST-MODIFIED:20220401T153856Z
UID:10084391-1649757600-1649763000@investinangus.com
SUMMARY:Enhance your business with digital
DESCRIPTION:Discover the opportunities using digital could bring your business as well as what you need to consider if your business isn’t online yet. This free webinar will give you the chance to up-skill your digital knowledge and explore some of the common fears and barriers associated with moving your business online\, using social media channels and much more. \nWe will cover: \n\nThe opportunities and benefits that doing more digitally could offer your business\nWebsites and ecommerce\nContent marketing and key digital channels\, including social media\, search and email\nOpportunities with cloud computing\nRemote working tools\nThe importance of cyber resilience
URL:https://investinangus.com/event/enhance-your-business-with-digital-14/
CATEGORIES:Digital Marketing
END:VEVENT
BEGIN:VEVENT
DTSTART;TZID=UTC:20220412T140000
DTEND;TZID=UTC:20220412T160000
DTSTAMP:20260422T185545
CREATED:20220321T094006Z
LAST-MODIFIED:20220321T094006Z
UID:10084310-1649772000-1649779200@investinangus.com
SUMMARY:Customer service: Creating the right response\, approach and reputation for your business
DESCRIPTION:Did you know that a returning customer will typically spend more than two thirds more with your business than a brand new one? \nDid you know that by retaining just 5% of your customer base can give an increase of over 20% in profits for your business? \nHaving an effective strategy in place for your business to deliver great customer service is critical for your business. From deciding on an initial customer service strategy to how to use customer feedback to help grow your business\, this webinar covers the key things you need to consider when thinking about how your business interacts with its customers. Some of the topics covered in this webinar include: \n\nWhy good customer service is critical for business growth\nWhat are the essentials of delivering great customer service and how should this be delivered?\nHow to effectively manage different types of customers and their expectations\nHow\, why\, and when should you measure the service a business delivers\nHow to use the service provided to promote a business and enable growth
URL:https://investinangus.com/event/customer-service-creating-the-right-response-approach-and-reputation-for-your-business-14/
CATEGORIES:Business Planning
END:VEVENT
END:VCALENDAR