BEGIN:VCALENDAR
VERSION:2.0
PRODID:-//Invest in Angus - ECPv6.15.17.1//NONSGML v1.0//EN
CALSCALE:GREGORIAN
METHOD:PUBLISH
X-ORIGINAL-URL:https://investinangus.com
X-WR-CALDESC:Events for Invest in Angus
REFRESH-INTERVAL;VALUE=DURATION:PT1H
X-Robots-Tag:noindex
X-PUBLISHED-TTL:PT1H
BEGIN:VTIMEZONE
TZID:UTC
BEGIN:STANDARD
TZOFFSETFROM:+0000
TZOFFSETTO:+0000
TZNAME:UTC
DTSTART:20210101T000000
END:STANDARD
END:VTIMEZONE
BEGIN:VEVENT
DTSTART;TZID=UTC:20220414T100000
DTEND;TZID=UTC:20220414T113000
DTSTAMP:20260422T185635
CREATED:20220401T153933Z
LAST-MODIFIED:20220401T153933Z
UID:10084393-1649930400-1649935800@investinangus.com
SUMMARY:Paid for advertising
DESCRIPTION:After this webinar you will be able to make more informed decisions about where paid-for advertising fits in to your strategy. We will explore the relative merits of all the different types of paid-for online options available to you\, as well as the mix of social media platforms you can choose from. \nWe will cover: \n\nStrategy\, ad content guidelines and ad sizes\nKeyword planning\, tracking and analysis to optimise your campaigns.\nYou will gain a clearer understanding of how to evaluate and analyse existing social media advertising campaigns\nPinpoint areas for improvement and be on top of legal guidelines.
URL:https://investinangus.com/event/paid-for-advertising-12/
CATEGORIES:Digital Marketing
END:VEVENT
BEGIN:VEVENT
DTSTART;TZID=UTC:20220414T140000
DTEND;TZID=UTC:20220414T160000
DTSTAMP:20260422T185635
CREATED:20220321T094131Z
LAST-MODIFIED:20220321T094131Z
UID:10084314-1649944800-1649952000@investinangus.com
SUMMARY:Taking a strategic approach to developing your business
DESCRIPTION:The webinar is practical\, and outcomes driven. \nContent will focus on a pragmatic approach to Strategic Planning designed to fit with the needs of small businesses in both B2C and B2B environments. \nTopics covered during the webinar will include: \n\nLooking at your business today – identifying your strengths and areas for development\nThe key pillars of a business and why balancing all areas is essential for success\nPersonal and business ambitions and using these to guide strategy development\nAnsoff’s Matrix as a tool for identifying core growth strategies\nThe core components of your business delivery\nHow to develop a methodical\, strategic approach to developing your business for future success\n\nYou will understand: \n\nHow to undertake a balanced review of where your business is that helps identify areas for development\nAnsoff’s Matrix and how to use it as a core strategic planning tool\nHow to create a strategic plan for growing your business
URL:https://investinangus.com/event/taking-a-strategic-approach-to-developing-your-business-6/
CATEGORIES:Business Planning
END:VEVENT
END:VCALENDAR