BEGIN:VCALENDAR
VERSION:2.0
PRODID:-//Invest in Angus - ECPv6.15.17.1//NONSGML v1.0//EN
CALSCALE:GREGORIAN
METHOD:PUBLISH
X-WR-CALNAME:Invest in Angus
X-ORIGINAL-URL:https://investinangus.com
X-WR-CALDESC:Events for Invest in Angus
REFRESH-INTERVAL;VALUE=DURATION:PT1H
X-Robots-Tag:noindex
X-PUBLISHED-TTL:PT1H
BEGIN:VTIMEZONE
TZID:UTC
BEGIN:STANDARD
TZOFFSETFROM:+0000
TZOFFSETTO:+0000
TZNAME:UTC
DTSTART:20210101T000000
END:STANDARD
END:VTIMEZONE
BEGIN:VEVENT
DTSTART;TZID=UTC:20220419T093000
DTEND;TZID=UTC:20220419T103000
DTSTAMP:20260422T084510
CREATED:20220418T093402Z
LAST-MODIFIED:20220418T093402Z
UID:10084456-1650360600-1650364200@investinangus.com
SUMMARY:Thorntons Employment Law Webinar - Employment Law Update
DESCRIPTION:This 1-hour webinar and Q&A will cover: \n\n“What’s New in Employment Law?”\nAnnual Increase in Compensation Limits from April 2022;\nIncrease in National Living Wage; The Employment Law Bill;\nCase law updates on topics such as right to annual leave\, firing and re-hiring\, dismissal of an unvaccinated care home worker\, and unfair and wrongful dismissal.\n\nWhat will I learn? \nOur employment law experts will guide you through some of the latest legislative changes\, and highlight key elements you should be aware of in 2022. \nWho should attend? \n\nAnyone with a role in HR\nManagers\nBusiness Owners
URL:https://investinangus.com/event/thorntons-employment-law-webinar-employment-law-update/
CATEGORIES:HR,Legislation
END:VEVENT
BEGIN:VEVENT
DTSTART;TZID=UTC:20220419T100000
DTEND;TZID=UTC:20220419T120000
DTSTAMP:20260422T084510
CREATED:20220321T094219Z
LAST-MODIFIED:20220321T094219Z
UID:10084316-1650362400-1650369600@investinangus.com
SUMMARY:Creating value for your customers
DESCRIPTION:It’s essential to consider your target market when developing your products and services to ensure you meet their needs and desires. Following this webinar\, you will understand the key steps you can take now to understand\, create and improve your value proposition. \nTopics covered include: \n\nHow to create value for your customers\nThe Value Proposition Canvas\nUnderstanding and maximising your value proposition\nThe Customer Journey Concept\nCustomer segments\, needs\, pains and gains
URL:https://investinangus.com/event/creating-value-for-your-customers-9/
CATEGORIES:Business Planning
END:VEVENT
BEGIN:VEVENT
DTSTART;TZID=UTC:20220419T140000
DTEND;TZID=UTC:20220419T160000
DTSTAMP:20260422T084510
CREATED:20220321T105223Z
LAST-MODIFIED:20220321T105223Z
UID:10084345-1650376800-1650384000@investinangus.com
SUMMARY:Twitter for business
DESCRIPTION:This webinar will help you develop and hone your social media strategy in order to amplify your message using Twitter. You will gain a deeper understanding of where Twitter fits into your overall plan\, how it relates to other platforms\, and the relative benefits of sponsored posts\, as well as how to create them. \nYou will also learn about: \n\nTwitter best practice content and what makes the perfect tweet.\nDashboards such as Hootsuite to help you manage and integrate your social media accounts and schedule content.\nAdvanced techniques for social listening and pro-actively finding content and customers.
URL:https://investinangus.com/event/twitter-for-business-10/
CATEGORIES:Digital Marketing
END:VEVENT
BEGIN:VEVENT
DTSTART;TZID=UTC:20220419T173000
DTEND;TZID=UTC:20220419T193000
DTSTAMP:20260422T084510
CREATED:20220321T094316Z
LAST-MODIFIED:20220321T094316Z
UID:10084318-1650389400-1650396600@investinangus.com
SUMMARY:HR – The essentials for running a business
DESCRIPTION:One of the scariest things you can do as a business is take on staff – from hiring\, interviewing\, payroll\, pensions\, contracts\, hours of work\, it is a minefield for the business owner. \nDuring this time there is a need to do all this and more remotely\, and at the same time consider how staff manage both personally and productively during the pandemic. \nThis webinar will allow the employer to have the main facts in their possession to start taking on staff. \nWe will look at: \n\nHow in the current climate you can manage staff and teams in a remote environment\, considering their productivity\, efficiency\, and the issues of home working.\nHow you can best manage staff to ensure productivity is kept and mental health is supported during this challenging time.\nThe impacts of companies who may be considering restructuring and therefore redundancy for the first time and how that can be managed.
URL:https://investinangus.com/event/hr-the-essentials-for-running-a-business-18/
CATEGORIES:HR
END:VEVENT
END:VCALENDAR