BEGIN:VCALENDAR
VERSION:2.0
PRODID:-//Invest in Angus - ECPv6.15.17.1//NONSGML v1.0//EN
CALSCALE:GREGORIAN
METHOD:PUBLISH
X-WR-CALNAME:Invest in Angus
X-ORIGINAL-URL:https://investinangus.com
X-WR-CALDESC:Events for Invest in Angus
REFRESH-INTERVAL;VALUE=DURATION:PT1H
X-Robots-Tag:noindex
X-PUBLISHED-TTL:PT1H
BEGIN:VTIMEZONE
TZID:UTC
BEGIN:STANDARD
TZOFFSETFROM:+0000
TZOFFSETTO:+0000
TZNAME:UTC
DTSTART:20210101T000000
END:STANDARD
END:VTIMEZONE
BEGIN:VEVENT
DTSTART;TZID=UTC:20220428T110000
DTEND;TZID=UTC:20220428T130000
DTSTAMP:20260422T152225
CREATED:20220321T104624Z
LAST-MODIFIED:20220321T104624Z
UID:10084332-1651143600-1651150800@investinangus.com
SUMMARY:Building your brand and promotional graphics
DESCRIPTION:This webinar will define what a brand is (and isn’t) and explain how it’s more than just creating a logo. We will explore how a business can use their brand to show its identity\, purpose\, personality\, message and values in order to stand out from competitors\, build a loyal customer base and make more sales. \nThis webinar will: \n\nProvide you with a clear understanding of the difference between brands and branding\nHelp you learn how to develop your brand’s positioning\, character\, and purpose to differentiate your business from its competitors\nDemonstrate how to set up a brand kit and style guide to ensure consistency across websites\, social media\, business cards\, posters etc.\nTeach you how to create simple promotional graphics using a variety of tools including Canva\nHighlight a variety of free tools including Google Drive\, Hubspot and Mailchimp that can save time and simplify marketing tasks
URL:https://investinangus.com/event/building-your-brand-and-promotional-graphics-16/
CATEGORIES:Digital Marketing,Marketing
END:VEVENT
BEGIN:VEVENT
DTSTART;TZID=UTC:20220428T173000
DTEND;TZID=UTC:20220428T193000
DTSTAMP:20260422T152225
CREATED:20220321T104704Z
LAST-MODIFIED:20220321T104704Z
UID:10084334-1651167000-1651174200@investinangus.com
SUMMARY:Generating ideas for your business
DESCRIPTION:Many people would like to start their own business but don’t have a business idea to focus on. This session will help you: \n1. Clarify your motivation behind starting your own business \n2. Appreciate your skills and experiences \n3. Use a range of techniques for generating new business ideas \n4. Gain an appreciation of how to evaluate these ideas \n5. Prepare to get started!
URL:https://investinangus.com/event/generating-ideas-for-your-business-8/
CATEGORIES:Business Start-up
END:VEVENT
END:VCALENDAR