BEGIN:VCALENDAR
VERSION:2.0
PRODID:-//Invest in Angus - ECPv6.15.17.1//NONSGML v1.0//EN
CALSCALE:GREGORIAN
METHOD:PUBLISH
X-ORIGINAL-URL:https://investinangus.com
X-WR-CALDESC:Events for Invest in Angus
REFRESH-INTERVAL;VALUE=DURATION:PT1H
X-Robots-Tag:noindex
X-PUBLISHED-TTL:PT1H
BEGIN:VTIMEZONE
TZID:UTC
BEGIN:STANDARD
TZOFFSETFROM:+0000
TZOFFSETTO:+0000
TZNAME:UTC
DTSTART:20210101T000000
END:STANDARD
END:VTIMEZONE
BEGIN:VEVENT
DTSTART;TZID=UTC:20220429T100000
DTEND;TZID=UTC:20220429T120000
DTSTAMP:20260422T103447
CREATED:20220321T110324Z
LAST-MODIFIED:20220321T110324Z
UID:10084363-1651226400-1651233600@investinangus.com
SUMMARY:Instagram for business
DESCRIPTION:Thinking about using Instagram to communicate with existing and potential customers? Want to showcase your products or services using it? During this webinar we will cover: \n\nGetting the setup right and benefitting from the available business tools.\nBest practice profiles\, and some strategies to help your business stand out from the crowd.\nLearn which type of audience you can reach via this platform and the factors and analytics such as cost and timing of posting images and how that can maximise impact.\nThe various types of content you can post to Instagram\, from regular posts\, to Stories\, Reels\, and Live Video.
URL:https://investinangus.com/event/instagram-for-business-15/
CATEGORIES:Digital Marketing
END:VEVENT
BEGIN:VEVENT
DTSTART;TZID=UTC:20220429T140000
DTEND;TZID=UTC:20220429T153000
DTSTAMP:20260422T103447
CREATED:20220401T154543Z
LAST-MODIFIED:20220401T154543Z
UID:10084401-1651240800-1651246200@investinangus.com
SUMMARY:Protect your business and data from hackers
DESCRIPTION:Join us to look at why it’s important for all businesses to give their online security thought and consideration. We will take you through some simple steps to minimise the risks. We will also direct you to available support to help you and your business. \nDuring the session will cover: \n\nCyber security and why it matters for businesses\nSteps to take to protect yourself including (Backups\, Malware protection\, Mobile devices\, VPNs\, Firewalls\, Passwords and more secure authentication\, avoiding scams and fraud)\nBasic Good Practice\, to prepare and understand what to do if the worst happens.
URL:https://investinangus.com/event/protect-your-business-and-data-from-hackers-15/
CATEGORIES:Data Protection
END:VEVENT
END:VCALENDAR