BEGIN:VCALENDAR
VERSION:2.0
PRODID:-//Invest in Angus - ECPv6.15.17.1//NONSGML v1.0//EN
CALSCALE:GREGORIAN
METHOD:PUBLISH
X-ORIGINAL-URL:https://investinangus.com
X-WR-CALDESC:Events for Invest in Angus
REFRESH-INTERVAL;VALUE=DURATION:PT1H
X-Robots-Tag:noindex
X-PUBLISHED-TTL:PT1H
BEGIN:VTIMEZONE
TZID:UTC
BEGIN:STANDARD
TZOFFSETFROM:+0000
TZOFFSETTO:+0000
TZNAME:UTC
DTSTART:20210101T000000
END:STANDARD
END:VTIMEZONE
BEGIN:VEVENT
DTSTART;TZID=UTC:20220506T100000
DTEND;TZID=UTC:20220506T120000
DTSTAMP:20260422T170322
CREATED:20220425T090713Z
LAST-MODIFIED:20220425T090713Z
UID:10084477-1651831200-1651838400@investinangus.com
SUMMARY:Creating value for your customers
DESCRIPTION:It’s essential to consider your target market when developing your products and services to ensure you meet their needs and desires. Following this webinar\, you will understand the key steps you can take now to understand\, create and improve your value proposition. \nTopics covered include: \n\nHow to create value for your customers\nThe Value Proposition Canvas\nUnderstanding and maximising your value proposition\nThe Customer Journey Concept\nCustomer segments\, needs\, pains and gains
URL:https://investinangus.com/event/creating-value-for-your-customers-10/
CATEGORIES:Business Planning
END:VEVENT
END:VCALENDAR