BEGIN:VCALENDAR
VERSION:2.0
PRODID:-//Invest in Angus - ECPv6.15.17.1//NONSGML v1.0//EN
CALSCALE:GREGORIAN
METHOD:PUBLISH
X-ORIGINAL-URL:https://investinangus.com
X-WR-CALDESC:Events for Invest in Angus
REFRESH-INTERVAL;VALUE=DURATION:PT1H
X-Robots-Tag:noindex
X-PUBLISHED-TTL:PT1H
BEGIN:VTIMEZONE
TZID:UTC
BEGIN:STANDARD
TZOFFSETFROM:+0000
TZOFFSETTO:+0000
TZNAME:UTC
DTSTART:20210101T000000
END:STANDARD
END:VTIMEZONE
BEGIN:VEVENT
DTSTART;TZID=UTC:20220511T110000
DTEND;TZID=UTC:20220512T160000
DTSTAMP:20260422T170347
CREATED:20220502T133507Z
LAST-MODIFIED:20220502T133507Z
UID:10084548-1652266800-1652371200@investinangus.com
SUMMARY:All-Energy Dcarbonise
DESCRIPTION:The conference theme for 2022 is net-zero and energy transition\, exploring how we can collectively meet ambitious net-zero targets and dissect the latest developments in the transition to the low carbon economy. \nOver two days\, 600+ world class speakers come together with over 6\,000 delegates in conference sessions\, show-floor theatres\, and academic poster presentations. \nDcarbonise \nFind the solutions you need to improve energy efficiency and decrease costs. Co-located with All-Energy\, Dcarbonise brings together landlords\, housing associations and commercial businesses\, trade bodies\, governments/public sector\, and property developers. It’s the ideal forum to discuss new technologies\, and find solutions to challenges. \nDcarbonise is for end-users\, such as businesses or private sector landlords\, focusing on energy efficiency in the built environment and retrofit; low carbon heating; low carbon transport; industry decarbonisation (including carbon capture and storage and carbon capture usage and storage; and smart and sustainable cities. \nAll-Energy \nRenewable and low carbon energy generation lies at the heart of the All-Energy conference along with vital pillars such as energy systems; transmission and networks; hydrogen; energy storage; finance and funding; corporate PPAs and innovation.
URL:https://investinangus.com/event/all-energy-dcarbonise/
CATEGORIES:Energy,Sustainable/Circular Economy
END:VEVENT
BEGIN:VEVENT
DTSTART;TZID=UTC:20220512T100000
DTEND;TZID=UTC:20220512T110000
DTSTAMP:20260422T170347
CREATED:20220502T132959Z
LAST-MODIFIED:20220502T132959Z
UID:10084542-1652349600-1652353200@investinangus.com
SUMMARY:IT Software Development Graduate Apprenticeships - Developing the skills of your workforce at no additional cost
DESCRIPTION:Let us help you to develop the IT software development skills of your workforce at no additional cost \nAs we look to the future\, now is the time to think about the development needs of your workforce. \nJoin us to find out how our fully funded IT Software Development Graduate Apprenticeship can help you to develop the knowledge\, skills\, and experience of your workforce\, whilst helping your business grow. \nWith fully funded courses available in Business Management\, IT Management for Business\, IT Software Development\, Civil Engineering\, and Engineering\, Design and Manufacturing\, we can help you develop employees from across your business. \nAt the event\, you will hear from both apprentices and employers who are currently utilising our Graduate Apprenticeship Programme\, so you can find out about their experience first-hand and the benefits the programme can bring to your business. \nYou will also hear from our Industrial Liaison Officer Wayne Paul\, along with some of our lecturers\, so you can find out everything you need to know about our IT Software Development Graduate Apprenticeship\, and how it can help you to develop your talent\, boost your performance\, and grow your business. \nHow does it work? \nOur fully funded Graduate Apprenticeship Programme gives you the opportunity to develop current or new members of your workforce (of all ages) to honours degree level at no additional cost to your business. \nWe have fully funded and easily accessible places available on five different courses: \n\nIT Management for Business\nIT Software Development\nBusiness Management\nCivil Engineering\nEngineering\, Design and Manufacturing\n\nGraduate Apprentices spend one day a week studying at the University and the remaining four days of the week working in their role. At the end of four years they will receive the same level of degree as a student studying full time. \nThe application process is simple and easy and there is no mountain of paperwork to complete.
URL:https://investinangus.com/event/it-software-development-graduate-apprenticeships-developing-the-skills-of-your-workforce-at-no-additional-cost/
CATEGORIES:Business Planning,HR,Recruitment
END:VEVENT
BEGIN:VEVENT
DTSTART;TZID=UTC:20220512T100000
DTEND;TZID=UTC:20220512T110000
DTSTAMP:20260422T170347
CREATED:20220502T133144Z
LAST-MODIFIED:20220502T133144Z
UID:10084544-1652349600-1652353200@investinangus.com
SUMMARY:Engineering\, Design and Manufacturing Graduate Apprenticeships - Developing the skills of your workforce at no additional cost
DESCRIPTION:Let us help you to develop the Engineering\, Design and Manufacturing skills of your workforce (of all ages) at no additional cost to your business \nJoin us on Thursday 12 May to find out how our fully funded Engineering\, Design and Manufacturing Graduate Apprenticeship Course can help you to develop the knowledge\, skills\, and experience of your workforce\, whilst helping your business grow. \nAt the event\, you will hear from both apprentices and employers who are currently utilising our Graduate Apprenticeship Programme\, so you can find out about their experience first-hand and the benefits the programme can bring to your business. \nYou will also hear from our Industrial Liaison Officer Wayne Paul\, along with some of our Engineering Lecturers\, so you can find out everything you need to know about our Graduate Apprenticeship Programme\, and how it can help you to develop your talent\, boost your performance\, and grow your business. \nHow does it work? \nOur fully funded Graduate Apprenticeship Programme gives you the opportunity to develop current or new members of your workforce (of all ages) to honours degree level at no additional cost to your business. \nWe have fully funded and easily accessible places available on five different courses: \n\nCivil Engineering\nEngineering\, Design and Manufacturing\nBusiness Management\nIT Management for Business\nIT Software Development\n\nGraduate Apprentices spend one day a week studying at the University and the remaining four days of the week working in their role. At the end of four years they will receive the same level of degree as a student studying full time. \nThe application process is simple and easy and there is no mountain of paperwork to complete.
URL:https://investinangus.com/event/engineering-design-and-manufacturing-graduate-apprenticeships-developing-the-skills-of-your-workforce-at-no-additional-cost/
CATEGORIES:Business Planning,HR,Recruitment
END:VEVENT
BEGIN:VEVENT
DTSTART;TZID=UTC:20220512T100000
DTEND;TZID=UTC:20220512T120000
DTSTAMP:20260422T170347
CREATED:20220411T143020Z
LAST-MODIFIED:20220411T143020Z
UID:10084433-1652349600-1652356800@investinangus.com
SUMMARY:Website analytics to improve your business and sales
DESCRIPTION:Google Analytics\, Search Console and Heat Mapping are incredibly powerful tools that help you better understand how your website is performing. This webinar will better equip you to be able to improve the performance and effectiveness of your website by: \n\nLearning about top landing pages and traffic sources\, to understanding organic search rankings and user interaction\,\nWe’ll show you around the Google Analytics interface\, help you view and understand key reports\, how to setup Goal conversions and more.
URL:https://investinangus.com/event/website-analytics-to-improve-your-business-and-sales-10/
CATEGORIES:Digital Marketing
END:VEVENT
BEGIN:VEVENT
DTSTART;TZID=UTC:20220512T140000
DTEND;TZID=UTC:20220512T160000
DTSTAMP:20260422T170347
CREATED:20220425T091035Z
LAST-MODIFIED:20220425T091035Z
UID:10084485-1652364000-1652371200@investinangus.com
SUMMARY:Marketing your business on a budget
DESCRIPTION:When budgets are tight it can be difficult to find the funds for marketing. This webinar will help you use marketing to increase customer engagement. We will offer marketing tips and advice that you can then use across your business. Without bursting the bank! \nWe will look at: \n\nHow marketing extends way beyond what most businesses consider it to be and how that provides opportunities for businesses to make transformational change with little or no extra spend.\nIdentifying Marketing Priorities and using these to reshape your business.\nThe Marketing Mix as a tool for reviewing how your business plans and delivers its marketing activity.\nHow your marketing activity is delivered successfully and effectively in your business.\nA series of top tips including the importance of understanding your customers\, the core components of a brand\, the value of strong and consistent branding and the power of of a clear focus and creativity.\nThe many options available with traditional Advertising and Promotion as a way a company communicates what it does and what it can offer customers\, but also looking how this has changed in a world where marketing has moved online.
URL:https://investinangus.com/event/marketing-your-business-on-a-budget-26/
CATEGORIES:Digital Marketing,Marketing
END:VEVENT
BEGIN:VEVENT
DTSTART;TZID=UTC:20220512T180000
DTEND;TZID=UTC:20220512T200000
DTSTAMP:20260422T170347
CREATED:20220411T143057Z
LAST-MODIFIED:20220411T143057Z
UID:10084435-1652378400-1652385600@investinangus.com
SUMMARY:An introduction to business websites & what you need to consider
DESCRIPTION:This webinar will take you right from the beginning of website building. You will learn about: \n\nThe need to determine website objectives\nThe importance of knowing who your audience is and measuring results\nSetting clear calls to action and creating engaging content.\nCreate your brand’s visual identity online\, your site’s blueprint and how you can structure your site map.\nWhat’s involved in registering and maintaining your site content and options for hosting it.\n\nThis webinar will also offer guidance on when and how to outsource your website development. Covering topics such as where to find a contractor\, what to organise first and costing for the work.
URL:https://investinangus.com/event/an-introduction-to-business-websites-what-you-need-to-consider-12/
CATEGORIES:Digital Marketing
END:VEVENT
BEGIN:VEVENT
DTSTART;TZID=UTC:20220512T180000
DTEND;TZID=UTC:20220512T203000
DTSTAMP:20260422T170347
CREATED:20220502T130737Z
LAST-MODIFIED:20220502T130737Z
UID:10084508-1652378400-1652387400@investinangus.com
SUMMARY:How to write a Business Plan and why you need one
DESCRIPTION:This webinar will help you create a robust business plan. \nThe webinar will look at: \n\ncreating a description for your business\nthe business planning process\nefficient ways of obtaining skills and resources\npresenting your business plan
URL:https://investinangus.com/event/how-to-write-a-business-plan-and-why-you-need-one-3/
CATEGORIES:Business Planning,Business Start-up
END:VEVENT
END:VCALENDAR