BEGIN:VCALENDAR
VERSION:2.0
PRODID:-//Invest in Angus - ECPv6.15.17.1//NONSGML v1.0//EN
CALSCALE:GREGORIAN
METHOD:PUBLISH
X-ORIGINAL-URL:https://investinangus.com
X-WR-CALDESC:Events for Invest in Angus
REFRESH-INTERVAL;VALUE=DURATION:PT1H
X-Robots-Tag:noindex
X-PUBLISHED-TTL:PT1H
BEGIN:VTIMEZONE
TZID:UTC
BEGIN:STANDARD
TZOFFSETFROM:+0000
TZOFFSETTO:+0000
TZNAME:UTC
DTSTART:20210101T000000
END:STANDARD
END:VTIMEZONE
BEGIN:VEVENT
DTSTART;TZID=UTC:20220513T100000
DTEND;TZID=UTC:20220513T120000
DTSTAMP:20260422T151639
CREATED:20220425T091116Z
LAST-MODIFIED:20220425T091116Z
UID:10084487-1652436000-1652443200@investinangus.com
SUMMARY:Intellectual property: The fundamentals for business
DESCRIPTION:You have invested time\, energy and money into your project\, however\, have you protected the innovation? \nFollowing this webinar\, you will understand how to manage your intellectual property (IP) or how to start the process of registering it. \nTopics covered include: \n\nWhat is IP?\nCan you own IP?\nHow can IP be protected?\nWhat is the difference between intellectual and physical assets?
URL:https://investinangus.com/event/intellectual-property-the-fundamentals-for-business-10/
CATEGORIES:Business Planning,Legislation
END:VEVENT
BEGIN:VEVENT
DTSTART;TZID=UTC:20220513T123000
DTEND;TZID=UTC:20220513T130000
DTSTAMP:20260422T151639
CREATED:20220509T122800Z
LAST-MODIFIED:20220509T122800Z
UID:10084593-1652445000-1652446800@investinangus.com
SUMMARY:Build a wellbeing toolkit – Breathwork & meditation
DESCRIPTION:Breathwork\, mindfulness and movement practices are all proven to reduce stress\, enhance cognitive performance and decision making\, foster creativity\, bolster self-compassion\, connection and kindness to others and so much more. \nJoin us this week as we explore these practices together\, find a moment to reset in the middle of the day and build a wellbeing toolkit you can dip into any time you need. No experience needed\, everyone is welcome.
URL:https://investinangus.com/event/build-a-wellbeing-toolkit-breathwork-meditation/
CATEGORIES:Networking,Wellbeing
END:VEVENT
END:VCALENDAR