BEGIN:VCALENDAR
VERSION:2.0
PRODID:-//Invest in Angus - ECPv6.15.17.1//NONSGML v1.0//EN
CALSCALE:GREGORIAN
METHOD:PUBLISH
X-ORIGINAL-URL:https://investinangus.com
X-WR-CALDESC:Events for Invest in Angus
REFRESH-INTERVAL;VALUE=DURATION:PT1H
X-Robots-Tag:noindex
X-PUBLISHED-TTL:PT1H
BEGIN:VTIMEZONE
TZID:UTC
BEGIN:STANDARD
TZOFFSETFROM:+0000
TZOFFSETTO:+0000
TZNAME:UTC
DTSTART:20210101T000000
END:STANDARD
END:VTIMEZONE
BEGIN:VEVENT
DTSTART;TZID=UTC:20220517T140000
DTEND;TZID=UTC:20220517T160000
DTSTAMP:20260422T152405
CREATED:20220411T143245Z
LAST-MODIFIED:20220411T143245Z
UID:10084439-1652796000-1652803200@investinangus.com
SUMMARY:How to improve your Google search rankings
DESCRIPTION:Join us to look at how Google and other search engines decide the order in which they list their search results. We will show you how to maximise your chances of appearing towards the top of the search rankings\, ensuring you understand what key words and phrases your potential customers are using when searching online. \nWe will cover: \n\nHow search engines work\, and the factors used to rank your site.\nOptimising your website for search engines\nKeyword research tools and how to benefit from them\nTechnical considerations for further search engine benefits
URL:https://investinangus.com/event/how-to-improve-your-google-search-rankings-11/
CATEGORIES:Digital Marketing
END:VEVENT
BEGIN:VEVENT
DTSTART;TZID=UTC:20220517T160000
DTEND;TZID=UTC:20220517T180000
DTSTAMP:20260422T152405
CREATED:20220502T130908Z
LAST-MODIFIED:20220502T130908Z
UID:10084512-1652803200-1652810400@investinangus.com
SUMMARY:HR – The essentials for running a business
DESCRIPTION:One of the scariest things you can do as a business is take on staff – from hiring\, interviewing\, payroll\, pensions\, contracts\, hours of work\, it is a minefield for the business owner. \nDuring this time there is a need to do all this and more remotely\, and at the same time consider how staff manage both personally and productively during the pandemic. \nThis webinar will allow the employer to have the main facts in their possession to start taking on staff. \nWe will look at: \n\nHow in the current climate you can manage staff and teams in a remote environment\, considering their productivity\, efficiency\, and the issues of home working.\nHow you can best manage staff to ensure productivity is kept and mental health is supported during this challenging time.\nThe impacts of companies who may be considering restructuring and therefore redundancy for the first time and how that can be managed.
URL:https://investinangus.com/event/hr-the-essentials-for-running-a-business-19/
CATEGORIES:HR
END:VEVENT
END:VCALENDAR