BEGIN:VCALENDAR
VERSION:2.0
PRODID:-//Invest in Angus - ECPv6.15.17.1//NONSGML v1.0//EN
CALSCALE:GREGORIAN
METHOD:PUBLISH
X-ORIGINAL-URL:https://investinangus.com
X-WR-CALDESC:Events for Invest in Angus
REFRESH-INTERVAL;VALUE=DURATION:PT1H
X-Robots-Tag:noindex
X-PUBLISHED-TTL:PT1H
BEGIN:VTIMEZONE
TZID:UTC
BEGIN:STANDARD
TZOFFSETFROM:+0000
TZOFFSETTO:+0000
TZNAME:UTC
DTSTART:20210101T000000
END:STANDARD
END:VTIMEZONE
BEGIN:VEVENT
DTSTART;TZID=UTC:20220518T100000
DTEND;TZID=UTC:20220518T130000
DTSTAMP:20260422T170348
CREATED:20220516T145640Z
LAST-MODIFIED:20220516T145640Z
UID:10084673-1652868000-1652878800@investinangus.com
SUMMARY:Getting to grips with Instagram Reels
DESCRIPTION:We’ll take you through a step-by-step process of planning\, shooting and editing a video with Instagram Reels. We will cover how to: \n\nCreate ‘expert’ videos\nCreate text videos\nUse Reels soundtracks\nCreate voiceover videos\nUse transition in videos\n\nEssential App – Instagram \nWe will be using this app for every task during the session so it is vital that you have the app installed and that you can access your account in order to create Reels.This can be your own personal account or your business account.You will have the opportunity to post the Reels you create if you are happy with them.However\, you will also be able to simply save the draft Reel to your device and come back to complete it at a later date.
URL:https://investinangus.com/event/getting-to-grips-with-instagram-reels/
CATEGORIES:Digital Marketing
END:VEVENT
BEGIN:VEVENT
DTSTART;TZID=UTC:20220518T140000
DTEND;TZID=UTC:20220518T160000
DTSTAMP:20260422T170348
CREATED:20220411T143328Z
LAST-MODIFIED:20220411T143328Z
UID:10084441-1652882400-1652889600@investinangus.com
SUMMARY:Instagram for business
DESCRIPTION:Thinking about using Instagram to communicate with existing and potential customers? Want to showcase your products or services using it? During this webinar we will cover: \n\nGetting the setup right and benefitting from the available business tools.\nBest practice profiles\, and some strategies to help your business stand out from the crowd.\nLearn which type of audience you can reach via this platform and the factors and analytics such as cost and timing of posting images and how that can maximise impact.\nThe various types of content you can post to Instagram\, from regular posts\, to Stories\, Reels\, and Live Video.
URL:https://investinangus.com/event/instagram-for-business-16/
CATEGORIES:Digital Marketing
END:VEVENT
BEGIN:VEVENT
DTSTART;TZID=UTC:20220518T160000
DTEND;TZID=UTC:20220518T170000
DTSTAMP:20260422T170348
CREATED:20220516T145923Z
LAST-MODIFIED:20220516T145923Z
UID:10084675-1652889600-1652893200@investinangus.com
SUMMARY:TravelTech Huddle
DESCRIPTION:Join this online huddle as Josh from TravelTech Scotland gives an overview of the possibilities through technology for tourism. \nThe overall aim of the TravelTech programme is to improve the innovation of your business or enterprise and to help you capitalise on new economic and innovation opportunities. \nJosh will help guide us through what that means for tourism and hospitality; be it online booking systems\, shorter supply chains\, or visitor management tools and much more. \nOur huddles always allow time for discussion\, knowledge sharing and support with any challenges and opportunities around travel technology.
URL:https://investinangus.com/event/traveltech-huddle/
CATEGORIES:Business Planning,Tourism
END:VEVENT
BEGIN:VEVENT
DTSTART;TZID=UTC:20220518T180000
DTEND;TZID=UTC:20220518T200000
DTSTAMP:20260422T170348
CREATED:20220411T143403Z
LAST-MODIFIED:20220411T143403Z
UID:10084443-1652896800-1652904000@investinangus.com
SUMMARY:Producing engaging online content
DESCRIPTION:Producing quality content is an excellent way of helping your customers develop a meaningful relationship with your brand\, services and products.In this webinar we will show you how to source\, develop and measure content. It’s ideal for businesses that already have a business website or use social media and now want to take it a step further. \nBy the end of it you will have the skills to show your audience that you are a trusted operator in your field. \nThis session will help you: \n\nUnderstand what kind of content your customers are looking for\nHow to find\, write and package it\nHow to market it and measure its success.\nAmplify your brand and message\, and to boost sales and profits.
URL:https://investinangus.com/event/producing-engaging-online-content-14/
CATEGORIES:Digital Marketing
END:VEVENT
END:VCALENDAR