BEGIN:VCALENDAR
VERSION:2.0
PRODID:-//Invest in Angus - ECPv6.15.17.1//NONSGML v1.0//EN
CALSCALE:GREGORIAN
METHOD:PUBLISH
X-WR-CALNAME:Invest in Angus
X-ORIGINAL-URL:https://investinangus.com
X-WR-CALDESC:Events for Invest in Angus
REFRESH-INTERVAL;VALUE=DURATION:PT1H
X-Robots-Tag:noindex
X-PUBLISHED-TTL:PT1H
BEGIN:VTIMEZONE
TZID:UTC
BEGIN:STANDARD
TZOFFSETFROM:+0000
TZOFFSETTO:+0000
TZNAME:UTC
DTSTART:20210101T000000
END:STANDARD
END:VTIMEZONE
BEGIN:VEVENT
DTSTART;TZID=UTC:20220524T090000
DTEND;TZID=UTC:20220524T170000
DTSTAMP:20260422T152229
CREATED:20220502T132125Z
LAST-MODIFIED:20220502T132125Z
UID:10084526-1653382800-1653411600@investinangus.com
SUMMARY:Marketing 1-2-1 Sessions
DESCRIPTION:Whether you’d like to discuss market research\, marketing strategy or would even just like an impartial review of your website or social media page\, this is an opportunity to book a one to one appoint either from our Dundee office or over Zoom with our marketing specialist\, Stuart Milne. \nOnce you have booked your space\, one of our team will be in touch to arrange an appointment. \nThese appointments are for businesses based in Dundee\, Angus or Perth.
URL:https://investinangus.com/event/marketing-1-2-1-sessions/
CATEGORIES:Digital Marketing,Marketing
END:VEVENT
BEGIN:VEVENT
DTSTART;TZID=UTC:20220524T093000
DTEND;TZID=UTC:20220524T103000
DTSTAMP:20260422T152229
CREATED:20220523T091637Z
LAST-MODIFIED:20220523T091637Z
UID:10084757-1653384600-1653388200@investinangus.com
SUMMARY:Thorntons Employment Law Webinar - Hybrid Working
DESCRIPTION:As Covid-19 restrictions have eased\, many organisations have progressed from fully working at home to welcoming employees back to the workplace on a hybrid basis.   \nHybrid working has allowed employees to return to the workplace on a rotational basis over the course of the pandemic\, whilst still maintaining the requirements of social distancing. However\, now that the remaining legal restrictions have been lifted and despite many employees being able to go back to work in a pre-pandemic manner\, many organisations are now considering implementing a permanent hybrid working pattern. \nJoin Employment Associate\, Andrew Wallace for a 1 hour webinar and Q&A where he will discuss the challenges of hybrid working and how your organisation can adjust to the new post-pandemic world of work. \nThis webinar will cover: \n\nThe legal pitfalls of hybrid working\nHybrid working policies – do you need one and what should they include?\nConsultation – how to reach an agreement with employees\nFlexible working requests – how do these work alongside hybrid working?\nWhat to do if it isn’t working – setting expectations with employees and communicating the need for hybrid working to work for both the individual and the business\n\nWho should attend? \n\nAnyone with a role in HR\nManagers\nBusiness owners
URL:https://investinangus.com/event/thorntons-employment-law-webinar-hybrid-working/
CATEGORIES:HR
END:VEVENT
BEGIN:VEVENT
DTSTART;TZID=UTC:20220524T140000
DTEND;TZID=UTC:20220524T160000
DTSTAMP:20260422T152229
CREATED:20220411T143517Z
LAST-MODIFIED:20220411T143517Z
UID:10084447-1653400800-1653408000@investinangus.com
SUMMARY:LinkedIn for business
DESCRIPTION:No longer just an online CV\, LinkedIn can be an incredibly powerful – and profitable – business tool. Like any tool\, you must learn how to use it\, and this webinar gives you expert guidance. \nYou will: \n\nCreate a LinkedIn strategy to boost your business reputation via marketing and brand promotion initiatives.\nLearn the difference between personal and company profiles and how to optimise them for both maximum visibility and brand awareness.\nContent is king on LinkedIn\, and we’ll show you how to plan and produce captivating content that enriches your brand.
URL:https://investinangus.com/event/linkedin-for-business-15/
CATEGORIES:Digital Marketing
END:VEVENT
BEGIN:VEVENT
DTSTART;TZID=UTC:20220524T140000
DTEND;TZID=UTC:20220524T160000
DTSTAMP:20260422T152229
CREATED:20220502T132200Z
LAST-MODIFIED:20220502T132200Z
UID:10084528-1653400800-1653408000@investinangus.com
SUMMARY:Bookkeeping and finance: The essentials for business
DESCRIPTION:This webinar is for those who are entering business for the first time or require an understanding of what is involved in financially managing a business\, including developing basic bookkeeping\, and creating a profit and loss account. You will also get an understanding of what expenses the business can claim and then how to fund both start up and growth. At the end of the session\, you will receive a workbook on excel to help you manage and monitor costs and sales. \nAfter this webinar\, you will be able to: \n\nImplement basic bookkeeping skills across your business\nCreate a profit and loss account\nUnderstand what expenses can and cannot be claimed\nUse financial management to increase revenues and profits\nUnderstand how you can fund your business
URL:https://investinangus.com/event/bookkeeping-and-finance-the-essentials-for-business-25/
CATEGORIES:Finance
END:VEVENT
END:VCALENDAR