BEGIN:VCALENDAR
VERSION:2.0
PRODID:-//Invest in Angus - ECPv6.15.17.1//NONSGML v1.0//EN
CALSCALE:GREGORIAN
METHOD:PUBLISH
X-ORIGINAL-URL:https://investinangus.com
X-WR-CALDESC:Events for Invest in Angus
REFRESH-INTERVAL;VALUE=DURATION:PT1H
X-Robots-Tag:noindex
X-PUBLISHED-TTL:PT1H
BEGIN:VTIMEZONE
TZID:UTC
BEGIN:STANDARD
TZOFFSETFROM:+0000
TZOFFSETTO:+0000
TZNAME:UTC
DTSTART:20210101T000000
END:STANDARD
END:VTIMEZONE
BEGIN:VEVENT
DTSTART;TZID=UTC:20220608T100000
DTEND;TZID=UTC:20220608T120000
DTSTAMP:20260422T133753
CREATED:20220516T143354Z
LAST-MODIFIED:20220516T143354Z
UID:10084642-1654682400-1654689600@investinangus.com
SUMMARY:Video production for social media
DESCRIPTION:Video captures people’s attention online and is important for getting your message across\, while engaging with your target audience. \nLearn how to: \n\nChoose what type of video to create to suit your business objectives\nPlan\, shoot\, edit\, and upload video without special kit or expertise.\nGet to know the various digital platforms that can be utilised to view and share video content.\nSee what editing apps are available and how to add music and subtitles.
URL:https://investinangus.com/event/video-production-for-social-media-20/
CATEGORIES:Digital Marketing
END:VEVENT
BEGIN:VEVENT
DTSTART;TZID=UTC:20220608T140000
DTEND;TZID=UTC:20220608T150000
DTSTAMP:20260422T133753
CREATED:20220502T133551Z
LAST-MODIFIED:20220502T133551Z
UID:10084550-1654696800-1654700400@investinangus.com
SUMMARY:Circular economy kickstarter
DESCRIPTION:Not sure what the circular economy is\, but want to find out more? This webinar is a tool to help businesses design\, develop and evaluate the circular business models of the future. The webinar poses strategies and case studies to challenge the status quo and inspire new solutions to today’s problems. \nThe event is targeted at start-ups or existing small/medium-sized enterprises who are at the beginning of their circular economy journey. \nThe workshop will provide inspiration on how to make a business more circular\, leaving participants with a better understanding of the circular economy and an action plan of next steps.
URL:https://investinangus.com/event/circular-economy-kickstarter/
CATEGORIES:Sustainable/Circular Economy
END:VEVENT
BEGIN:VEVENT
DTSTART;TZID=UTC:20220608T140000
DTEND;TZID=UTC:20220608T153000
DTSTAMP:20260422T133753
CREATED:20220527T144518Z
LAST-MODIFIED:20220527T144518Z
UID:10084770-1654696800-1654702200@investinangus.com
SUMMARY:A Practical Guide to Net Zero in Scotland
DESCRIPTION:Join us for a webinar brought to you by FSB and Carbon-Zero UK to find out more about how to begin your journey towards net zero. \nBrian Johnstone\, a Low Carbon Consultant\, will offer practical guidance on how to calculate your carbon emissions looking at three areas of emissions: \n\nDirect- activities owned or controlled by an organisation – Boilers\, Vehicles\, Fuels\, refrigerants;\nIndirect- Purchased Electricity\, heat\, steam or cooling\nOther Indirect Emissions – Business Travel\, Materials Purchased\, Inward Freighting Of Goods\, Non owned (leased) assets.\n\nDuring this session we’ll be assessing what those emissions mean. \n\nHow to create a plan to reduce the emissions.\nCost\, support and guidance to help businesses on the journey.\nOffsetting carbon and purchasing credits.\n\nThroughout\, participants will have the opportunity to ask questions using the chat function and the event will conclude with a Q&A.
URL:https://investinangus.com/event/a-practical-guide-to-net-zero-in-scotland/
CATEGORIES:Sustainable/Circular Economy
END:VEVENT
BEGIN:VEVENT
DTSTART;TZID=UTC:20220608T140000
DTEND;TZID=UTC:20220608T160000
DTSTAMP:20260422T133753
CREATED:20220516T143432Z
LAST-MODIFIED:20220516T143432Z
UID:10084644-1654696800-1654704000@investinangus.com
SUMMARY:Pinterest for business
DESCRIPTION:Thinking about using Pinterest to showcase your business? Move from being a beginner to knowing enough to gain commercial benefit from the use of Pinterest. \nWe will cover which type of audience you can reach via this platform and the factors and analytics such as cost and timing of posting content and how that can maximise impact.
URL:https://investinangus.com/event/pinterest-for-business-16/
CATEGORIES:Digital Marketing
END:VEVENT
END:VCALENDAR