BEGIN:VCALENDAR
VERSION:2.0
PRODID:-//Invest in Angus - ECPv6.15.17.1//NONSGML v1.0//EN
CALSCALE:GREGORIAN
METHOD:PUBLISH
X-ORIGINAL-URL:https://investinangus.com
X-WR-CALDESC:Events for Invest in Angus
REFRESH-INTERVAL;VALUE=DURATION:PT1H
X-Robots-Tag:noindex
X-PUBLISHED-TTL:PT1H
BEGIN:VTIMEZONE
TZID:UTC
BEGIN:STANDARD
TZOFFSETFROM:+0000
TZOFFSETTO:+0000
TZNAME:UTC
DTSTART:20210101T000000
END:STANDARD
END:VTIMEZONE
BEGIN:VEVENT
DTSTART;TZID=UTC:20220613T100000
DTEND;TZID=UTC:20220613T110000
DTSTAMP:20260422T133858
CREATED:20220523T091808Z
LAST-MODIFIED:20220523T091808Z
UID:10084761-1655114400-1655118000@investinangus.com
SUMMARY:Circular Economy & Green Skills
DESCRIPTION:Join us as we host a visit from Lorna Slater MSP\, Minister for Green Skills\, Circular Economy and Biodiversity\, at the University of Dundee. During the event we’ll hear more about the Circular Economy Bill Consultation and Green Skills\, allowing members to provide feedback on issues across Dundee & Angus. \nWe’ll also learn more about the MSIP Skills Academy. MSIP\, Skills Development Scotland and D&A College aim to establish a Skills Academy on the Michelin Scotland Innovation Parc to respond collectively to the emerging needs of the sustainable mobility and renewable energy industries and to support the creation of green jobs and skills in Scotland. With changes in the ways that people move around\, the energy market and emerging opportunities in other associated industries\, such as engineering\, construction\, transport and advanced manufacturing\, the need for a multidisciplinary skills training facility at the heart of MSIP campus is well established. As well as delivering training provision\, the Skills Academy will also provide innovation and partnership opportunities with the tenant companies and University partners and act as an attractor for FDI.
URL:https://investinangus.com/event/circular-economy-green-skills/
CATEGORIES:Sustainable/Circular Economy
END:VEVENT
BEGIN:VEVENT
DTSTART;TZID=UTC:20220613T100000
DTEND;TZID=UTC:20220613T113000
DTSTAMP:20260422T133858
CREATED:20220516T143629Z
LAST-MODIFIED:20220516T143629Z
UID:10084650-1655114400-1655119800@investinangus.com
SUMMARY:Enhance your business with digital
DESCRIPTION:Discover the opportunities using digital could bring your business as well as what you need to consider if your business isn’t online yet. This free webinar will give you the chance to up-skill your digital knowledge and explore some of the common fears and barriers associated with moving your business online\, using social media channels and much more. \nWe will cover: \n\nThe opportunities and benefits that doing more digitally could offer your business\nWebsites and ecommerce\nContent marketing and key digital channels\, including social media\, search and email\nOpportunities with cloud computing\nRemote working tools\nThe importance of cyber resilience
URL:https://investinangus.com/event/enhance-your-business-with-digital-16/
CATEGORIES:Business Planning,Digital Marketing,Technology
END:VEVENT
BEGIN:VEVENT
DTSTART;TZID=UTC:20220613T100000
DTEND;TZID=UTC:20220613T120000
DTSTAMP:20260422T133858
CREATED:20220523T090035Z
LAST-MODIFIED:20220523T090035Z
UID:10084729-1655114400-1655121600@investinangus.com
SUMMARY:Go green to grow your business
DESCRIPTION:This webinar will cover a variety of areas\, from “what have we learned from Covid?” through to “understanding your new greener customer”\, to “reducing your costs and upping your sales”\, highlighting where profit can be generated from developing your businesses green credentials. \nWe will look at: \n\nUnderstanding the problem\nWhat is sustainability and why it is important\nInnovation\nProfiting from being a green business\nTop tips for going green
URL:https://investinangus.com/event/go-green-to-grow-your-business-12/
CATEGORIES:Business Planning,Sustainable/Circular Economy
END:VEVENT
BEGIN:VEVENT
DTSTART;TZID=UTC:20220613T140000
DTEND;TZID=UTC:20220613T160000
DTSTAMP:20260422T133858
CREATED:20220516T144235Z
LAST-MODIFIED:20220516T144235Z
UID:10084653-1655128800-1655136000@investinangus.com
SUMMARY:Online user experience: How to analyse it and improve it
DESCRIPTION:In this webinar you will discover and define your business goals\, design a user-friendly experience and learn how to test and launch your online platform. \nOnce you have completed this webinar you will know more about how to continuously maintain and improve your digital platform\, acting on data and results. You will be able to engage with more customers (or potential customers) and sell your products and services to a wider audience.
URL:https://investinangus.com/event/online-user-experience-how-to-analyse-it-and-improve-it-13/
CATEGORIES:Digital Marketing
END:VEVENT
END:VCALENDAR