BEGIN:VCALENDAR
VERSION:2.0
PRODID:-//Invest in Angus - ECPv6.15.17.1//NONSGML v1.0//EN
CALSCALE:GREGORIAN
METHOD:PUBLISH
X-WR-CALNAME:Invest in Angus
X-ORIGINAL-URL:https://investinangus.com
X-WR-CALDESC:Events for Invest in Angus
REFRESH-INTERVAL;VALUE=DURATION:PT1H
X-Robots-Tag:noindex
X-PUBLISHED-TTL:PT1H
BEGIN:VTIMEZONE
TZID:UTC
BEGIN:STANDARD
TZOFFSETFROM:+0000
TZOFFSETTO:+0000
TZNAME:UTC
DTSTART:20210101T000000
END:STANDARD
END:VTIMEZONE
BEGIN:VEVENT
DTSTART;TZID=UTC:20220615T100000
DTEND;TZID=UTC:20220615T111500
DTSTAMP:20260422T133720
CREATED:20220601T142309Z
LAST-MODIFIED:20220601T142309Z
UID:10084796-1655287200-1655291700@investinangus.com
SUMMARY:Let's Talk Technical
DESCRIPTION:Work in engineering\, manufacturing or transport ? Then join our sector specific networking group and grow your contacts. \nYou are invited to join our monthly group of engineering\, manufacturing and transport businesses to discuss issues relating to those sectors. This group is designed to help you to develop specialist contacts in your area of industry and focusses on topics suggested by the group. We meet on the third Wednesday of every month for 75 minutes.
URL:https://investinangus.com/event/lets-talk-technical/
CATEGORIES:Networking
END:VEVENT
BEGIN:VEVENT
DTSTART;TZID=UTC:20220615T100000
DTEND;TZID=UTC:20220615T120000
DTSTAMP:20260422T133720
CREATED:20220516T144343Z
LAST-MODIFIED:20220516T144343Z
UID:10084657-1655287200-1655294400@investinangus.com
SUMMARY:Website analytics to improve your business and sales
DESCRIPTION:Google Analytics\, Search Console and Heat Mapping are incredibly powerful tools that help you better understand how your website is performing. This webinar will better equip you to be able to improve the performance and effectiveness of your website by: \n\nLearning about top landing pages and traffic sources\, to understanding organic search rankings and user interaction\,\nWe’ll show you around the Google Analytics interface\, help you view and understand key reports\, how to setup Goal conversions and more.
URL:https://investinangus.com/event/website-analytics-to-improve-your-business-and-sales-11/
CATEGORIES:Digital Marketing
END:VEVENT
BEGIN:VEVENT
DTSTART;TZID=UTC:20220615T140000
DTEND;TZID=UTC:20220615T150000
DTSTAMP:20260422T133720
CREATED:20220531T153125Z
LAST-MODIFIED:20220531T153125Z
UID:10084790-1655301600-1655305200@investinangus.com
SUMMARY:Offshore Wind Growth Partnership Development Grants Briefing Webinar
DESCRIPTION:The Offshore Wind Growth Partnership (OWGP) welcomes UK supply chain companies and potential new market entrants to join a virtual briefing on their latest Development Grant opportunities. \nThe OWGP is offering up to £500k funding for projects to help companies to improve their competitiveness or increase capability and enable a step-change in their growth. The funding competition aims to encourage more businesses into the offshore wind supply chain by helping to overcome barriers to diversification\, and for UK companies already working in the offshore wind sector to grow their market share through increased competitiveness and development of new products or services. \nIn this session you will also hear about some other upcoming as well as live activities OWGP are working on.
URL:https://investinangus.com/event/offshore-wind-growth-partnership-development-grants-briefing-webinar/
CATEGORIES:Offshore Wind,Sustainable/Circular Economy
END:VEVENT
BEGIN:VEVENT
DTSTART;TZID=UTC:20220615T140000
DTEND;TZID=UTC:20220615T160000
DTSTAMP:20260422T133720
CREATED:20220516T144425Z
LAST-MODIFIED:20220516T144425Z
UID:10084659-1655301600-1655308800@investinangus.com
SUMMARY:An introduction to business websites & what you need to consider
DESCRIPTION:This webinar will take you right from the beginning of website building. You will learn about: \n\nThe need to determine website objectives\nThe importance of knowing who your audience is and measuring results\nSetting clear calls to action and creating engaging content.\nCreate your brand’s visual identity online\, your site’s blueprint and how you can structure your site map.\nWhat’s involved in registering and maintaining your site content and options for hosting it.\n\nThis webinar will also offer guidance on when and how to outsource your website development. Covering topics such as where to find a contractor\, what to organise first and costing for the work.
URL:https://investinangus.com/event/an-introduction-to-business-websites-what-you-need-to-consider-13/
CATEGORIES:Digital Marketing
END:VEVENT
BEGIN:VEVENT
DTSTART;TZID=UTC:20220615T180000
DTEND;TZID=UTC:20220615T200000
DTSTAMP:20260422T133720
CREATED:20220523T090211Z
LAST-MODIFIED:20220523T090211Z
UID:10084733-1655316000-1655323200@investinangus.com
SUMMARY:Starting a business: Everything you need to know
DESCRIPTION:Whatever your reasons may be for considering being your own boss\, Business Gateway is here to support you and this webinar will help you decide if this is the right path for you. We will explore your potential customers\, the problems your business can solve for them and how you can do that better than the competition. Once that is clear\, we will look at the key activities and costs involved in starting and running the business and tools for determining the commercial viability before considering the main options for business structures (sole trader\, partnership\, or limited company). \nWe will look at: \n\nPersonal finance planning – how much do you need to earn?\nResearching your market – to develop an understanding of your market\, who your customers are\, understanding your competition and what the trends are within your chosen field.\nBusiness structure – what are the main business structures? How to decide which is right for you and how to register as a business.\nCreating your start-up action plan – an outline.
URL:https://investinangus.com/event/starting-a-business-everything-you-need-to-know-28/
CATEGORIES:Business Planning,Business Start-up
END:VEVENT
END:VCALENDAR