BEGIN:VCALENDAR
VERSION:2.0
PRODID:-//Invest in Angus - ECPv6.15.17.1//NONSGML v1.0//EN
CALSCALE:GREGORIAN
METHOD:PUBLISH
X-WR-CALNAME:Invest in Angus
X-ORIGINAL-URL:https://investinangus.com
X-WR-CALDESC:Events for Invest in Angus
REFRESH-INTERVAL;VALUE=DURATION:PT1H
X-Robots-Tag:noindex
X-PUBLISHED-TTL:PT1H
BEGIN:VTIMEZONE
TZID:UTC
BEGIN:STANDARD
TZOFFSETFROM:+0000
TZOFFSETTO:+0000
TZNAME:UTC
DTSTART:20210101T000000
END:STANDARD
END:VTIMEZONE
BEGIN:VEVENT
DTSTART;TZID=UTC:20220627T090000
DTEND;TZID=UTC:20220627T110000
DTSTAMP:20260422T115121
CREATED:20220621T100149Z
LAST-MODIFIED:20220621T100149Z
UID:10084914-1656320400-1656327600@investinangus.com
SUMMARY:Are you social media ready?
DESCRIPTION:BID St Andrews have teamed up DLR Media to bring you a series of workshops to help your business be ‘Open for Business’. \nWith the world famous 150th Open Championship coming to St Andrews this Summer\, is your business ready for demand? Will potential customers be able to find your business online? \nEvent: Are you social media ready? \nWith the world famous 150th Open Championship coming to St Andrews this Summer\, is your business social media ready? Will potential customers be able to find your business online? \nIn a world where everyone has an online presence\, it has now become more important than ever to make sure your potential customers can find your business online. \nLearn from expert speakers at DLR Media how to develop an active\, engaged audience on social media. \nDLR Media will cover everything your business needs to cover pre\, during and post event to keep your followers engaged and turn them into paying customers.
URL:https://investinangus.com/event/are-you-social-media-ready/
CATEGORIES:Digital Marketing
END:VEVENT
BEGIN:VEVENT
DTSTART;TZID=UTC:20220627T151500
DTEND;TZID=UTC:20220627T160000
DTSTAMP:20260422T115121
CREATED:20220601T142611Z
LAST-MODIFIED:20220601T142611Z
UID:10084800-1656342900-1656345600@investinangus.com
SUMMARY:In conversation with Professor Chris Whitty
DESCRIPTION:Interactive Q+A session with Professor Chris Whitty and Dr Susan Hopkins (UK Health Security Agency) to take questions from the small business community on COVID-19. \n\nCOVID-19 is not over.  Small businesses are still facing the impacts of COVID\, often in their workplaces and among their staff.  The prospect of future variants is a key concern\, especially as we look beyond the summer. \nProfessor Chris Whitty will be joined by Dr Susan Hopkins of UKHSA and FSB’s own Tina McKenzie and Craig Beaumont to take your questions around COVID-19\, the latest public health advice\, and the impact of COVID on small businesses like yours.  Is the pandemic effectively over?  Should we treat COVID-19 much like flu or other respiratory infections?  Should you still be wearing masks?  Should we be preparing for Winter 2022/23 to be as bad for COVID-19 impact/restrictions as 2021 and 2020?  Have non-Covid health impacts been considered enough? \nTo get your answers to questions like these\, submit them in advance and join the live event with our panel on 27 June.
URL:https://investinangus.com/event/in-conversation-with-professor-chris-whitty/
CATEGORIES:COVID-19
END:VEVENT
BEGIN:VEVENT
DTSTART;TZID=UTC:20220627T180000
DTEND;TZID=UTC:20220627T200000
DTSTAMP:20260422T115121
CREATED:20220530T101548Z
LAST-MODIFIED:20220530T101548Z
UID:10084780-1656352800-1656360000@investinangus.com
SUMMARY:Creating value for your customers
DESCRIPTION:It’s essential to consider your target market when developing your products and services to ensure you meet their needs and desires. Following this webinar\, you will understand the key steps you can take now to understand\, create and improve your value proposition. \nTopics covered include: \n\nHow to create value for your customers\nThe Value Proposition Canvas\nUnderstanding and maximising your value proposition\nThe Customer Journey Concept\nCustomer segments\, needs\, pains and gains
URL:https://investinangus.com/event/creating-value-for-your-customers-11/
CATEGORIES:Business Planning,Marketing
END:VEVENT
END:VCALENDAR