BEGIN:VCALENDAR
VERSION:2.0
PRODID:-//Invest in Angus - ECPv6.15.17.1//NONSGML v1.0//EN
CALSCALE:GREGORIAN
METHOD:PUBLISH
X-WR-CALNAME:Invest in Angus
X-ORIGINAL-URL:https://investinangus.com
X-WR-CALDESC:Events for Invest in Angus
REFRESH-INTERVAL;VALUE=DURATION:PT1H
X-Robots-Tag:noindex
X-PUBLISHED-TTL:PT1H
BEGIN:VTIMEZONE
TZID:UTC
BEGIN:STANDARD
TZOFFSETFROM:+0000
TZOFFSETTO:+0000
TZNAME:UTC
DTSTART:20210101T000000
END:STANDARD
END:VTIMEZONE
BEGIN:VEVENT
DTSTART;TZID=UTC:20220630T100000
DTEND;TZID=UTC:20220630T113000
DTSTAMP:20260422T115122
CREATED:20220516T144842Z
LAST-MODIFIED:20220516T144842Z
UID:10084671-1656583200-1656588600@investinangus.com
SUMMARY:Protect your business and data from hackers
DESCRIPTION:Join us to look at why it’s important for all businesses to give their online security thought and consideration. We will take you through some simple steps to minimise the risks. We will also direct you to available support to help you and your business. \nDuring the session will cover: \n\nCyber security and why it matters for businesses\nSteps to take to protect yourself including (Backups\, Malware protection\, Mobile devices\, VPNs\, Firewalls\, Passwords and more secure authentication\, avoiding scams and fraud)\nBasic Good Practice\, to prepare and understand what to do if the worst happens.
URL:https://investinangus.com/event/protect-your-business-and-data-from-hackers-17/
CATEGORIES:Business Planning,Data Protection,Technology
END:VEVENT
BEGIN:VEVENT
DTSTART;TZID=UTC:20220630T130000
DTEND;TZID=UTC:20220630T150000
DTSTAMP:20260422T115122
CREATED:20220523T091346Z
LAST-MODIFIED:20220523T091346Z
UID:10084755-1656594000-1656601200@investinangus.com
SUMMARY:Bookkeeping and finance: The essentials for business
DESCRIPTION:This webinar is for those who are entering business for the first time or require an understanding of what is involved in financially managing a business\, including developing basic bookkeeping\, and creating a profit and loss account. You will also get an understanding of what expenses the business can claim and then how to fund both start up and growth. At the end of the session\, you will receive a workbook on excel to help you manage and monitor costs and sales. \nAfter this webinar\, you will be able to: \n\nImplement basic bookkeeping skills across your business\nCreate a profit and loss account\nUnderstand what expenses can and cannot be claimed\nUse financial management to increase revenues and profits\nUnderstand how you can fund your business
URL:https://investinangus.com/event/bookkeeping-and-finance-the-essentials-for-business-27/
CATEGORIES:Finance
END:VEVENT
BEGIN:VEVENT
DTSTART;TZID=UTC:20220630T160000
DTEND;TZID=UTC:20220630T170000
DTSTAMP:20260422T115122
CREATED:20220530T102032Z
LAST-MODIFIED:20220530T102032Z
UID:10084784-1656604800-1656608400@investinangus.com
SUMMARY:Can Tourism Help Tayside #RaceToZero?
DESCRIPTION:Tourism is evolving fast. COVID-19\, the climate and biodiversity crises and new major geopolitical instability is changing how people travel\, where to and why; even whether they can travel at all. \nIn this state of global ‘permacrisis’\, new questions are being asked about tourism and old assumptions are being challenged – Is travel a right or a privilege? Should growth in tourism continue to be encouraged and who gets to decide? How can destinations continue to develop in the light of this new operating environment and who pays?
URL:https://investinangus.com/event/can-tourism-help-tayside-racetozero/
CATEGORIES:Sustainable/Circular Economy,Tourism
END:VEVENT
END:VCALENDAR