BEGIN:VCALENDAR
VERSION:2.0
PRODID:-//Invest in Angus - ECPv6.15.17.1//NONSGML v1.0//EN
CALSCALE:GREGORIAN
METHOD:PUBLISH
X-ORIGINAL-URL:https://investinangus.com
X-WR-CALDESC:Events for Invest in Angus
REFRESH-INTERVAL;VALUE=DURATION:PT1H
X-Robots-Tag:noindex
X-PUBLISHED-TTL:PT1H
BEGIN:VTIMEZONE
TZID:UTC
BEGIN:STANDARD
TZOFFSETFROM:+0000
TZOFFSETTO:+0000
TZNAME:UTC
DTSTART:20210101T000000
END:STANDARD
END:VTIMEZONE
BEGIN:VEVENT
DTSTART;TZID=UTC:20220712T100000
DTEND;TZID=UTC:20220712T120000
DTSTAMP:20260422T101244
CREATED:20220627T085633Z
LAST-MODIFIED:20220627T085633Z
UID:10084931-1657620000-1657627200@investinangus.com
SUMMARY:The essentials of bookkeeping and what expenses you can claim
DESCRIPTION:This webinar is for those who are entering business for the first time or require an understanding of what is involved in financially managing a business\, including basic bookkeeping\, and creating a profit and loss account. You will also get an understanding of what expenses the business can claim and then how to fund your business. At the end of the session\, you will receive a workbook on excel to help you manage and monitor costs and sales. \nAt the end of this session\, you will be able to: \n\nImplement basic bookkeeping skills across your business\nCreate a profit and loss account\nUnderstand what expenses can and cannot be claimed\nUse financial management to increase revenues and profits\nUnderstand capital and revenue costs and how they are treated
URL:https://investinangus.com/event/the-essentials-of-bookkeeping-and-what-expenses-you-can-claim/
CATEGORIES:Business Start-up,Finance
END:VEVENT
BEGIN:VEVENT
DTSTART;TZID=UTC:20220712T140000
DTEND;TZID=UTC:20220712T160000
DTSTAMP:20260422T101244
CREATED:20220704T102027Z
LAST-MODIFIED:20220704T102027Z
UID:10085003-1657634400-1657641600@investinangus.com
SUMMARY:LinkedIn for business
DESCRIPTION:No longer just an online CV\, LinkedIn can be an incredibly powerful – and profitable – business tool. Like any tool\, you must learn how to use it\, and this webinar gives you expert guidance. \nYou will: \n\nLearn how to create a LinkedIn strategy to boost your business reputation via marketing and brand promotion initiatives.\nLearn the difference between personal and company profiles and how to optimise them for both maximum visibility and brand awareness.\nUnderstand that content is king on LinkedIn\, and we’ll show you how to plan and produce captivating content that enriches your brand.
URL:https://investinangus.com/event/linkedin-for-business-17/
CATEGORIES:Digital Marketing
END:VEVENT
BEGIN:VEVENT
DTSTART;TZID=UTC:20220712T180000
DTEND;TZID=UTC:20220712T200000
DTSTAMP:20260422T101244
CREATED:20220613T102737Z
LAST-MODIFIED:20220613T102737Z
UID:10084834-1657648800-1657656000@investinangus.com
SUMMARY:Market Research Made Easy
DESCRIPTION:The workshop will look at: \n\nthe role of marketing in your business\nidentifying your target customers\nidentifying the strengths and weaknesses of your competitors\nmarket research\n\nThere will also be information on additional services from Business Gateway and details of other workshops which may be appropriate for you. \nPlease note: This is a webinar and will be held via Zoom and is aimed at businesses in Dundee\, Angus and Perth.
URL:https://investinangus.com/event/market-research-made-easy-3/
CATEGORIES:Marketing
END:VEVENT
BEGIN:VEVENT
DTSTART;TZID=UTC:20220712T180000
DTEND;TZID=UTC:20220712T200000
DTSTAMP:20260422T101244
CREATED:20220704T102121Z
LAST-MODIFIED:20220704T102121Z
UID:10085005-1657648800-1657656000@investinangus.com
SUMMARY:Cloud for business
DESCRIPTION:Your digital back office is the technology and tools that you use to manage and grow your business. In this webinar\, we’ll look at back-office strategies and explore the range of cloud services on the market that can support you with keeping great customer relations\, managing resources\, keeping organised and communicating efficiently. \nBy the end of this webinar\, you will be able to: \n\nUnderstand the areas of your digital back-office and the impact each area can have on the efficiency and growth of your business.\nUse up-to-date knowledge on current cloud services and tools to help you with upgrading your digital back office to be more secure\, scalable and efficient.\nUse real-world examples to help you understand different cloud-based platforms\, their functions\, and their costs.\nMake informed decisions about improving your digital back-office in the future based on scalability\, security\, efficiency and affordability.
URL:https://investinangus.com/event/cloud-for-business-16/
CATEGORIES:Technology
END:VEVENT
END:VCALENDAR