BEGIN:VCALENDAR
VERSION:2.0
PRODID:-//Invest in Angus - ECPv6.15.17.1//NONSGML v1.0//EN
CALSCALE:GREGORIAN
METHOD:PUBLISH
X-WR-CALNAME:Invest in Angus
X-ORIGINAL-URL:https://investinangus.com
X-WR-CALDESC:Events for Invest in Angus
REFRESH-INTERVAL;VALUE=DURATION:PT1H
X-Robots-Tag:noindex
X-PUBLISHED-TTL:PT1H
BEGIN:VTIMEZONE
TZID:UTC
BEGIN:STANDARD
TZOFFSETFROM:+0000
TZOFFSETTO:+0000
TZNAME:UTC
DTSTART:20210101T000000
END:STANDARD
END:VTIMEZONE
BEGIN:VEVENT
DTSTART;TZID=UTC:20220718T140000
DTEND;TZID=UTC:20220718T160000
DTSTAMP:20260422T115112
CREATED:20220704T102911Z
LAST-MODIFIED:20220704T102911Z
UID:10085015-1658152800-1658160000@investinangus.com
SUMMARY:Twitter for business
DESCRIPTION:This webinar will help you develop and hone your social media strategy in order to amplify your message using Twitter. You will gain a deeper understanding of where Twitter fits into your overall plan\, and how it differs from other platforms. \nYou will also learn about: \n\nWhat makes a good Twitter profile (and the options available to you).\nTwitter best practice content and what makes the perfect tweet.\nDashboards such as Hootsuite to help you manage and integrate your social media accounts and schedule content.\nAdvanced techniques for social listening and pro-actively finding content and customers.\nThe basics of Twitter paid advertising.
URL:https://investinangus.com/event/twitter-for-business-13/
CATEGORIES:Digital Marketing
END:VEVENT
BEGIN:VEVENT
DTSTART;TZID=UTC:20220718T180000
DTEND;TZID=UTC:20220718T200000
DTSTAMP:20260422T115112
CREATED:20220704T103014Z
LAST-MODIFIED:20220704T103014Z
UID:10085018-1658167200-1658174400@investinangus.com
SUMMARY:Paid for advertising
DESCRIPTION:This webinar is designed to help you make more informed decisions about where paid-for advertising fits in to your digital marketing strategy. During the webinar we will discuss various key considerations of paid advertising\, provide advice on planning\, explore platform options and look at measuring the impact of your ads. \nBy the end of the webinar\, you’ll have a better understanding of: \n\nKey concepts of paid ads and how it fits within your strategy\nBest practice during ads setup\nImportance of planning for paid ads\nHow to evaluate and understand performance of paid ads
URL:https://investinangus.com/event/paid-for-advertising-15/
CATEGORIES:Digital Marketing
END:VEVENT
END:VCALENDAR