BEGIN:VCALENDAR
VERSION:2.0
PRODID:-//Invest in Angus - ECPv6.15.17.1//NONSGML v1.0//EN
CALSCALE:GREGORIAN
METHOD:PUBLISH
X-ORIGINAL-URL:https://investinangus.com
X-WR-CALDESC:Events for Invest in Angus
REFRESH-INTERVAL;VALUE=DURATION:PT1H
X-Robots-Tag:noindex
X-PUBLISHED-TTL:PT1H
BEGIN:VTIMEZONE
TZID:UTC
BEGIN:STANDARD
TZOFFSETFROM:+0000
TZOFFSETTO:+0000
TZNAME:UTC
DTSTART:20210101T000000
END:STANDARD
END:VTIMEZONE
BEGIN:VEVENT
DTSTART;TZID=UTC:20220728T090000
DTEND;TZID=UTC:20220728T170000
DTSTAMP:20260422T115238
CREATED:20220704T105630Z
LAST-MODIFIED:20220704T105630Z
UID:10085041-1658998800-1659027600@investinangus.com
SUMMARY:Ask an Expert: Tax Surgery
DESCRIPTION:With over 20 years experience working in accountancy\, Lauren was previously employed as a Senior Tax Manager at Scotland’s largest firm of independent chartered accountants\, Johnston Carmichael. \nSo whether you’d like to know what business expenses you can claim\, if you should register as a limited company\, or how to calculate your tax\, no query is too big or too small! \nPlease note these appointments are for Dundee\, Angus and Perth based businesses.
URL:https://investinangus.com/event/ask-an-expert-tax-surgery-3/
CATEGORIES:Finance
END:VEVENT
BEGIN:VEVENT
DTSTART;TZID=UTC:20220728T100000
DTEND;TZID=UTC:20220728T120000
DTSTAMP:20260422T115238
CREATED:20220704T105722Z
LAST-MODIFIED:20220704T105722Z
UID:10085043-1659002400-1659009600@investinangus.com
SUMMARY:How to improve your Google search rankings - Part 2: Off page optimisation & technical considerations
DESCRIPTION:Join us as we take a further\, more detailed look at how the Google search engines indexes and ranks websites based on a number of external (off-page) and technical factors. Implementing this learning will increase your chances of customers discovering your business through Google – the world’s leading research tool. \nWe will cover: \n\nHow to block or control what websites are allowed to ‘index’\nThe importance of a fast loading mobile website\nHow security and usability influence Google\nWhat “off-page” optimisation means\, and tactics to generate back-links\nThe importance of Local SEO\, and why a “Google Business Profile” is vital
URL:https://investinangus.com/event/how-to-improve-your-google-search-rankings-part-2-off-page-optimisation-technical-considerations/
CATEGORIES:Digital Marketing
END:VEVENT
BEGIN:VEVENT
DTSTART;TZID=UTC:20220728T130000
DTEND;TZID=UTC:20220728T140000
DTSTAMP:20260422T115238
CREATED:20220711T092142Z
LAST-MODIFIED:20220711T092142Z
UID:10085067-1659013200-1659016800@investinangus.com
SUMMARY:Living Circular – reducing food waste
DESCRIPTION:There are two complementary consultations: proposals for a Circular Economy Bill and a Route Map to 2025 and beyond.  \n\n\nBoth consultations outline key activities to move Scotland towards a more circular economy.  The Circular Economy Bill will establish the legislative framework to support Scotland’s transition to a zero waste and circular economy\, significantly increase reuse and recycling rates\, and modernise and improve waste and recycling services.  The Route Map is specifically aimed at maximising progress towards our waste and recycling targets. \n\nBy modernising waste and recycling services across Scotland\, we will make it easy for people to do the right thing for the planet. \n\n\nIn this third session of the series\, we will be specifically talking about reducing food waste\, focusing on this particular package of the Route Map.  Tackling food waste is one of the most important ways we can reduce the carbon impact of Scotland’s waste.; \n\n\nJoining us on the panel:\n\n\n\nCampbell Reid – Research Analyst\, Zero Waste Scotland\nOther guest speakers will be announced in due course.
URL:https://investinangus.com/event/living-circular-reducing-food-waste/
CATEGORIES:Sustainable/Circular Economy
END:VEVENT
BEGIN:VEVENT
DTSTART;TZID=UTC:20220728T130000
DTEND;TZID=UTC:20220728T150000
DTSTAMP:20260422T115238
CREATED:20220704T105814Z
LAST-MODIFIED:20220704T105814Z
UID:10085045-1659013200-1659020400@investinangus.com
SUMMARY:Email marketing for business
DESCRIPTION:Connecting with your audience through effective email marketing campaigns is a great way to improve your marketing strategy and boost sales. In this webinar\, we’ll explore what makes an email campaign effective and ensure you are able to: \n\nSegment your audiences and target them effectively\nCreate a quality marketing email and measure its effectiveness\nIdentify the most suitable platforms and tools for email marketing campaigns\, including different paid-for account levels\nIdentify the different components of a successful email campaign\, including design\, HTML v text and other formats\nUse reporting and key metrics to make sure your campaigns are successful\nBe compliant with legal requirements relating to email communications
URL:https://investinangus.com/event/email-marketing-for-business-17/
CATEGORIES:Digital Marketing
END:VEVENT
BEGIN:VEVENT
DTSTART;TZID=UTC:20220728T180000
DTEND;TZID=UTC:20220728T190000
DTSTAMP:20260422T115238
CREATED:20220627T092645Z
LAST-MODIFIED:20220627T092645Z
UID:10084951-1659031200-1659034800@investinangus.com
SUMMARY:Learning Zone - How to run a more efficient business
DESCRIPTION:This session will look at reviewing costs and running an efficient business. \n\nGovernance and process\nGood financial management\nUnderstanding your sales and costs\nTargeting only profitable customers\nReduce stock\nCut wastage (process\, people\, and projects)
URL:https://investinangus.com/event/learning-zone-how-to-run-a-more-efficient-business/
CATEGORIES:Business Planning
END:VEVENT
END:VCALENDAR