BEGIN:VCALENDAR
VERSION:2.0
PRODID:-//Invest in Angus - ECPv6.15.17.1//NONSGML v1.0//EN
CALSCALE:GREGORIAN
METHOD:PUBLISH
X-ORIGINAL-URL:https://investinangus.com
X-WR-CALDESC:Events for Invest in Angus
REFRESH-INTERVAL;VALUE=DURATION:PT1H
X-Robots-Tag:noindex
X-PUBLISHED-TTL:PT1H
BEGIN:VTIMEZONE
TZID:UTC
BEGIN:STANDARD
TZOFFSETFROM:+0000
TZOFFSETTO:+0000
TZNAME:UTC
DTSTART:20210101T000000
END:STANDARD
END:VTIMEZONE
BEGIN:VEVENT
DTSTART;TZID=UTC:20220729T100000
DTEND;TZID=UTC:20220729T120000
DTSTAMP:20260422T115238
CREATED:20220704T105911Z
LAST-MODIFIED:20220704T105911Z
UID:10085047-1659088800-1659096000@investinangus.com
SUMMARY:The business benefits of running a sustainable business
DESCRIPTION:Your customer has changed\, they are looking to source their products from companies who have strong green credentials. This webinar will show how by becoming more sustainable you can both increase sales and increase profits. \nWe will look at: \n\nUnderstanding the problem\nWhat is sustainability and why it is important\nInnovation\nProfiting from being a green business\nEmbracing a purpose beyond profit\nThe Sustainability Triple Bottom Line\nDeveloping your own green charter\nExamples of those practicing this way of growth with remarkable success\nTop tips for going green
URL:https://investinangus.com/event/the-business-benefits-of-running-a-sustainable-business/
CATEGORIES:Sustainable/Circular Economy
END:VEVENT
BEGIN:VEVENT
DTSTART;TZID=UTC:20220729T140000
DTEND;TZID=UTC:20220729T160000
DTSTAMP:20260422T115238
CREATED:20220725T133417Z
LAST-MODIFIED:20220725T133417Z
UID:10085095-1659103200-1659110400@investinangus.com
SUMMARY:Photography for online business
DESCRIPTION:During this webinar you will: \n\nDiscover the basic ‘dos and don’ts’ of taking your own pictures\, editing them and uploading them onto digital platforms.\nSee some real-life examples of posts that demonstrate good\, bad and indifferent use for businesses.
URL:https://investinangus.com/event/photography-for-online-business-14/
CATEGORIES:Digital Marketing
END:VEVENT
END:VCALENDAR