BEGIN:VCALENDAR
VERSION:2.0
PRODID:-//Invest in Angus - ECPv6.15.17.1//NONSGML v1.0//EN
CALSCALE:GREGORIAN
METHOD:PUBLISH
X-WR-CALNAME:Invest in Angus
X-ORIGINAL-URL:https://investinangus.com
X-WR-CALDESC:Events for Invest in Angus
REFRESH-INTERVAL;VALUE=DURATION:PT1H
X-Robots-Tag:noindex
X-PUBLISHED-TTL:PT1H
BEGIN:VTIMEZONE
TZID:UTC
BEGIN:STANDARD
TZOFFSETFROM:+0000
TZOFFSETTO:+0000
TZNAME:UTC
DTSTART:20210101T000000
END:STANDARD
END:VTIMEZONE
BEGIN:VEVENT
DTSTART;TZID=UTC:20220803T100000
DTEND;TZID=UTC:20220803T120000
DTSTAMP:20260422T083356
CREATED:20220725T133600Z
LAST-MODIFIED:20220725T133600Z
UID:10085099-1659520800-1659528000@investinangus.com
SUMMARY:The Basics of trading on Ebay\, Etsy and Amazon Marketplaces
DESCRIPTION:As a consumer\, you’ve almost certainly purchased online from one of the global marketplaces such as Ebay\, Etsy or Amazon\, so why wouldn’t your customers do the same and buy from you? \nWe will cover:\n \n\nWhy to sell via a Marketplace\, your own website\, or both\nChoosing the right Marketplace – looking specificly at Ebay\, Etsy and Amazon\n\nUnderstanding Profit Margins and how Marketplace fees affect them\n\nAn overview of some of the rules and regulations enforced by these platforms\nTrading internationally – what’s possible?\n\nYou’ll leave with a better understanding of how online marketplaces can help you reach your target audience\, which marketplace is best for you\, and how to get started selling quickly and easily.
URL:https://investinangus.com/event/the-basics-of-trading-on-ebay-etsy-and-amazon-marketplaces/
CATEGORIES:Digital Marketing
END:VEVENT
BEGIN:VEVENT
DTSTART;TZID=UTC:20220803T140000
DTEND;TZID=UTC:20220803T160000
DTSTAMP:20260422T083356
CREATED:20220725T133650Z
LAST-MODIFIED:20220725T133650Z
UID:10085101-1659535200-1659542400@investinangus.com
SUMMARY:Pinterest for business
DESCRIPTION:A commonly used tool for those researching products and services for personal life (clothing ideas\, holidays inspiration\, cooking alternatives!)\, but how can it benefit your business? Move from being a beginner to knowing enough to gain commercial benefit from the use of Pinterest. \nDuring this webinar we’ll help you better understand: \n\nWho is using Pinterest and what are they looking for?\nHow to setup your business profile\nKey features to use within Pinterest\nMeasuring success and engagement
URL:https://investinangus.com/event/pinterest-for-business-18/
CATEGORIES:Digital Marketing
END:VEVENT
END:VCALENDAR