BEGIN:VCALENDAR
VERSION:2.0
PRODID:-//Invest in Angus - ECPv6.15.17.1//NONSGML v1.0//EN
CALSCALE:GREGORIAN
METHOD:PUBLISH
X-ORIGINAL-URL:https://investinangus.com
X-WR-CALDESC:Events for Invest in Angus
REFRESH-INTERVAL;VALUE=DURATION:PT1H
X-Robots-Tag:noindex
X-PUBLISHED-TTL:PT1H
BEGIN:VTIMEZONE
TZID:UTC
BEGIN:STANDARD
TZOFFSETFROM:+0000
TZOFFSETTO:+0000
TZNAME:UTC
DTSTART:20210101T000000
END:STANDARD
END:VTIMEZONE
BEGIN:VEVENT
DTSTART;TZID=UTC:20220804T100000
DTEND;TZID=UTC:20220804T120000
DTSTAMP:20260422T083552
CREATED:20220725T133742Z
LAST-MODIFIED:20220725T133742Z
UID:10085103-1659607200-1659614400@investinangus.com
SUMMARY:Upgrade your business marketing with a CRM system
DESCRIPTION:From organising how you reach new customers to tracking the new deals you close\, a Customer Relationship Management (CRM) system is a great tool to help your business grow. In this webinar\, we’ll show you how to connect a CRM to your website\, track potential new customers\, manage your business activities\, nurture your leads and track successful\, new business. \nBy the end of this webinar\, you will understand: \n\nWhat a CRM is\, why they’re important and the difference between some of the best CRMs offered to businesses.\nHow to use HubSpot\, a free CRM\, for managing contacts\, organising sales processes and creating reports.\nHow to improve your sales and marketing processes by using CRM task management\, meeting scheduling and email marketing.\nYour legal responsibilities when capturing customer information.
URL:https://investinangus.com/event/upgrade-your-business-marketing-with-a-crm-system-2/
CATEGORIES:Digital Marketing
END:VEVENT
BEGIN:VEVENT
DTSTART;TZID=UTC:20220804T130000
DTEND;TZID=UTC:20220804T140000
DTSTAMP:20260422T083552
CREATED:20220711T092248Z
LAST-MODIFIED:20220711T092248Z
UID:10085069-1659618000-1659621600@investinangus.com
SUMMARY:Living Circular – minimising the impact of disposal
DESCRIPTION:There are two complementary consultations: proposals for a Circular Economy Bill and a Route Map to 2025 and beyond.  \n\n\nBoth consultations outline key activities to move Scotland towards a more circular economy.  The Circular Economy Bill will establish the legislative framework to support Scotland’s transition to a zero waste and circular economy\, significantly increase reuse and recycling rates\, and modernise and improve waste and recycling services.  The Route Map is specifically aimed at maximising progress towards our waste and recycling targets. \n\nBy modernising waste and recycling services across Scotland\, we will make it easy for people to do the right thing for the planet. In this fourth session of the series\, we will be specifically talking about minimising the impact of disposal\, focusing on this particular package of the Route Map. \n\nJoining us on the panel:\n\n\n\nJane Beasley – Policy Lead\, Route Map\, Zero Waste Scotland\nRay Georgeson – Head of Resource Management\, Waste and Recycling\, Zero Waste Scotland\nOther guest speakers will be announced in due course.
URL:https://investinangus.com/event/living-circular-minimising-the-impact-of-disposal/
CATEGORIES:Sustainable/Circular Economy
END:VEVENT
END:VCALENDAR