BEGIN:VCALENDAR
VERSION:2.0
PRODID:-//Invest in Angus - ECPv6.15.17.1//NONSGML v1.0//EN
CALSCALE:GREGORIAN
METHOD:PUBLISH
X-ORIGINAL-URL:https://investinangus.com
X-WR-CALDESC:Events for Invest in Angus
REFRESH-INTERVAL;VALUE=DURATION:PT1H
X-Robots-Tag:noindex
X-PUBLISHED-TTL:PT1H
BEGIN:VTIMEZONE
TZID:UTC
BEGIN:STANDARD
TZOFFSETFROM:+0000
TZOFFSETTO:+0000
TZNAME:UTC
DTSTART:20210101T000000
END:STANDARD
END:VTIMEZONE
BEGIN:VEVENT
DTSTART;TZID=UTC:20220809T100000
DTEND;TZID=UTC:20220809T120000
DTSTAMP:20260422T083541
CREATED:20220725T134101Z
LAST-MODIFIED:20220725T134101Z
UID:10085111-1660039200-1660046400@investinangus.com
SUMMARY:Producing engaging online content
DESCRIPTION:Producing quality content is an excellent way of helping your customers develop a meaningful relationship with your brand\, services and products. In this webinar we will show you how to source and develop a variety of content for your website and social channels. Ideal for businesses that already have a business website or use social media and now want to take it a step further\, and develop the skills to show your audience that you are a trusted operator in your field. \nThis session will help you: \n\nUnderstand what kind of content your customers are looking for\nSource\, write and deliver that content\nAmplify your brand and message and boost engagement online
URL:https://investinangus.com/event/producing-engaging-online-content-16/
CATEGORIES:Digital Marketing
END:VEVENT
BEGIN:VEVENT
DTSTART;TZID=UTC:20220809T130000
DTEND;TZID=UTC:20220809T153000
DTSTAMP:20260422T083541
CREATED:20220802T150631Z
LAST-MODIFIED:20220802T150631Z
UID:10085203-1660050000-1660059000@investinangus.com
SUMMARY:Building a Strong Future for Tourism in Angus
DESCRIPTION:Register your place and learn more about building a strong future for your tourism business. \nThis workshop\, held in partnership with the Angus Tourism Cooperative\, is open to Angus tourism businesses\, community groups and volunteers to come along and hear from three key speakers who will provide insights into the future of tourism. \nFollowing the speakers\, there will be four groups focusing on discussions around preparing Angus for the future of tourism. This is an opportunity to share information and ideas on your vision for the future\, spark new connections and work together on innovative collaborative projects. \nSpeakers \nDuncan Stewart\, 56 Degree Insights \nDuncan will present the latest market insights and trends in tourism and explain how you can use these to inform business decisions. You will also learn where you can access data easily using your own digital tools as well as free published data. \nStewart Walker\, BTS Consulting \nStewart has been appointed by Angus Council to support delivery of the Strategic Tourism Infrastructure Development Plan (STIDP) for Angus. Stewart has been engaging tourism stakeholders to identify issues arising from an increase in tourism and he will share some of these key findings. Stewart will share why it’s so important to have a STIDP plan and what the final report will consist of. \nRhonda McFarlane\, Funding Officer\, Angus Council \nRhonda has supported businesses and community groups with funding applications for eight years. Rhonda will present a flavour of the funding that is currently available for different projects and where you can access this information. Learn how Angus Council can help support your funding application. \nWorkshops \n\nWhat are the future ambitions for your business?\nWhat infrastructure improvements would you like to see that will improve/enhance the customer experience/journey in Angus?\nPreparing Angus to welcome visitors of the future – blue sky thinking.\nWhat help/support do you need to grow and develop your business?\n\nAgenda \n1pm – Arrival and networking \n1.30pm – Welcome and presentations from speakers \n2pm – Comfort break \n2.10pm – 4 x 20 minute workshops \n3.30pm – Networking & close
URL:https://investinangus.com/event/building-a-strong-future-for-tourism-in-angus/
LOCATION:Links Hotel\, Mid Links\, Montrose\, DD10 8RL
CATEGORIES:Tourism
END:VEVENT
BEGIN:VEVENT
DTSTART;TZID=UTC:20220809T180000
DTEND;TZID=UTC:20220809T200000
DTSTAMP:20260422T083541
CREATED:20220613T103913Z
LAST-MODIFIED:20220613T103913Z
UID:10084856-1660068000-1660075200@investinangus.com
SUMMARY:Market Research Made Easy
DESCRIPTION:The workshop will look at: \n\nthe role of marketing in your business\nidentifying your target customers\nidentifying the strengths and weaknesses of your competitors\nmarket research\n\nThere will also be information on additional services from Business Gateway and details of other webinars which may be appropriate for you.  \nThis webinar is for businesses based in Dundee\, Angus and Perth.
URL:https://investinangus.com/event/market-research-made-easy-4/
CATEGORIES:Marketing
END:VEVENT
END:VCALENDAR