BEGIN:VCALENDAR
VERSION:2.0
PRODID:-//Invest in Angus - ECPv6.15.17.1//NONSGML v1.0//EN
CALSCALE:GREGORIAN
METHOD:PUBLISH
X-WR-CALNAME:Invest in Angus
X-ORIGINAL-URL:https://investinangus.com
X-WR-CALDESC:Events for Invest in Angus
REFRESH-INTERVAL;VALUE=DURATION:PT1H
X-Robots-Tag:noindex
X-PUBLISHED-TTL:PT1H
BEGIN:VTIMEZONE
TZID:UTC
BEGIN:STANDARD
TZOFFSETFROM:+0000
TZOFFSETTO:+0000
TZNAME:UTC
DTSTART:20210101T000000
END:STANDARD
END:VTIMEZONE
BEGIN:VEVENT
DTSTART;TZID=UTC:20220810T100000
DTEND;TZID=UTC:20220810T120000
DTSTAMP:20260422T083359
CREATED:20220725T134236Z
LAST-MODIFIED:20220725T134236Z
UID:10085113-1660125600-1660132800@investinangus.com
SUMMARY:Build a customer focused business
DESCRIPTION:Did you know that a returning customer will typically spend more than two thirds more with your business than a brand new one? \nDid you know that retaining just 5% of your customer base can give an increase of over 20% in profits for your business? \nHaving an effective strategy in place for your business to deliver great customer service is critical for your business. \nWe will cover: \n\nWhy good customer service is critical for business growth\nWhat are the essentials of delivering great customer service and how should this be delivered?\nHow to effectively manage different types of customers and their expectations\nHow\, why\, and when you should measure the service a business delivers\nHow to use the service provided to promote a business and enable growth
URL:https://investinangus.com/event/build-a-customer-focused-business-2/
CATEGORIES:Business Planning
END:VEVENT
BEGIN:VEVENT
DTSTART;TZID=UTC:20220810T140000
DTEND;TZID=UTC:20220810T160000
DTSTAMP:20260422T083359
CREATED:20220725T134328Z
LAST-MODIFIED:20220725T134328Z
UID:10085115-1660140000-1660147200@investinangus.com
SUMMARY:Twitter for business
DESCRIPTION:This webinar will help you develop and hone your social media strategy in order to amplify your message using Twitter. You will gain a deeper understanding of where Twitter fits into your overall plan\, and how it differs from other platforms. \nYou will also learn about: \n\nWhat makes a good Twitter profile (and the options available to you).\nTwitter best practice content and what makes the perfect tweet.\nDashboards such as Hootsuite to help you manage and integrate your social media accounts and schedule content.\nAdvanced techniques for social listening and pro-actively finding content and customers.\nThe basics of Twitter paid advertising.
URL:https://investinangus.com/event/twitter-for-business-14/
CATEGORIES:Digital Marketing
END:VEVENT
BEGIN:VEVENT
DTSTART;TZID=UTC:20220810T180000
DTEND;TZID=UTC:20220810T200000
DTSTAMP:20260422T083359
CREATED:20220725T134434Z
LAST-MODIFIED:20220725T134434Z
UID:10085117-1660154400-1660161600@investinangus.com
SUMMARY:Making digital content accessible
DESCRIPTION:Everyone consumes and understands information differently\, with some facing additional challenges that aren’t always considered. In this webinar\, we’ll explore the challenges that people can have when accessing digital content and we’ll look at the ways you can improve your digital content to be inclusive and considerate for all. \nBy the end of this webinar\, you will be able to: \n\nUnderstand and consider the barriers and challenges faced by others when accessing digital content.\nAssess your digital content on how easy it is for others to access\, consume and understand.\nReview your website content with an understanding of what adjustments you should make to ensure that your content is catering to all.\nUse social media functions and tools to help make your content more accessible.\nUnderstand and use an ‘Accessibility Ready Checklist’ for any of your content to ensure you are designing and developing content for all of your audience.
URL:https://investinangus.com/event/making-digital-content-accessible-2/
CATEGORIES:Digital Marketing
END:VEVENT
END:VCALENDAR