BEGIN:VCALENDAR
VERSION:2.0
PRODID:-//Invest in Angus - ECPv6.15.17.1//NONSGML v1.0//EN
CALSCALE:GREGORIAN
METHOD:PUBLISH
X-WR-CALNAME:Invest in Angus
X-ORIGINAL-URL:https://investinangus.com
X-WR-CALDESC:Events for Invest in Angus
REFRESH-INTERVAL;VALUE=DURATION:PT1H
X-Robots-Tag:noindex
X-PUBLISHED-TTL:PT1H
BEGIN:VTIMEZONE
TZID:UTC
BEGIN:STANDARD
TZOFFSETFROM:+0000
TZOFFSETTO:+0000
TZNAME:UTC
DTSTART:20210101T000000
END:STANDARD
END:VTIMEZONE
BEGIN:VEVENT
DTSTART;TZID=UTC:20220812T100000
DTEND;TZID=UTC:20220812T120000
DTSTAMP:20260422T083423
CREATED:20220725T134708Z
LAST-MODIFIED:20220725T134708Z
UID:10085123-1660298400-1660305600@investinangus.com
SUMMARY:Protect your business and data from hackers
DESCRIPTION:Join us to look at why it’s important for all businesses to give their online security thought and consideration. We will take you through some simple steps to minimise the risks\, and we will also direct you to available support to help you and your business. \nDuring the session will cover: \n\nCyber security and why it matters for businesses\nSteps to take to protect yourself including backups\, malware protection\, mobile devices\, VPNs\, firewalls\, passwords and more secure authentication to help avoid scams and fraud\nSimple ways to protect your website and social media from attack\nBasic good practice\, to prepare and understand what to do if the worst happens
URL:https://investinangus.com/event/protect-your-business-and-data-from-hackers-19/
CATEGORIES:Data Protection
END:VEVENT
BEGIN:VEVENT
DTSTART;TZID=UTC:20220812T140000
DTEND;TZID=UTC:20220812T160000
DTSTAMP:20260422T083423
CREATED:20220725T134956Z
LAST-MODIFIED:20220725T134956Z
UID:10085125-1660312800-1660320000@investinangus.com
SUMMARY:Build an effective strategy to grow your business
DESCRIPTION:This webinar is practical\, outcome driven\, and designed to fit with the needs of small businesses in both B2C and B2B environments. It will help you develop a strategically led approach that can turbo charge business growth\, identify the core growth strategy(ies) that are right for your business\, and develop an action plan. \nWe will look at: \n\nYour business today – identifying your strengths and areas for development\nThe key pillars of a business and why balancing all areas is essential for success\nPersonal and business ambitions and using these to guide strategy development\nAnsoff’s Matrix as a tool for identifying core growth strategies\nThe core components of your business delivery\nHow to develop a methodical\, strategic approach to developing your business for future success\n\nAfter the webinar\, you will understand: \n\nHow to undertake a balanced review of where your business is that helps identify areas for development\nAnsoff’s Matrix and how to use it as a core strategic planning tool\nHow to create a strategic plan for growing your business
URL:https://investinangus.com/event/build-an-effective-strategy-to-grow-your-business-2/
CATEGORIES:Business Planning
END:VEVENT
END:VCALENDAR