BEGIN:VCALENDAR
VERSION:2.0
PRODID:-//Invest in Angus - ECPv6.15.17.1//NONSGML v1.0//EN
CALSCALE:GREGORIAN
METHOD:PUBLISH
X-WR-CALNAME:Invest in Angus
X-ORIGINAL-URL:https://investinangus.com
X-WR-CALDESC:Events for Invest in Angus
REFRESH-INTERVAL;VALUE=DURATION:PT1H
X-Robots-Tag:noindex
X-PUBLISHED-TTL:PT1H
BEGIN:VTIMEZONE
TZID:UTC
BEGIN:STANDARD
TZOFFSETFROM:+0000
TZOFFSETTO:+0000
TZNAME:UTC
DTSTART:20210101T000000
END:STANDARD
END:VTIMEZONE
BEGIN:VEVENT
DTSTART;TZID=UTC:20220816T100000
DTEND;TZID=UTC:20220816T120000
DTSTAMP:20260422T083402
CREATED:20220725T135314Z
LAST-MODIFIED:20220725T135314Z
UID:10085131-1660644000-1660651200@investinangus.com
SUMMARY:e-Commerce with Shopify
DESCRIPTION:Shopify is a powerful all-in-one e-Commerce website builder that makes setting up an online store simple and straightforward. In this webinar\, we will explore Shopify’s features and pull together the building blocks for your first e-Commerce website. \nBy the end of this webinar\, you will be able to: \n\nUnderstand the essential features that a website needs to have to sell physical and digital products online\nUnderstand what Shopify is and how to use the features it offers to build a secure and powerful e-Commerce website\nUse the Shopify page builder and work with free themes to get the design and style of your website on-brand\nUnderstand how to manage orders and deliver great customer service\nUnderstand how to launch your new e-Commerce website and ensure all essential building blocks are in place using a pre-launch checklist
URL:https://investinangus.com/event/e-commerce-with-shopify-2/
CATEGORIES:Digital Marketing
END:VEVENT
BEGIN:VEVENT
DTSTART;TZID=UTC:20220816T170000
DTEND;TZID=UTC:20220816T190000
DTSTAMP:20260422T083402
CREATED:20220725T135408Z
LAST-MODIFIED:20220725T135408Z
UID:10085133-1660669200-1660676400@investinangus.com
SUMMARY:HR – Recruiting\, managing\, and retaining staff
DESCRIPTION:One of the scariest things you can do as a business is take on staff – from hiring\, interviewing\, payroll\, pensions\, contracts\, remote working and more\, it is a minefield for the business owner. \nThis webinar will allow you to have the key information in your possession to take on staff and manage your team. \nTopics covered: \n\nRecruiting\, managing\, and retaining staff\nAttracting and recruiting the best and right people for our business\nOur obligations as employers\nManaging people to stay with us\nMoving on\nDismissal\nRestructure/Redundancy\n\nWe will also look at: \n\nHow in the current climate you can manage staff and teams in a remote environment\, considering their productivity\, efficiency\, and the issues of home working\nHow you can best manage staff to ensure productivity is kept and mental health is supported\nThe impact of companies who may be considering restructuring and therefore redundancy for the first time and how that can be managed
URL:https://investinangus.com/event/hr-recruiting-managing-and-retaining-staff-2/
CATEGORIES:HR
END:VEVENT
END:VCALENDAR