BEGIN:VCALENDAR
VERSION:2.0
PRODID:-//Invest in Angus - ECPv6.15.17.1//NONSGML v1.0//EN
CALSCALE:GREGORIAN
METHOD:PUBLISH
X-ORIGINAL-URL:https://investinangus.com
X-WR-CALDESC:Events for Invest in Angus
REFRESH-INTERVAL;VALUE=DURATION:PT1H
X-Robots-Tag:noindex
X-PUBLISHED-TTL:PT1H
BEGIN:VTIMEZONE
TZID:UTC
BEGIN:STANDARD
TZOFFSETFROM:+0000
TZOFFSETTO:+0000
TZNAME:UTC
DTSTART:20210101T000000
END:STANDARD
END:VTIMEZONE
BEGIN:VEVENT
DTSTART;TZID=UTC:20220818T100000
DTEND;TZID=UTC:20220818T120000
DTSTAMP:20260422T083550
CREATED:20220725T135735Z
LAST-MODIFIED:20220725T135735Z
UID:10085141-1660816800-1660824000@investinangus.com
SUMMARY:How to protect and manage your intellectual property
DESCRIPTION:You have invested time\, energy\, and money into your project\, however\, have you protected the innovation? \nFollowing this webinar\, you will understand how to manage your intellectual property (IP) or how to start the process of registering it. \nTopics covered include: \n\nWhat are intellectual assets (IA)?\nWhat is intellectual property (IP)?\nHow to use IP (in the real world)\nWhere to get more insight and information\n\nParticipants will leave with: \n\nAn understanding that all businesses create IA/IP\nA framework of knowledge about IP\nA little more knowledge about the diverse types of IP\nAn insight into how to identify\, protect and exploit IP/IA\nContext of why IP/IA matters\nLinks to useful learning resources
URL:https://investinangus.com/event/how-to-protect-and-manage-your-intellectual-property-2/
CATEGORIES:Legislation
END:VEVENT
BEGIN:VEVENT
DTSTART;TZID=UTC:20220818T140000
DTEND;TZID=UTC:20220818T160000
DTSTAMP:20260422T083550
CREATED:20220725T135831Z
LAST-MODIFIED:20220725T135831Z
UID:10085143-1660831200-1660838400@investinangus.com
SUMMARY:LinkedIn for business
DESCRIPTION:No longer just an online CV\, LinkedIn can be an incredibly powerful – and profitable – business tool. Like any tool\, you must learn how to use it\, and this webinar gives you expert guidance. \nYou will: \n\nLearn how to create a LinkedIn strategy to boost your business reputation via marketing and brand promotion initiatives.\nLearn the difference between personal and company profiles and how to optimise them for both maximum visibility and brand awareness.\nUnderstand that content is king on LinkedIn\, and we’ll show you how to plan and produce captivating content that enriches your brand.
URL:https://investinangus.com/event/linkedin-for-business-18/
CATEGORIES:Digital Marketing
END:VEVENT
BEGIN:VEVENT
DTSTART;TZID=UTC:20220818T180000
DTEND;TZID=UTC:20220818T200000
DTSTAMP:20260422T083550
CREATED:20220725T135922Z
LAST-MODIFIED:20220725T135922Z
UID:10085145-1660845600-1660852800@investinangus.com
SUMMARY:Website analytics to improve your business and sales
DESCRIPTION:Google Analytics (Universal and GA4)\, Search Console and Heat Mapping are incredibly powerful tools that help you better understand how your website is performing. This webinar will better equip you to be able to improve the performance and effectiveness of your website by: \n\nLearning about top landing pages and traffic sources\, to understanding organic search rankings and user interaction\,\nWe’ll show you around the Google Analytics interface\, help you view and understand key reports\, how to setup conversions and more.
URL:https://investinangus.com/event/website-analytics-to-improve-your-business-and-sales-13/
CATEGORIES:Digital Marketing
END:VEVENT
END:VCALENDAR