BEGIN:VCALENDAR
VERSION:2.0
PRODID:-//Invest in Angus - ECPv6.15.17.1//NONSGML v1.0//EN
CALSCALE:GREGORIAN
METHOD:PUBLISH
X-WR-CALNAME:Invest in Angus
X-ORIGINAL-URL:https://investinangus.com
X-WR-CALDESC:Events for Invest in Angus
REFRESH-INTERVAL;VALUE=DURATION:PT1H
X-Robots-Tag:noindex
X-PUBLISHED-TTL:PT1H
BEGIN:VTIMEZONE
TZID:UTC
BEGIN:STANDARD
TZOFFSETFROM:+0000
TZOFFSETTO:+0000
TZNAME:UTC
DTSTART:20210101T000000
END:STANDARD
END:VTIMEZONE
BEGIN:VEVENT
DTSTART;TZID=UTC:20220819T100000
DTEND;TZID=UTC:20220819T120000
DTSTAMP:20260422T083400
CREATED:20220725T140122Z
LAST-MODIFIED:20220725T140122Z
UID:10085147-1660903200-1660910400@investinangus.com
SUMMARY:The business benefits of running a sustainable business
DESCRIPTION:It’s becoming increasingly important to customers to source their products from companies who have strong green credentials. This webinar will show how by becoming more sustainable you can increase sales and profits. \nWe will look at: \nUnderstanding the problem\nWhat is sustainability and why it is important\nInnovation\nProfiting from being a green business\nEmbracing a purpose beyond profit\nThe sustainability triple bottom line\nDeveloping your own green charter\nExamples of those practicing this way of growth with remarkable success\nTop tips for going green
URL:https://investinangus.com/event/the-business-benefits-of-running-a-sustainable-business-2/
CATEGORIES:Business Planning,Sustainable/Circular Economy
END:VEVENT
END:VCALENDAR