BEGIN:VCALENDAR
VERSION:2.0
PRODID:-//Invest in Angus - ECPv6.15.17.1//NONSGML v1.0//EN
CALSCALE:GREGORIAN
METHOD:PUBLISH
X-WR-CALNAME:Invest in Angus
X-ORIGINAL-URL:https://investinangus.com
X-WR-CALDESC:Events for Invest in Angus
REFRESH-INTERVAL;VALUE=DURATION:PT1H
X-Robots-Tag:noindex
X-PUBLISHED-TTL:PT1H
BEGIN:VTIMEZONE
TZID:UTC
BEGIN:STANDARD
TZOFFSETFROM:+0000
TZOFFSETTO:+0000
TZNAME:UTC
DTSTART:20210101T000000
END:STANDARD
END:VTIMEZONE
BEGIN:VEVENT
DTSTART;TZID=UTC:20220825T100000
DTEND;TZID=UTC:20220825T120000
DTSTAMP:20260422T083356
CREATED:20220725T140728Z
LAST-MODIFIED:20220725T140728Z
UID:10085161-1661421600-1661428800@investinangus.com
SUMMARY:Build your brand and promotional graphics
DESCRIPTION:This webinar will define what a brand is (and is not) and explain how it is more than just creating a logo. We will explore how a business can use their brand to show its identity\, purpose\, personality\, message\, and values in order to stand out from competitors\, build a loyal customer base and make more sales. \nThis session will: \n\nProvide you with a clear understanding of the difference between brands and branding\nHelp you understand what a brand is\nShow you why branding is important\nLook at your brand strategy\, brand identity and action\nHelp you learn how to develop your brand’s positioning\, character\, and purpose to differentiate your business from its competitors\nDemonstrate how to set up a brand kit and style guide to ensure consistency across websites\, social media\, business cards\, posters etc.\nTeach you how to create simple promotional graphics using a variety of tools including Canva\nHighlight a variety of free tools including Google Drive\, Hubspot and Mailchimp that can save time and simplify marketing tasks
URL:https://investinangus.com/event/build-your-brand-and-promotional-graphics-2/
CATEGORIES:Digital Marketing,Marketing
END:VEVENT
BEGIN:VEVENT
DTSTART;TZID=UTC:20220825T140000
DTEND;TZID=UTC:20220825T160000
DTSTAMP:20260422T083356
CREATED:20220725T140820Z
LAST-MODIFIED:20220725T140820Z
UID:10085163-1661436000-1661443200@investinangus.com
SUMMARY:Paid for advertising
DESCRIPTION:This webinar is designed to help you make more informed decisions about where paid-for advertising fits in to your digital marketing strategy. During the webinar we will discuss various key considerations of paid advertising\, provide advice on planning\, explore platform options and look at measuring the impact of your ads. \nBy the end of the webinar\, you’ll have a better understanding of: \n\nKey concepts of paid ads and how it fits within your strategy\nBest practice during ads setup\nImportance of planning for paid Ads\nHow to evaluate and understand performance of paid ads
URL:https://investinangus.com/event/paid-for-advertising-16/
CATEGORIES:Digital Marketing
END:VEVENT
BEGIN:VEVENT
DTSTART;TZID=UTC:20220825T180000
DTEND;TZID=UTC:20220825T200000
DTSTAMP:20260422T083356
CREATED:20220613T104103Z
LAST-MODIFIED:20220613T104103Z
UID:10084860-1661450400-1661457600@investinangus.com
SUMMARY:An Introduction to Bookkeeping
DESCRIPTION:This workshop will explain: \n\nwhat financial records are needed\nthe broad principles and procedures of accounting systems\nhow to choose accounting systems – both manual and computerised\nwhich financial statements and statutory returns are relevant to your business\ndifferent accounting periods and financial years\nhow to use financial records for monitoring the financial state of your business\ncash flow forecasting\, profit and loss statements as well as what they should contain\nwhat financial measures and forecasts are needed by your business\nwhat information on financial record keeping is available and from whom\n\nBy the end of the workshop you will be able to introduce or improve your financial record keeping system and improve how you manage your finances. \nThere will also be information on additional services from Business Gateway and details of other webinars which may be appropriate for you.  \nThis webinar is for businesses based in Dundee\, Angus and Perth.
URL:https://investinangus.com/event/an-introduction-to-bookkeeping-4/
CATEGORIES:Finance
END:VEVENT
END:VCALENDAR