BEGIN:VCALENDAR
VERSION:2.0
PRODID:-//Invest in Angus - ECPv6.15.17.1//NONSGML v1.0//EN
CALSCALE:GREGORIAN
METHOD:PUBLISH
X-ORIGINAL-URL:https://investinangus.com
X-WR-CALDESC:Events for Invest in Angus
REFRESH-INTERVAL;VALUE=DURATION:PT1H
X-Robots-Tag:noindex
X-PUBLISHED-TTL:PT1H
BEGIN:VTIMEZONE
TZID:UTC
BEGIN:STANDARD
TZOFFSETFROM:+0000
TZOFFSETTO:+0000
TZNAME:UTC
DTSTART:20210101T000000
END:STANDARD
END:VTIMEZONE
BEGIN:VEVENT
DTSTART;TZID=UTC:20220826T100000
DTEND;TZID=UTC:20220826T120000
DTSTAMP:20260422T083546
CREATED:20220725T141004Z
LAST-MODIFIED:20220725T141004Z
UID:10085165-1661508000-1661515200@investinangus.com
SUMMARY:Email marketing for business
DESCRIPTION:Connecting with your audience through effective email marketing campaigns is a great way to improve your marketing strategy and boost sales. In this webinar\, we’ll explore what makes an email campaign effective and ensure you are able to: \n\nSegment your audiences and target them effectively\nCreate a quality marketing email and measure its effectiveness\nIdentify the most suitable platforms and tools for email marketing campaigns\, including different paid-for account levels\nIdentify the different components of a successful email campaign\, including design\, HTML v text and other formats\nUse reporting and key metrics to make sure your campaigns are successful\nBe compliant with legal requirements relating to email communications
URL:https://investinangus.com/event/email-marketing-for-business-18/
CATEGORIES:Digital Marketing
END:VEVENT
BEGIN:VEVENT
DTSTART;TZID=UTC:20220826T140000
DTEND;TZID=UTC:20220826T160000
DTSTAMP:20260422T083546
CREATED:20220725T141055Z
LAST-MODIFIED:20220725T141055Z
UID:10085167-1661522400-1661529600@investinangus.com
SUMMARY:The low-cost guide to marketing your business
DESCRIPTION:When budgets are tight\, it can be difficult to find the funds for marketing. This webinar will offer marketing tips and advice that you can then use across your business – without bursting the bank! \nWe will look at: \n\nHow marketing extends way beyond what most businesses consider it to be and how it provides opportunities for businesses to make transformational change with little or minimal extra spend\nIdentifying marketing priorities and using these to reshape your business.\nThe marketing mix as a tool for reviewing how your business plans and delivers its marketing activity\nHow your marketing activity is delivered successfully and effectively in your business\nA series of top tips including the importance of understanding your customers\, the core components of a brand\, the value of strong and consistent branding\, the value of a clear focus and the power of creativity\nThe many options available with traditional Advertising and Promotion as a way a company communicates what it does and what it can offer customers\, but also looking how this has changed in a world where marketing has moved online\nThe foundations of effective marketing in a digital age\, looking at how your business can grasp new ways of marketing such as social media\, web\, and digital PR
URL:https://investinangus.com/event/the-low-cost-guide-to-marketing-your-business-3/
CATEGORIES:Digital Marketing,Marketing
END:VEVENT
END:VCALENDAR