BEGIN:VCALENDAR
VERSION:2.0
PRODID:-//Invest in Angus - ECPv6.15.17.1//NONSGML v1.0//EN
CALSCALE:GREGORIAN
METHOD:PUBLISH
X-ORIGINAL-URL:https://investinangus.com
X-WR-CALDESC:Events for Invest in Angus
REFRESH-INTERVAL;VALUE=DURATION:PT1H
X-Robots-Tag:noindex
X-PUBLISHED-TTL:PT1H
BEGIN:VTIMEZONE
TZID:UTC
BEGIN:STANDARD
TZOFFSETFROM:+0000
TZOFFSETTO:+0000
TZNAME:UTC
DTSTART:20210101T000000
END:STANDARD
END:VTIMEZONE
BEGIN:VEVENT
DTSTART;TZID=UTC:20220905T100000
DTEND;TZID=UTC:20220905T120000
DTSTAMP:20260422T064144
CREATED:20220822T100835Z
LAST-MODIFIED:20220822T100835Z
UID:10085243-1662372000-1662379200@investinangus.com
SUMMARY:Twitter for business
DESCRIPTION:This webinar will help you develop and hone your social media strategy in order to amplify your message using Twitter. You will gain a deeper understanding of where Twitter fits into your overall plan\, and how it differs from other platforms. \nYou will also learn about: \n\nWhat makes a good Twitter profile (and the options available to you).\nTwitter best practice content and what makes the perfect tweet.\nDashboards such as Hootsuite to help you manage and integrate your social media accounts and schedule content.\nAdvanced techniques for social listening and pro-actively finding content and customers.\nThe basics of Twitter paid advertising.
URL:https://investinangus.com/event/twitter-for-business-15/
CATEGORIES:Digital Marketing
END:VEVENT
BEGIN:VEVENT
DTSTART;TZID=UTC:20220905T140000
DTEND;TZID=UTC:20220905T160000
DTSTAMP:20260422T064144
CREATED:20220822T101238Z
LAST-MODIFIED:20220822T101238Z
UID:10085248-1662386400-1662393600@investinangus.com
SUMMARY:How to protect and manage your intellectual property
DESCRIPTION:You have invested time\, energy\, and money into your project\, however\, have you protected the innovation? \nFollowing this webinar\, you will understand how to manage your intellectual property (IP) or how to start the process of registering it. \nTopics covered include: \n\nWhat are intellectual assets (IA)?\nWhat is intellectual property (IP)?\nHow to use IP (in the real world)\nWhere to get more insight and information\n\nParticipants will leave with: \n\nAn understanding that all businesses create IA/IP\nA framework of knowledge about IP\nA little more knowledge about the diverse types of IP\nAn insight into how to identify\, protect and exploit IP/IA\nContext of why IP/IA matters\nLinks to useful learning resources
URL:https://investinangus.com/event/how-to-protect-and-manage-your-intellectual-property-3/
CATEGORIES:Legislation
END:VEVENT
BEGIN:VEVENT
DTSTART;TZID=UTC:20220905T190000
DTEND;TZID=UTC:20220905T200000
DTSTAMP:20260422T064144
CREATED:20220901T102000Z
LAST-MODIFIED:20220901T102306Z
UID:10085390-1662404400-1662408000@investinangus.com
SUMMARY:Exploring Foraged Flavours – Building Your Story Around Foraged Ingredients
DESCRIPTION:This event is all about the storytelling around plants. So if you’re a business thinking about using foraged ingredients to make or present your products\, or an experience creator then this event is for you. \nWhether you are creating a new recipe for product or plate\, or building an experience business\, you need to think about the story. \nWe’ll hear about the storytelling around plants and plant lore from Greg Kenicer from the Royal Botanic Garden\, Edinburgh and then from two entrepreneurs who have built their businesses around wild food ingredients and foraged flavours: Kirstie Campbell from Sea Buckthorn Scotland and Kyla Orr from Kelp Crofting. \nOnline Zoom Event.
URL:https://investinangus.com/event/exploring-foraged-flavours-building-your-story-around-foraged-ingredients/
CATEGORIES:Food & Drink
END:VEVENT
END:VCALENDAR