BEGIN:VCALENDAR
VERSION:2.0
PRODID:-//Invest in Angus - ECPv6.15.17.1//NONSGML v1.0//EN
CALSCALE:GREGORIAN
METHOD:PUBLISH
X-ORIGINAL-URL:https://investinangus.com
X-WR-CALDESC:Events for Invest in Angus
REFRESH-INTERVAL;VALUE=DURATION:PT1H
X-Robots-Tag:noindex
X-PUBLISHED-TTL:PT1H
BEGIN:VTIMEZONE
TZID:UTC
BEGIN:STANDARD
TZOFFSETFROM:+0000
TZOFFSETTO:+0000
TZNAME:UTC
DTSTART:20210101T000000
END:STANDARD
END:VTIMEZONE
BEGIN:VEVENT
DTSTART;TZID=UTC:20220908T100000
DTEND;TZID=UTC:20220908T120000
DTSTAMP:20260422T064210
CREATED:20220822T101905Z
LAST-MODIFIED:20220822T101905Z
UID:10085260-1662631200-1662638400@investinangus.com
SUMMARY:Cloud for business
DESCRIPTION:Your digital back office is the technology and tools that you use to manage and grow your business. In this webinar\, we’ll look at back-office strategies and explore the range of cloud services on the market that can support you with keeping great customer relations\, managing resources\, keeping organised and communicating efficiently. \nBy the end of this webinar\, you will be able to: \n\nUnderstand the areas of your digital back-office and the impact each area can have on the efficiency and growth of your business.\nUse up-to-date knowledge on current cloud services and tools to help you with upgrading your digital back office to be more secure\, scalable and efficient.\nUse real-world examples to help you understand different cloud-based platforms\, their functions\, and their costs.\nMake informed decisions about improving your digital back-office in the future based on scalability\, security\, efficiency and affordability.
URL:https://investinangus.com/event/cloud-for-business-18/
CATEGORIES:Business Planning,Technology
END:VEVENT
BEGIN:VEVENT
DTSTART;TZID=UTC:20220908T103000
DTEND;TZID=UTC:20220908T113000
DTSTAMP:20260422T064210
CREATED:20220711T092726Z
LAST-MODIFIED:20220711T092726Z
UID:10085073-1662633000-1662636600@investinangus.com
SUMMARY:European Clean Energy Transition Partnership Programme
DESCRIPTION:This new transformative research\, development and innovation programme will support transnational collaborative projects in the renewable energy sector (offshore renewables\, heat pumps and heat networks)\, fuels (green hydrogen)\, the systems and storage solutions which optimise their use\, as well as Carbon Capture and Storage (CCUS).
URL:https://investinangus.com/event/european-clean-energy-transition-partnership-programme-2/
CATEGORIES:Energy
END:VEVENT
BEGIN:VEVENT
DTSTART;TZID=UTC:20220908T140000
DTEND;TZID=UTC:20220908T160000
DTSTAMP:20260422T064210
CREATED:20220822T102112Z
LAST-MODIFIED:20220822T102112Z
UID:10085262-1662645600-1662652800@investinangus.com
SUMMARY:Producing engaging online content
DESCRIPTION:Producing quality content is an excellent way of helping your customers develop a meaningful relationship with your brand\, services and products. In this webinar we will show you how to source and develop a variety of content for your website and social channels. Ideal for businesses that already have a business website or use social media and now want to take it a step further\, and develop the skills to show your audience that you are a trusted operator in your field. \nThis session will help you: \n\nUnderstand what kind of content your customers are looking for\nSource\, write and deliver that content\nAmplify your brand and message and boost engagement online
URL:https://investinangus.com/event/producing-engaging-online-content-17/
CATEGORIES:Digital Marketing
END:VEVENT
BEGIN:VEVENT
DTSTART;TZID=UTC:20220908T180000
DTEND;TZID=UTC:20220908T200000
DTSTAMP:20260422T064210
CREATED:20220621T092025Z
LAST-MODIFIED:20220621T092025Z
UID:10084886-1662660000-1662667200@investinangus.com
SUMMARY:Complete Guide to Finance for Start-Ups
DESCRIPTION:The workshop will look at: \n\nmanaging a profit and loss account\nproducing a cashflow statement\nworking capital\nthe different sources of finance\nthe different legal structures of a business\n\nThere will also be information on additional services from Business Gateway and details of other workshops which may be appropriate for you. \nThis webinar is aimed at businesses based in Dundee\, Angus and Perth. 
URL:https://investinangus.com/event/complete-guide-to-finance-for-start-ups-4/
CATEGORIES:Business Start-up,Finance
END:VEVENT
BEGIN:VEVENT
DTSTART;TZID=UTC:20220908T180000
DTEND;TZID=UTC:20220908T200000
DTSTAMP:20260422T064210
CREATED:20220822T102331Z
LAST-MODIFIED:20220822T102331Z
UID:10085264-1662660000-1662667200@investinangus.com
SUMMARY:Making digital content accessible
DESCRIPTION:Everyone consumes and understands information differently\, with some facing additional challenges that aren’t always considered. In this webinar\, we’ll explore the challenges that people can have when accessing digital content and we’ll look at the ways you can improve your digital content to be inclusive and considerate for all. \nBy the end of this webinar\, you will be able to: \n\nUnderstand and consider the barriers and challenges faced by others when accessing digital content.\nAssess your digital content on how easy it is for others to access\, consume and understand.\nReview your website content with an understanding of what adjustments you should make to ensure that your content is catering to all.\nUse social media functions and tools to help make your content more accessible.\nUnderstand and use an ‘Accessibility Ready Checklist’ for any of your content to ensure you are designing and developing content for all of your audience.
URL:https://investinangus.com/event/making-digital-content-accessible-3/
CATEGORIES:Digital Marketing
END:VEVENT
END:VCALENDAR