BEGIN:VCALENDAR
VERSION:2.0
PRODID:-//Invest in Angus - ECPv6.15.17.1//NONSGML v1.0//EN
CALSCALE:GREGORIAN
METHOD:PUBLISH
X-WR-CALNAME:Invest in Angus
X-ORIGINAL-URL:https://investinangus.com
X-WR-CALDESC:Events for Invest in Angus
REFRESH-INTERVAL;VALUE=DURATION:PT1H
X-Robots-Tag:noindex
X-PUBLISHED-TTL:PT1H
BEGIN:VTIMEZONE
TZID:UTC
BEGIN:STANDARD
TZOFFSETFROM:+0000
TZOFFSETTO:+0000
TZNAME:UTC
DTSTART:20210101T000000
END:STANDARD
END:VTIMEZONE
BEGIN:VEVENT
DTSTART;TZID=UTC:20220913T093000
DTEND;TZID=UTC:20220913T123000
DTSTAMP:20260422T063830
CREATED:20220901T104433Z
LAST-MODIFIED:20220901T104433Z
UID:10085397-1663061400-1663072200@investinangus.com
SUMMARY:One-To-One New Product / Service Development Business Surgeries
DESCRIPTION:SAC Consulting is hosting a Business & Product Development Surgery for businesses working in the food and drink sector where you will be able to receive bespoke advice form our expert food & drink enterprise consultants in any of the following areas: \n\nMarket assessment\nRecipe development\nGood trends and health/free from markets\nMarketing including digital\nBranding\nPricing and pitching\nBusiness planning\n\nThe virtual surgery is open to entrepreneurs\, SME\, micro and embryonic businesses\, food manufacturers\, processors\, retailers\, foodservice and other rural enterprises\, and offers individual 20 minute one-to-one sessions with our team of specialist consultants. \nOnline Zoom event.
URL:https://investinangus.com/event/one-to-one-new-product-service-development-business-surgeries-2/
CATEGORIES:Food & Drink
END:VEVENT
BEGIN:VEVENT
DTSTART;TZID=UTC:20220913T100000
DTEND;TZID=UTC:20220913T120000
DTSTAMP:20260422T063830
CREATED:20220822T102652Z
LAST-MODIFIED:20220822T102652Z
UID:10085270-1663063200-1663070400@investinangus.com
SUMMARY:How to improve your Google search rankings - Part 1: On page optimisation
DESCRIPTION:Join us to look at how Google and other search engines decide the order in which they list their search results. We will show you how to maximise your chances of appearing towards the top of the search rankings\, ensuring you understand what key words and phrases your potential customers are using when searching online\, and how to optimise your website as a result. \nWe will cover: \n\nHow search engines work\, and the ‘on-page’ factors used to rank your site\nUnderstanding customer search behaviour\nKeyword research tools and how to benefit from them\nOptimising your website content for search engines
URL:https://investinangus.com/event/how-to-improve-your-google-search-rankings-part-1-on-page-optimisation-3/
CATEGORIES:Digital Marketing
END:VEVENT
BEGIN:VEVENT
DTSTART;TZID=UTC:20220913T180000
DTEND;TZID=UTC:20220913T200000
DTSTAMP:20260422T063830
CREATED:20220621T092120Z
LAST-MODIFIED:20220621T092120Z
UID:10084888-1663092000-1663099200@investinangus.com
SUMMARY:Market Research Made Easy
DESCRIPTION:The workshop will look at: \n\nthe role of marketing in your business\nidentifying your target customers\nidentifying the strengths and weaknesses of your competitors\nmarket research\n\nThere will also be information on additional services from Business Gateway and details of other webinars which may be appropriate for you.  \nThis webinar is for businesses based in Dundee\, Angus and Perth.
URL:https://investinangus.com/event/market-research-made-easy-5/
CATEGORIES:Marketing
END:VEVENT
BEGIN:VEVENT
DTSTART;TZID=UTC:20220913T180000
DTEND;TZID=UTC:20220913T200000
DTSTAMP:20260422T063830
CREATED:20220822T103105Z
LAST-MODIFIED:20220822T103105Z
UID:10085272-1663092000-1663099200@investinangus.com
SUMMARY:Blogging for business
DESCRIPTION:This webinar will provide you with the knowledge and understanding you need to create a blog that promotes your business. \nWe will cover: \n\nWhat a ‘blog’ is\, how to set one up and what it takes to make them work\nOther small and medium sized businesses who already blog successfully and what you can learn from them\nOptions for monetising a blog\nHow to promote your blog\nHow your blog can help move your website higher up search engine rankings\nUnderstanding analytics and measuring the impact of your blog
URL:https://investinangus.com/event/blogging-for-business-3/
CATEGORIES:Digital Marketing
END:VEVENT
BEGIN:VEVENT
DTSTART;TZID=UTC:20220913T193000
DTEND;TZID=UTC:20220913T203000
DTSTAMP:20260422T063830
CREATED:20220901T105727Z
LAST-MODIFIED:20220901T105727Z
UID:10085399-1663097400-1663101000@investinangus.com
SUMMARY:Back Garden Edibles – Foraging Closer to Home
DESCRIPTION:If you are a garden centre or plant nursery\, or a business looking to create an edible garden to supply your kitchen or to provide a haven for your visitors\, then this event will be of interest.  Is there an opportunity to link ‘all things edible’ when you’re promoting plants in your garden centre?  Are you looking to demonstrate the link between your served food & drink and the natural environment?  Then join this event and consider the opportunities! \nYou will hear from three speakers: \n\nLiz Callaghan\, Growforth\, will speak about back garden edibles.\nGeorge Gilchrist\, SRUC’s Horticultural Team\, who created the foraging garden in a tattie box on SRUC’s stand at this year’s Royal Highland Show.\nArleen Sinclair\, Solascapes\, will discuss her innovative new business creating wild\, edible\, medicinal and soothing spaces for all wildlife.\n\nThis will be followed by a Q&A session enabling ’round the table discussion’ and networking. \nOnline Zoom event.
URL:https://investinangus.com/event/back-garden-edibles-foraging-closer-to-home/
CATEGORIES:Food & Drink
END:VEVENT
END:VCALENDAR