BEGIN:VCALENDAR
VERSION:2.0
PRODID:-//Invest in Angus - ECPv6.15.17.1//NONSGML v1.0//EN
CALSCALE:GREGORIAN
METHOD:PUBLISH
X-WR-CALNAME:Invest in Angus
X-ORIGINAL-URL:https://investinangus.com
X-WR-CALDESC:Events for Invest in Angus
REFRESH-INTERVAL;VALUE=DURATION:PT1H
X-Robots-Tag:noindex
X-PUBLISHED-TTL:PT1H
BEGIN:VTIMEZONE
TZID:UTC
BEGIN:STANDARD
TZOFFSETFROM:+0000
TZOFFSETTO:+0000
TZNAME:UTC
DTSTART:20210101T000000
END:STANDARD
END:VTIMEZONE
BEGIN:VEVENT
DTSTART;TZID=UTC:20220914T100000
DTEND;TZID=UTC:20220914T120000
DTSTAMP:20260422T063824
CREATED:20220822T103150Z
LAST-MODIFIED:20220822T103150Z
UID:10085274-1663149600-1663156800@investinangus.com
SUMMARY:How to start a business: The basics
DESCRIPTION:Whatever your reasons may be for considering being your own boss\, Business Gateway is here to support you and help you decide if this is the right path for you. Helping you consider your plans from exploring your potential customers to looking at the key activities and costs involved. \nWe will cover: \n\nPersonal finance planning – how much do you need to earn?\nResearching your market – who your customers are\, understanding your competition and what the trends are within your chosen field\nBusiness structure – what are the core business structures? How to decide which is right for you and how to register as a business\nCreating your start-up action plan – an outline\nMarketing\nPricing\nNaming the business\nBasic bookkeeping\nForecasting\nFinancing\, banking\, insurance\, and VAT\nTax
URL:https://investinangus.com/event/how-to-start-a-business-the-basics-3/
CATEGORIES:Business Start-up
END:VEVENT
BEGIN:VEVENT
DTSTART;TZID=UTC:20220914T143000
DTEND;TZID=UTC:20220914T153000
DTSTAMP:20260422T063824
CREATED:20220901T110158Z
LAST-MODIFIED:20220901T110158Z
UID:10085401-1663165800-1663169400@investinangus.com
SUMMARY:Pick\, Preserve & Present – a Chef’s Guide to Extending the Foraging Season
DESCRIPTION:Morag Hamilton a Development Chef at SRUC will present a range of store cupboard ideas around foraging to preserve – from seasonal cordials to swapping ingredients to reflect the year and preserving so you can taste summer in the winter. \nThis is essentially about making foraged foods more user friendly for the chef by creating longevity – foraged in January to use in November. Adding different colours and flavours to the plate\, using wholesome and sustainable ingredients that link to current consumer interests. \nOnline Zoom event.
URL:https://investinangus.com/event/pick-preserve-present-a-chefs-guide-to-extending-the-foraging-season/
CATEGORIES:Food & Drink
END:VEVENT
BEGIN:VEVENT
DTSTART;TZID=UTC:20220914T180000
DTEND;TZID=UTC:20220914T200000
DTSTAMP:20260422T063824
CREATED:20220822T103237Z
LAST-MODIFIED:20220822T103237Z
UID:10085276-1663178400-1663185600@investinangus.com
SUMMARY:Website usability and customer experience
DESCRIPTION:Website usability and user experience are key to driving leads\, sales and other conversions through your website. But where do you get started? \nDuring this webinar\, we’ll cover: \n\nWhat User Experience is and what impact it can have\nSome of the key factors influencing website usability\, including credibility\, value\, purpose and more\nHints\, tips and tools to help you start improving elements of your website\, from navigation menus to page layouts\nAn overview of tools to help you measure User Experience
URL:https://investinangus.com/event/website-usability-and-customer-experience-3/
CATEGORIES:Digital Marketing
END:VEVENT
END:VCALENDAR