BEGIN:VCALENDAR
VERSION:2.0
PRODID:-//Invest in Angus - ECPv6.15.17.1//NONSGML v1.0//EN
CALSCALE:GREGORIAN
METHOD:PUBLISH
X-ORIGINAL-URL:https://investinangus.com
X-WR-CALDESC:Events for Invest in Angus
REFRESH-INTERVAL;VALUE=DURATION:PT1H
X-Robots-Tag:noindex
X-PUBLISHED-TTL:PT1H
BEGIN:VTIMEZONE
TZID:UTC
BEGIN:STANDARD
TZOFFSETFROM:+0000
TZOFFSETTO:+0000
TZNAME:UTC
DTSTART:20210101T000000
END:STANDARD
END:VTIMEZONE
BEGIN:VEVENT
DTSTART;TZID=UTC:20220922T090000
DTEND;TZID=UTC:20220922T163000
DTSTAMP:20260422T064207
CREATED:20220829T094626Z
LAST-MODIFIED:20220829T094626Z
UID:10085369-1663837200-1663864200@investinangus.com
SUMMARY:Building a Hydrogen Sector: the Scottish Supply Chain Event
DESCRIPTION:This event will help explore and highlight Scotland’s range of capabilities in hydrogen production and emerging opportunities in the sector. \nThe Scottish Government\, in partnership with Transport Scotland\, Scottish Enterprise\, Highlands and Islands Enterprise\, and South of Scotland Enterprise\, invite you to preregister for Building a Hydrogen Sector: The Scottish Supply Chain Event. \nScotland is well positioned to be a leading hydrogen nation in Europe\, with the potential to produce enough hydrogen for our own domestic use and for export. To support this transition\, the Scottish Government has set an ambition of 5 gigawatts (GW) of hydrogen production by 2030 and 25 GW by 2045. \nScotland’s developing hydrogen economy will require a strong domestic supply chain across the whole hydrogen value chain and strong international engagement. \nMany companies are already engaged or actively interested in hydrogen. This event will help explore and highlight Scotland’s range of capabilities in hydrogen production and emerging opportunities in the sector. \nThis large-scale event will be opened by a key note address from Michael Matheson\, Cabinet Secretary for Net Zero\, Energy and Transport\, and will bring together stakeholders from across the energy supply chain. \nFeatured at the conference will be guest speakers from across industry and government as well as practical panels\, networking and workshop sessions on a range of supply chain opportunities.
URL:https://investinangus.com/event/building-a-hydrogen-sector-the-scottish-supply-chain-event/
LOCATION:Edinburgh International Conference Centre\, 150 Morrison Street\, Edinburgh\, EH3 8EE
CATEGORIES:Green Economy,Networking,Sustainable/Circular Economy
END:VEVENT
BEGIN:VEVENT
DTSTART;TZID=UTC:20220922T090000
DTEND;TZID=UTC:20220922T170000
DTSTAMP:20260422T064207
CREATED:20220621T092425Z
LAST-MODIFIED:20220621T092425Z
UID:10084894-1663837200-1663866000@investinangus.com
SUMMARY:Cybersecurity: 1-2-1 Surgery Sessions
DESCRIPTION:Following our Cybersecurity: Helping You Stay Safe Online webinar. \nStephen Whitelaw is offering a one-to-one hour long bespoke advice session via Zoom on how to ensure your systems and website are secure. \nStephen can discuss; The importance of Backups\, Basic Malware protection\, Protecting Mobile devices\, What are VPNs\, How to avoid phishing scams as well as Good Password practice Passwords. \nOnce you have booked your free space online\, one of our team will be in touch to discuss an appointment time with you and send you further information. \nThese appointments are aimed at businesses based in Dundee\, Angus and Perth.
URL:https://investinangus.com/event/cybersecurity-1-2-1-surgery-sessions/
CATEGORIES:Data Protection,Technology
END:VEVENT
BEGIN:VEVENT
DTSTART;TZID=UTC:20220922T093000
DTEND;TZID=UTC:20220922T130000
DTSTAMP:20260422T064207
CREATED:20220829T093216Z
LAST-MODIFIED:20220829T093216Z
UID:10085353-1663839000-1663851600@investinangus.com
SUMMARY:ETAG travel trade ready workshop
DESCRIPTION:Trainers Liz Young and Karen Jacques will give you a full overview of all things “travel trade”. They will encourage you to start thinking about what your “bookable” travel trade product is\, as well as how to market to the travel trade. \nAside from sharing some key industry insights and trends\, they will be drawing on the experience of industry professionals and Edinburgh businesses already working effectively with the travel trade. \nWorking with the travel trade can provide your business with access to domestic and international visitors coming to the city\, generate new revenue streams and help achieve some key advance bookings. It is a worthwhile journey but does need a concentrated focus. \nIf you are new to working with the travel trade or want to refresh your memory come and join us for our in-person Travel Trade Ready Workshop where we will explore: \n* Who are the travel trade \n* Why work with the travel trade \n* How to work with the travel trade \n* Top Tips for working with the travel trade
URL:https://investinangus.com/event/etag-travel-trade-ready-workshop/
LOCATION:Scottish Enterprise\, 99 Haymarket Terrace\, Edinburgh\, EH12 5HD
CATEGORIES:Tourism
END:VEVENT
BEGIN:VEVENT
DTSTART;TZID=UTC:20220922T100000
DTEND;TZID=UTC:20220922T120000
DTSTAMP:20260422T064207
CREATED:20220822T110044Z
LAST-MODIFIED:20220822T110044Z
UID:10085298-1663840800-1663848000@investinangus.com
SUMMARY:The essentials of bookkeeping and what expenses you can claim
DESCRIPTION:This webinar is for those who are entering business for the first time or require an understanding of what is involved in financially managing a business\, including basic bookkeeping\, and creating a profit and loss account. You will also get an understanding of what expenses the business can claim and then how to fund your business. At the end of the session\, you will receive a workbook on excel to help you manage and monitor costs and sales. \nAt the end of this session\, you will be able to: \n\nImplement basic bookkeeping skills across your business\nCreate a profit and loss account\nUnderstand what expenses can and cannot be claimed\nUse financial management to increase revenues and profits\nUnderstand capital and revenue costs and how they are treated
URL:https://investinangus.com/event/the-essentials-of-bookkeeping-and-what-expenses-you-can-claim-4/
CATEGORIES:Finance
END:VEVENT
BEGIN:VEVENT
DTSTART;TZID=UTC:20220922T120000
DTEND;TZID=UTC:20220922T130000
DTSTAMP:20260422T064207
CREATED:20220906T134432Z
LAST-MODIFIED:20220906T134432Z
UID:10085411-1663848000-1663851600@investinangus.com
SUMMARY:Healthy Working Lives - Attract and Retain Staff
DESCRIPTION:This event will focus on topics within the workplace (flexibility\, mental health\, etc). You’ll be made aware of potential issues\, solutions through the support available\, and benefits of implementing such policies. \nThrough our interview-style event\, Healthy Working Lives will explain the latest trends they are seeing in the workplace. The floor will then be opened for attendees to have the opportunity to ask the experts their own questions. \nYou’ll leave this event with a new resource for information\, in Healthy Working Lives\, that you can utilise for future guidance.
URL:https://investinangus.com/event/healthy-working-lives-attract-and-retain-staff/
CATEGORIES:HR
END:VEVENT
BEGIN:VEVENT
DTSTART;TZID=UTC:20220922T140000
DTEND;TZID=UTC:20220922T160000
DTSTAMP:20260422T064207
CREATED:20220822T110707Z
LAST-MODIFIED:20220822T110707Z
UID:10085300-1663855200-1663862400@investinangus.com
SUMMARY:Video production for social media
DESCRIPTION:Video captures people’s attention online and is important for getting your message across\, while engaging with your target audience. \nLearn how to: \n\nChoose what type of video to create to suit your business objectives\nPlan\, shoot\, edit\, and upload video without special kit or expertise.\nGet to know the various digital platforms that can be utilised to view and share video content.\nSee what editing apps are available and how to add music and subtitles.
URL:https://investinangus.com/event/video-production-for-social-media-23/
CATEGORIES:Digital Marketing
END:VEVENT
END:VCALENDAR